BEGIN:VCALENDAR
VERSION:2.0
PRODID:-//Casino de Spa - ECPv6.15.17.1//NONSGML v1.0//EN
CALSCALE:GREGORIAN
METHOD:PUBLISH
X-ORIGINAL-URL:https://www.casinodespa.be
X-WR-CALDESC:Évènements pour Casino de Spa
REFRESH-INTERVAL;VALUE=DURATION:PT1H
X-Robots-Tag:noindex
X-PUBLISHED-TTL:PT1H
BEGIN:VTIMEZONE
TZID:Europe/Brussels
BEGIN:DAYLIGHT
TZOFFSETFROM:+0100
TZOFFSETTO:+0200
TZNAME:CEST
DTSTART:20240331T010000
END:DAYLIGHT
BEGIN:STANDARD
TZOFFSETFROM:+0200
TZOFFSETTO:+0100
TZNAME:CET
DTSTART:20241027T010000
END:STANDARD
BEGIN:DAYLIGHT
TZOFFSETFROM:+0100
TZOFFSETTO:+0200
TZNAME:CEST
DTSTART:20250330T010000
END:DAYLIGHT
BEGIN:STANDARD
TZOFFSETFROM:+0200
TZOFFSETTO:+0100
TZNAME:CET
DTSTART:20251026T010000
END:STANDARD
BEGIN:DAYLIGHT
TZOFFSETFROM:+0100
TZOFFSETTO:+0200
TZNAME:CEST
DTSTART:20260329T010000
END:DAYLIGHT
BEGIN:STANDARD
TZOFFSETFROM:+0200
TZOFFSETTO:+0100
TZNAME:CET
DTSTART:20261025T010000
END:STANDARD
END:VTIMEZONE
BEGIN:VEVENT
DTSTART;TZID=Europe/Brussels:20251201T180000
DTEND;TZID=Europe/Brussels:20251201T180000
DTSTAMP:20260422T194420
CREATED:20240220T111415Z
LAST-MODIFIED:20250113T113612Z
UID:10000621-1764612000-1764612000@www.casinodespa.be
SUMMARY:Menu duo du lundi
DESCRIPTION:Chaque lundi au Casino de Spa à partir de 18h\, venez profiter de notre formule duo. \n1 plat au choix parmi 5 choix + dessert + 10€ de crédit de jeu pour 25€ seulement. \nChoix de plats : \n\n\nBurger Casino\nFish and chips\nFilet d’aloyau – sauce béarnaise\nCivet de marcassin avec croquettes\nPennes au poulet curry\n\nLaissez vous tenter ! 
URL:https://www.casinodespa.be/evenement/menu-duo-du-lundi/2025-12-01/
LOCATION:Le Grill
CATEGORIES:Casino,Restaurant
ATTACH;FMTTYPE=image/jpeg:https://www.casinodespa.be/wp-content/uploads/2024/02/777.off_CDS_Menu-Duo_Event.jpg
END:VEVENT
BEGIN:VEVENT
DTSTART;TZID=Europe/Brussels:20251208T180000
DTEND;TZID=Europe/Brussels:20251208T180000
DTSTAMP:20260422T194420
CREATED:20240220T111415Z
LAST-MODIFIED:20250113T113612Z
UID:10000622-1765216800-1765216800@www.casinodespa.be
SUMMARY:Menu duo du lundi
DESCRIPTION:Chaque lundi au Casino de Spa à partir de 18h\, venez profiter de notre formule duo. \n1 plat au choix parmi 5 choix + dessert + 10€ de crédit de jeu pour 25€ seulement. \nChoix de plats : \n\n\nBurger Casino\nFish and chips\nFilet d’aloyau – sauce béarnaise\nCivet de marcassin avec croquettes\nPennes au poulet curry\n\nLaissez vous tenter ! 
URL:https://www.casinodespa.be/evenement/menu-duo-du-lundi/2025-12-08/
LOCATION:Le Grill
CATEGORIES:Casino,Restaurant
ATTACH;FMTTYPE=image/jpeg:https://www.casinodespa.be/wp-content/uploads/2024/02/777.off_CDS_Menu-Duo_Event.jpg
END:VEVENT
BEGIN:VEVENT
DTSTART;TZID=Europe/Brussels:20251215T180000
DTEND;TZID=Europe/Brussels:20251215T180000
DTSTAMP:20260422T194420
CREATED:20240220T111415Z
LAST-MODIFIED:20250113T113612Z
UID:10000623-1765821600-1765821600@www.casinodespa.be
SUMMARY:Menu duo du lundi
DESCRIPTION:Chaque lundi au Casino de Spa à partir de 18h\, venez profiter de notre formule duo. \n1 plat au choix parmi 5 choix + dessert + 10€ de crédit de jeu pour 25€ seulement. \nChoix de plats : \n\n\nBurger Casino\nFish and chips\nFilet d’aloyau – sauce béarnaise\nCivet de marcassin avec croquettes\nPennes au poulet curry\n\nLaissez vous tenter ! 
URL:https://www.casinodespa.be/evenement/menu-duo-du-lundi/2025-12-15/
LOCATION:Le Grill
CATEGORIES:Casino,Restaurant
ATTACH;FMTTYPE=image/jpeg:https://www.casinodespa.be/wp-content/uploads/2024/02/777.off_CDS_Menu-Duo_Event.jpg
END:VEVENT
BEGIN:VEVENT
DTSTART;TZID=Europe/Brussels:20251222T180000
DTEND;TZID=Europe/Brussels:20251222T180000
DTSTAMP:20260422T194420
CREATED:20240220T111415Z
LAST-MODIFIED:20250113T113612Z
UID:10000624-1766426400-1766426400@www.casinodespa.be
SUMMARY:Menu duo du lundi
DESCRIPTION:Chaque lundi au Casino de Spa à partir de 18h\, venez profiter de notre formule duo. \n1 plat au choix parmi 5 choix + dessert + 10€ de crédit de jeu pour 25€ seulement. \nChoix de plats : \n\n\nBurger Casino\nFish and chips\nFilet d’aloyau – sauce béarnaise\nCivet de marcassin avec croquettes\nPennes au poulet curry\n\nLaissez vous tenter ! 
URL:https://www.casinodespa.be/evenement/menu-duo-du-lundi/2025-12-22/
LOCATION:Le Grill
CATEGORIES:Casino,Restaurant
ATTACH;FMTTYPE=image/jpeg:https://www.casinodespa.be/wp-content/uploads/2024/02/777.off_CDS_Menu-Duo_Event.jpg
END:VEVENT
BEGIN:VEVENT
DTSTART;TZID=Europe/Brussels:20251229T180000
DTEND;TZID=Europe/Brussels:20251229T180000
DTSTAMP:20260422T194420
CREATED:20240220T111415Z
LAST-MODIFIED:20250113T113612Z
UID:10000625-1767031200-1767031200@www.casinodespa.be
SUMMARY:Menu duo du lundi
DESCRIPTION:Chaque lundi au Casino de Spa à partir de 18h\, venez profiter de notre formule duo. \n1 plat au choix parmi 5 choix + dessert + 10€ de crédit de jeu pour 25€ seulement. \nChoix de plats : \n\n\nBurger Casino\nFish and chips\nFilet d’aloyau – sauce béarnaise\nCivet de marcassin avec croquettes\nPennes au poulet curry\n\nLaissez vous tenter ! 
URL:https://www.casinodespa.be/evenement/menu-duo-du-lundi/2025-12-29/
LOCATION:Le Grill
CATEGORIES:Casino,Restaurant
ATTACH;FMTTYPE=image/jpeg:https://www.casinodespa.be/wp-content/uploads/2024/02/777.off_CDS_Menu-Duo_Event.jpg
END:VEVENT
BEGIN:VEVENT
DTSTART;TZID=Europe/Brussels:20251231T190000
DTEND;TZID=Europe/Brussels:20251231T233000
DTSTAMP:20260422T194420
CREATED:20251029T084909Z
LAST-MODIFIED:20251029T084909Z
UID:10003284-1767207600-1767223800@www.casinodespa.be
SUMMARY:Nouvel an
DESCRIPTION:Nouvel an | Casino de Spa \nLa soirée la plus sparkling de l’année revient ! \nChampagne\, casino & good vibes only 🥂On se met sur son 31… et on finit sur le dancefloor 💃🕺 \n💎 La Formule — 99 €\n🥂 Coupe de bulles à l’arrivée🎲 Initiation aux jeux traditionnels du Casino🍽️ Menu 3 services (Terre ou Mer au choix)🥤 Boissons incluses* pendant le repas🎟️ 20 € de jeu payé inclus🎧 Soirée dansante jusqu’à tard 🔥 \n*Vins maison\, bières au fût & softs pendant le repas \n\n🍽️ Menus de la Saint-Sylvestre\n✨ Mise en bouche festive pour tout le monde \n🥩 Menu Terre\nEntréeMille-feuille de cuisses de grenouilles & croquette des « sauteuses des prés »PlatFilet de bœuf Wellington\, duxelles de champignons\, foie gras & sauce bordelaiseDessertParfait glacé chocolat noir — mangue & vanilleVelours Baileys & plume de chocolat blanc \n\n🐟 Menu Mer\nEntréeFeuilleté de Saint-Jacques\, confit de chicon & beurre blanc à la vanillePlatRavioles de homard\, consommé clair & gambas rôtiesDessertParfait glacé chocolat noir — mangue & vanilleVelours Baileys & plume de chocolat blanc \n🛎️ Réservation obligatoire\n📌 À l’accueil du Casino🗓️ Avant le 25/12💳 Paiement en amont — places limitées \n🎩 Tenue correcte exigée🔞 Accès réservé aux +21 – Conditions d’accès Casino – Carte d’identité obligatoire
URL:https://www.casinodespa.be/evenement/nouvel-an-2/
LOCATION:Le Grill
CATEGORIES:Casino,Restaurant
ATTACH;FMTTYPE=image/jpeg:https://www.casinodespa.be/wp-content/uploads/2025/10/Capture-decran-2025-10-29-094733.jpg
END:VEVENT
END:VCALENDAR