BEGIN:VCALENDAR
VERSION:2.0
PRODID:-//Casino de Spa - ECPv6.15.17.1//NONSGML v1.0//EN
CALSCALE:GREGORIAN
METHOD:PUBLISH
X-WR-CALNAME:Casino de Spa
X-ORIGINAL-URL:https://www.casinodespa.be
X-WR-CALDESC:Évènements pour Casino de Spa
REFRESH-INTERVAL;VALUE=DURATION:PT1H
X-Robots-Tag:noindex
X-PUBLISHED-TTL:PT1H
BEGIN:VTIMEZONE
TZID:Europe/Brussels
BEGIN:DAYLIGHT
TZOFFSETFROM:+0100
TZOFFSETTO:+0200
TZNAME:CEST
DTSTART:20250330T010000
END:DAYLIGHT
BEGIN:STANDARD
TZOFFSETFROM:+0200
TZOFFSETTO:+0100
TZNAME:CET
DTSTART:20251026T010000
END:STANDARD
BEGIN:DAYLIGHT
TZOFFSETFROM:+0100
TZOFFSETTO:+0200
TZNAME:CEST
DTSTART:20260329T010000
END:DAYLIGHT
BEGIN:STANDARD
TZOFFSETFROM:+0200
TZOFFSETTO:+0100
TZNAME:CET
DTSTART:20261025T010000
END:STANDARD
BEGIN:DAYLIGHT
TZOFFSETFROM:+0100
TZOFFSETTO:+0200
TZNAME:CEST
DTSTART:20270328T010000
END:DAYLIGHT
BEGIN:STANDARD
TZOFFSETFROM:+0200
TZOFFSETTO:+0100
TZNAME:CET
DTSTART:20271031T010000
END:STANDARD
END:VTIMEZONE
BEGIN:VEVENT
DTSTART;TZID=Europe/Brussels:20260504T180000
DTEND;TZID=Europe/Brussels:20260504T180000
DTSTAMP:20260422T141458
CREATED:20240220T111415Z
LAST-MODIFIED:20250113T113612Z
UID:10000643-1777917600-1777917600@www.casinodespa.be
SUMMARY:Menu duo du lundi
DESCRIPTION:Chaque lundi au Casino de Spa à partir de 18h\, venez profiter de notre formule duo. \n1 plat au choix parmi 5 choix + dessert + 10€ de crédit de jeu pour 25€ seulement. \nChoix de plats : \n\n\nBurger Casino\nFish and chips\nFilet d’aloyau – sauce béarnaise\nCivet de marcassin avec croquettes\nPennes au poulet curry\n\nLaissez vous tenter ! 
URL:https://www.casinodespa.be/evenement/menu-duo-du-lundi/2026-05-04/
LOCATION:Le Grill
CATEGORIES:Casino,Restaurant
ATTACH;FMTTYPE=image/jpeg:https://www.casinodespa.be/wp-content/uploads/2024/02/777.off_CDS_Menu-Duo_Event.jpg
END:VEVENT
BEGIN:VEVENT
DTSTART;TZID=Europe/Brussels:20260511T180000
DTEND;TZID=Europe/Brussels:20260511T180000
DTSTAMP:20260422T141458
CREATED:20240220T111415Z
LAST-MODIFIED:20250113T113612Z
UID:10000644-1778522400-1778522400@www.casinodespa.be
SUMMARY:Menu duo du lundi
DESCRIPTION:Chaque lundi au Casino de Spa à partir de 18h\, venez profiter de notre formule duo. \n1 plat au choix parmi 5 choix + dessert + 10€ de crédit de jeu pour 25€ seulement. \nChoix de plats : \n\n\nBurger Casino\nFish and chips\nFilet d’aloyau – sauce béarnaise\nCivet de marcassin avec croquettes\nPennes au poulet curry\n\nLaissez vous tenter ! 
URL:https://www.casinodespa.be/evenement/menu-duo-du-lundi/2026-05-11/
LOCATION:Le Grill
CATEGORIES:Casino,Restaurant
ATTACH;FMTTYPE=image/jpeg:https://www.casinodespa.be/wp-content/uploads/2024/02/777.off_CDS_Menu-Duo_Event.jpg
END:VEVENT
BEGIN:VEVENT
DTSTART;TZID=Europe/Brussels:20260518T180000
DTEND;TZID=Europe/Brussels:20260518T180000
DTSTAMP:20260422T141458
CREATED:20240220T111415Z
LAST-MODIFIED:20250113T113612Z
UID:10000645-1779127200-1779127200@www.casinodespa.be
SUMMARY:Menu duo du lundi
DESCRIPTION:Chaque lundi au Casino de Spa à partir de 18h\, venez profiter de notre formule duo. \n1 plat au choix parmi 5 choix + dessert + 10€ de crédit de jeu pour 25€ seulement. \nChoix de plats : \n\n\nBurger Casino\nFish and chips\nFilet d’aloyau – sauce béarnaise\nCivet de marcassin avec croquettes\nPennes au poulet curry\n\nLaissez vous tenter ! 
URL:https://www.casinodespa.be/evenement/menu-duo-du-lundi/2026-05-18/
LOCATION:Le Grill
CATEGORIES:Casino,Restaurant
ATTACH;FMTTYPE=image/jpeg:https://www.casinodespa.be/wp-content/uploads/2024/02/777.off_CDS_Menu-Duo_Event.jpg
END:VEVENT
BEGIN:VEVENT
DTSTART;TZID=Europe/Brussels:20260522T180000
DTEND;TZID=Europe/Brussels:20260524T170000
DTSTAMP:20260422T141458
CREATED:20260310T145656Z
LAST-MODIFIED:20260310T145656Z
UID:10003816-1779472800-1779642000@www.casinodespa.be
SUMMARY:Week-end du boucher
DESCRIPTION:Week-end du Boucher au Grill du Casino\n  \n📅 Les 22\, 23 et 24 mai 2026\n🕕 Dès 18h\n  \nAvis aux amateurs de viande !\n\nLe Grill du Casino de Spa vous invite à son Week-end du Boucher\, un rendez-vous incontournable pour les passionnés de belles pièces 🥩\n\nProfitez de -50% sur notre sélection de viandes de bœuf et laissez-vous séduire par des morceaux d’exception\, soigneusement sélectionnés et grillés à la perfection.\nUn moment gourmand à partager en famille ou entre amis dans l’ambiance chaleureuse du Grill.\n  \n📞 Infos & réservations : +32 484 15 14 51\n🌐 Ou directement via la page du Grill
URL:https://www.casinodespa.be/evenement/week-end-du-boucher-2/
LOCATION:Le Grill
CATEGORIES:Restaurant
ATTACH;FMTTYPE=image/jpeg:https://www.casinodespa.be/wp-content/uploads/2026/03/777.off_20260522_CDS_Wk-du-boucher-2026-Vignette_Agenda.jpg
END:VEVENT
BEGIN:VEVENT
DTSTART;TZID=Europe/Brussels:20260522T180000
DTEND;TZID=Europe/Brussels:20260524T230000
DTSTAMP:20260422T141458
CREATED:20260216T083825Z
LAST-MODIFIED:20260216T083826Z
UID:10003812-1779472800-1779663600@www.casinodespa.be
SUMMARY:Week-end du boucher
DESCRIPTION:Week-end du Boucher au Grill du Casino\n\n📅 Les 22\, 23 et 24 mai 2026\n🕕 Dès 18h\n\nAvis aux amateurs de viande !\n\nLe Grill du Casino de Spa vous invite à son Week-end du Boucher\, un rendez-vous incontournable pour les passionnés de belles pièces 🥩\n\nProfitez de -50% sur notre sélection de viandes de bœuf et laissez-vous séduire par des morceaux d’exception\, soigneusement sélectionnés et grillés à la perfection.\nUn moment gourmand à partager en famille ou entre amis dans l’ambiance chaleureuse du Grill.\n\n📞 Infos & réservations : +32 484 15 14 51\n🌐 Ou directement via la page du Grill
URL:https://www.casinodespa.be/evenement/week-end-du-boucher/
LOCATION:Le Grill
CATEGORIES:Restaurant
ATTACH;FMTTYPE=image/jpeg:https://www.casinodespa.be/wp-content/uploads/2026/02/777.off_20260522_CDS_Wk-du-boucher-2026-FB_Event_agenda.jpg
END:VEVENT
BEGIN:VEVENT
DTSTART;TZID=Europe/Brussels:20260525T180000
DTEND;TZID=Europe/Brussels:20260525T180000
DTSTAMP:20260422T141458
CREATED:20240220T111415Z
LAST-MODIFIED:20250113T113612Z
UID:10000646-1779732000-1779732000@www.casinodespa.be
SUMMARY:Menu duo du lundi
DESCRIPTION:Chaque lundi au Casino de Spa à partir de 18h\, venez profiter de notre formule duo. \n1 plat au choix parmi 5 choix + dessert + 10€ de crédit de jeu pour 25€ seulement. \nChoix de plats : \n\n\nBurger Casino\nFish and chips\nFilet d’aloyau – sauce béarnaise\nCivet de marcassin avec croquettes\nPennes au poulet curry\n\nLaissez vous tenter ! 
URL:https://www.casinodespa.be/evenement/menu-duo-du-lundi/2026-05-25/
LOCATION:Le Grill
CATEGORIES:Casino,Restaurant
ATTACH;FMTTYPE=image/jpeg:https://www.casinodespa.be/wp-content/uploads/2024/02/777.off_CDS_Menu-Duo_Event.jpg
END:VEVENT
END:VCALENDAR