BEGIN:VCALENDAR
VERSION:2.0
PRODID:-//Casino de Spa - ECPv6.15.17.1//NONSGML v1.0//EN
CALSCALE:GREGORIAN
METHOD:PUBLISH
X-WR-CALNAME:Casino de Spa
X-ORIGINAL-URL:https://www.casinodespa.be
X-WR-CALDESC:Évènements pour Casino de Spa
REFRESH-INTERVAL;VALUE=DURATION:PT1H
X-Robots-Tag:noindex
X-PUBLISHED-TTL:PT1H
BEGIN:VTIMEZONE
TZID:Europe/Brussels
BEGIN:DAYLIGHT
TZOFFSETFROM:+0100
TZOFFSETTO:+0200
TZNAME:CEST
DTSTART:20260329T010000
END:DAYLIGHT
BEGIN:STANDARD
TZOFFSETFROM:+0200
TZOFFSETTO:+0100
TZNAME:CET
DTSTART:20261025T010000
END:STANDARD
BEGIN:DAYLIGHT
TZOFFSETFROM:+0100
TZOFFSETTO:+0200
TZNAME:CEST
DTSTART:20270328T010000
END:DAYLIGHT
BEGIN:STANDARD
TZOFFSETFROM:+0200
TZOFFSETTO:+0100
TZNAME:CET
DTSTART:20271031T010000
END:STANDARD
BEGIN:DAYLIGHT
TZOFFSETFROM:+0100
TZOFFSETTO:+0200
TZNAME:CEST
DTSTART:20280326T010000
END:DAYLIGHT
BEGIN:STANDARD
TZOFFSETFROM:+0200
TZOFFSETTO:+0100
TZNAME:CET
DTSTART:20281029T010000
END:STANDARD
END:VTIMEZONE
BEGIN:VEVENT
DTSTART;TZID=Europe/Brussels:20270301T180000
DTEND;TZID=Europe/Brussels:20270301T180000
DTSTAMP:20260423T073550
CREATED:20240220T111415Z
LAST-MODIFIED:20250113T113612Z
UID:10000686-1803924000-1803924000@www.casinodespa.be
SUMMARY:Menu duo du lundi
DESCRIPTION:Chaque lundi au Casino de Spa à partir de 18h\, venez profiter de notre formule duo. \n1 plat au choix parmi 5 choix + dessert + 10€ de crédit de jeu pour 25€ seulement. \nChoix de plats : \n\n\nBurger Casino\nFish and chips\nFilet d’aloyau – sauce béarnaise\nCivet de marcassin avec croquettes\nPennes au poulet curry\n\nLaissez vous tenter ! 
URL:https://www.casinodespa.be/evenement/menu-duo-du-lundi/2027-03-01/
LOCATION:Le Grill
CATEGORIES:Casino,Restaurant
ATTACH;FMTTYPE=image/jpeg:https://www.casinodespa.be/wp-content/uploads/2024/02/777.off_CDS_Menu-Duo_Event.jpg
END:VEVENT
BEGIN:VEVENT
DTSTART;TZID=Europe/Brussels:20270308T180000
DTEND;TZID=Europe/Brussels:20270308T180000
DTSTAMP:20260423T073550
CREATED:20240220T111415Z
LAST-MODIFIED:20250113T113612Z
UID:10000687-1804528800-1804528800@www.casinodespa.be
SUMMARY:Menu duo du lundi
DESCRIPTION:Chaque lundi au Casino de Spa à partir de 18h\, venez profiter de notre formule duo. \n1 plat au choix parmi 5 choix + dessert + 10€ de crédit de jeu pour 25€ seulement. \nChoix de plats : \n\n\nBurger Casino\nFish and chips\nFilet d’aloyau – sauce béarnaise\nCivet de marcassin avec croquettes\nPennes au poulet curry\n\nLaissez vous tenter ! 
URL:https://www.casinodespa.be/evenement/menu-duo-du-lundi/2027-03-08/
LOCATION:Le Grill
CATEGORIES:Casino,Restaurant
ATTACH;FMTTYPE=image/jpeg:https://www.casinodespa.be/wp-content/uploads/2024/02/777.off_CDS_Menu-Duo_Event.jpg
END:VEVENT
BEGIN:VEVENT
DTSTART;TZID=Europe/Brussels:20270315T180000
DTEND;TZID=Europe/Brussels:20270315T180000
DTSTAMP:20260423T073550
CREATED:20240220T111415Z
LAST-MODIFIED:20250113T113612Z
UID:10000688-1805133600-1805133600@www.casinodespa.be
SUMMARY:Menu duo du lundi
DESCRIPTION:Chaque lundi au Casino de Spa à partir de 18h\, venez profiter de notre formule duo. \n1 plat au choix parmi 5 choix + dessert + 10€ de crédit de jeu pour 25€ seulement. \nChoix de plats : \n\n\nBurger Casino\nFish and chips\nFilet d’aloyau – sauce béarnaise\nCivet de marcassin avec croquettes\nPennes au poulet curry\n\nLaissez vous tenter ! 
URL:https://www.casinodespa.be/evenement/menu-duo-du-lundi/2027-03-15/
LOCATION:Le Grill
CATEGORIES:Casino,Restaurant
ATTACH;FMTTYPE=image/jpeg:https://www.casinodespa.be/wp-content/uploads/2024/02/777.off_CDS_Menu-Duo_Event.jpg
END:VEVENT
BEGIN:VEVENT
DTSTART;TZID=Europe/Brussels:20270322T180000
DTEND;TZID=Europe/Brussels:20270322T180000
DTSTAMP:20260423T073550
CREATED:20240220T111415Z
LAST-MODIFIED:20250113T113612Z
UID:10000689-1805738400-1805738400@www.casinodespa.be
SUMMARY:Menu duo du lundi
DESCRIPTION:Chaque lundi au Casino de Spa à partir de 18h\, venez profiter de notre formule duo. \n1 plat au choix parmi 5 choix + dessert + 10€ de crédit de jeu pour 25€ seulement. \nChoix de plats : \n\n\nBurger Casino\nFish and chips\nFilet d’aloyau – sauce béarnaise\nCivet de marcassin avec croquettes\nPennes au poulet curry\n\nLaissez vous tenter ! 
URL:https://www.casinodespa.be/evenement/menu-duo-du-lundi/2027-03-22/
LOCATION:Le Grill
CATEGORIES:Casino,Restaurant
ATTACH;FMTTYPE=image/jpeg:https://www.casinodespa.be/wp-content/uploads/2024/02/777.off_CDS_Menu-Duo_Event.jpg
END:VEVENT
BEGIN:VEVENT
DTSTART;TZID=Europe/Brussels:20270329T180000
DTEND;TZID=Europe/Brussels:20270329T180000
DTSTAMP:20260423T073550
CREATED:20240220T111415Z
LAST-MODIFIED:20250113T113612Z
UID:10000690-1806343200-1806343200@www.casinodespa.be
SUMMARY:Menu duo du lundi
DESCRIPTION:Chaque lundi au Casino de Spa à partir de 18h\, venez profiter de notre formule duo. \n1 plat au choix parmi 5 choix + dessert + 10€ de crédit de jeu pour 25€ seulement. \nChoix de plats : \n\n\nBurger Casino\nFish and chips\nFilet d’aloyau – sauce béarnaise\nCivet de marcassin avec croquettes\nPennes au poulet curry\n\nLaissez vous tenter ! 
URL:https://www.casinodespa.be/evenement/menu-duo-du-lundi/2027-03-29/
LOCATION:Le Grill
CATEGORIES:Casino,Restaurant
ATTACH;FMTTYPE=image/jpeg:https://www.casinodespa.be/wp-content/uploads/2024/02/777.off_CDS_Menu-Duo_Event.jpg
END:VEVENT
END:VCALENDAR