BEGIN:VCALENDAR
VERSION:2.0
PRODID:-//Casino de Spa - ECPv6.15.17.1//NONSGML v1.0//EN
CALSCALE:GREGORIAN
METHOD:PUBLISH
X-ORIGINAL-URL:https://www.casinodespa.be
X-WR-CALDESC:Évènements pour Casino de Spa
REFRESH-INTERVAL;VALUE=DURATION:PT1H
X-Robots-Tag:noindex
X-PUBLISHED-TTL:PT1H
BEGIN:VTIMEZONE
TZID:Europe/Brussels
BEGIN:DAYLIGHT
TZOFFSETFROM:+0100
TZOFFSETTO:+0200
TZNAME:CEST
DTSTART:20240331T010000
END:DAYLIGHT
BEGIN:STANDARD
TZOFFSETFROM:+0200
TZOFFSETTO:+0100
TZNAME:CET
DTSTART:20241027T010000
END:STANDARD
BEGIN:DAYLIGHT
TZOFFSETFROM:+0100
TZOFFSETTO:+0200
TZNAME:CEST
DTSTART:20250330T010000
END:DAYLIGHT
BEGIN:STANDARD
TZOFFSETFROM:+0200
TZOFFSETTO:+0100
TZNAME:CET
DTSTART:20251026T010000
END:STANDARD
BEGIN:DAYLIGHT
TZOFFSETFROM:+0100
TZOFFSETTO:+0200
TZNAME:CEST
DTSTART:20260329T010000
END:DAYLIGHT
BEGIN:STANDARD
TZOFFSETFROM:+0200
TZOFFSETTO:+0100
TZNAME:CET
DTSTART:20261025T010000
END:STANDARD
END:VTIMEZONE
BEGIN:VEVENT
DTSTART;TZID=Europe/Brussels:20250201T200000
DTEND;TZID=Europe/Brussels:20250201T235900
DTSTAMP:20260420T072441
CREATED:20240220T120830Z
LAST-MODIFIED:20240220T122959Z
UID:10001623-1738440000-1738454340@www.casinodespa.be
SUMMARY:Cash Game Gourmand
DESCRIPTION:Tous les samedis au Casino de Spa c’est le Cash game gourmand! \nJouez 4h minimum et recevez un repas au Grill du Casino*. \nMin 50€\nMax 500€\nBlinds 2-2 \n*voir conditions au Grill du Casino \n\nRéservation souhaitée au +32 497 19 89 65.
URL:https://www.casinodespa.be/evenement/cash-game-gourmand/2025-02-01/
LOCATION:Casino de spa
CATEGORIES:Casino,Poker
ATTACH;FMTTYPE=image/jpeg:https://www.casinodespa.be/wp-content/uploads/2024/02/FB_Event-2.jpg
END:VEVENT
BEGIN:VEVENT
DTSTART;TZID=Europe/Brussels:20250202T150000
DTEND;TZID=Europe/Brussels:20250202T230000
DTSTAMP:20260420T072441
CREATED:20240220T120955Z
LAST-MODIFIED:20240320T102749Z
UID:10001884-1738508400-1738537200@www.casinodespa.be
SUMMARY:Double Sunday
DESCRIPTION:Tous les dimanches\, le Casino de Spa vous gâte ! \n15h-17h: Passage de tartes dans les salons de jeu du Casino* \n18h-23h: Jouez 20€ et obtenez 2.000 S points supplémentaires. \nDans la limite des stocks disponibles. \nJe veux lire le règlement 
URL:https://www.casinodespa.be/evenement/double-sunday/2025-02-02/
LOCATION:Casino de spa
CATEGORIES:Casino
ATTACH;FMTTYPE=image/jpeg:https://www.casinodespa.be/wp-content/uploads/2024/02/777.off_20230701_CDS_Double-Sunday_FB_Event.jpg
END:VEVENT
BEGIN:VEVENT
DTSTART;TZID=Europe/Brussels:20250203T180000
DTEND;TZID=Europe/Brussels:20250203T180000
DTSTAMP:20260420T072441
CREATED:20240220T111415Z
LAST-MODIFIED:20250113T113612Z
UID:10000578-1738605600-1738605600@www.casinodespa.be
SUMMARY:Menu duo du lundi
DESCRIPTION:Chaque lundi au Casino de Spa à partir de 18h\, venez profiter de notre formule duo. \n1 plat au choix parmi 5 choix + dessert + 10€ de crédit de jeu pour 25€ seulement. \nChoix de plats : \n\n\nBurger Casino\nFish and chips\nFilet d’aloyau – sauce béarnaise\nCivet de marcassin avec croquettes\nPennes au poulet curry\n\nLaissez vous tenter ! 
URL:https://www.casinodespa.be/evenement/menu-duo-du-lundi/2025-02-03/
LOCATION:Le Grill
CATEGORIES:Casino,Restaurant
ATTACH;FMTTYPE=image/jpeg:https://www.casinodespa.be/wp-content/uploads/2024/02/777.off_CDS_Menu-Duo_Event.jpg
END:VEVENT
BEGIN:VEVENT
DTSTART;TZID=Europe/Brussels:20250204T180000
DTEND;TZID=Europe/Brussels:20250204T180000
DTSTAMP:20260420T072441
CREATED:20250113T144249Z
LAST-MODIFIED:20250113T144328Z
UID:10003002-1738692000-1738692000@www.casinodespa.be
SUMMARY:Circus Poker self-deal
DESCRIPTION:Mardi | Circus Poker self-deal\nPréparez votre meilleur poker face : le mardi\, c’est votre as dans la manche ! \nRendez-vous tous les mardis au Casino de Spa pour nos tournois de self-deal \nBuy-in : 30.00€ \nStacks : 40k \nBlind : 20 min \nBonne ambiance\, gros coups et fous rires garantis. On mélange\, on distribue\, et c’est parti pour une partie où chaque coup peut tout changer. Préparez vos meilleurs bluffs et venez mettre votre poker face à l’épreuve. Le mardi soir\, c’est votre main gagnante ! \n 
URL:https://www.casinodespa.be/evenement/circus-poker-self-deal/2025-02-04/
ATTACH;FMTTYPE=image/jpeg:https://www.casinodespa.be/wp-content/uploads/2025/01/FB_Events.jpg
END:VEVENT
BEGIN:VEVENT
DTSTART;TZID=Europe/Brussels:20250204T200000
DTEND;TZID=Europe/Brussels:20250204T235900
DTSTAMP:20260420T072441
CREATED:20240220T120254Z
LAST-MODIFIED:20240320T123547Z
UID:10000840-1738699200-1738713540@www.casinodespa.be
SUMMARY:Bingo 2.0
DESCRIPTION:525€ de cadeaux à gagner en jouant à notre Bingo 100% gratuit tous les mardis dès 20h! \n\nParticipez chaque mardi à nos 3 parties gratuites de Bingo et tentez de compléter vos grilles. \nCette année\, votre statut sera mis à l’honneur. Profitez de multiplicateurs de statuts pour nos deux dernières parties. \nFerez-vous partie de nos chanceux gagnants? \nRendez-vous tous les mardis à partir de 20h pour le savoir. \n\n 
URL:https://www.casinodespa.be/evenement/bingo-2-0/2025-02-04/
LOCATION:Casino de spa
CATEGORIES:Casino
ATTACH;FMTTYPE=image/jpeg:https://www.casinodespa.be/wp-content/uploads/2024/02/777.off_20231231_CDS_bingo-mardi-2.0_FB_Event.jpg
END:VEVENT
BEGIN:VEVENT
DTSTART;TZID=Europe/Brussels:20250205T200000
DTEND;TZID=Europe/Brussels:20250205T235900
DTSTAMP:20260420T072441
CREATED:20240220T120510Z
LAST-MODIFIED:20240320T102134Z
UID:10001102-1738785600-1738799940@www.casinodespa.be
SUMMARY:Ping-pong challenge
DESCRIPTION:Ping-pong challenge | Casino de Spa\nTous les mercredis à partir de 20h\, venez jouer au ping pong challenge! \nRécupérez votre ticket à la borne et venez le placer dans l’urne pour tenter de participer au lancé de roue. \n\nLancez la roue\nRécupérez un max de balles dans la souffleuse à balles\nGagnez un max de cadeaux
URL:https://www.casinodespa.be/evenement/ping-pong-challenge/2025-02-05/
LOCATION:Casino de spa
CATEGORIES:Casino
ATTACH;FMTTYPE=image/jpeg:https://www.casinodespa.be/wp-content/uploads/2024/02/Event.jpg
END:VEVENT
BEGIN:VEVENT
DTSTART;VALUE=DATE:20250206
DTEND;VALUE=DATE:20250207
DTSTAMP:20260420T072441
CREATED:20240220T120724Z
LAST-MODIFIED:20240320T102557Z
UID:10001363-1738800000-1738886399@www.casinodespa.be
SUMMARY:Happy Thursday
DESCRIPTION:Jouez avec votre S carte sur nos machines à sous et doublez automatiquement vos S points toute la journée ! \nC’est tous les jeudis au Casino de Spa !
URL:https://www.casinodespa.be/evenement/happy-thursday/2025-02-06/
LOCATION:Casino de spa
CATEGORIES:Casino
ATTACH;FMTTYPE=image/jpeg:https://www.casinodespa.be/wp-content/uploads/2024/02/FB_Event-1.jpg
END:VEVENT
BEGIN:VEVENT
DTSTART;TZID=Europe/Brussels:20250207T190000
DTEND;TZID=Europe/Brussels:20250207T233000
DTSTAMP:20260420T072441
CREATED:20241118T151059Z
LAST-MODIFIED:20250314T085134Z
UID:10002690-1738954800-1738971000@www.casinodespa.be
SUMMARY:Poker Family
DESCRIPTION:Tous les vendredis au Casino de Spa\, dès 19h00\, participez à notre tournoi self-deal organisé par le tout nouveau club de la région\, Poker Family.  Profitez du confort Casino tout en profitant d’un tournoi convivial et familial. \n*Buy-in : 40\,00€ \nStacks : 40.000 \nEarly bird : 5.000 \nRe-entry : 6 lvl \nBlind : 20 min \nRestez connectés et participez à nos différents rankings. De nombreux lots mis en jeu tout au long de l’année. \n*Sous réserve de changement \n  \nInscrivez-vous ici !
URL:https://www.casinodespa.be/evenement/poker-family-2/2025-02-07/
LOCATION:Casino de spa
CATEGORIES:Poker
ATTACH;FMTTYPE=image/jpeg:https://www.casinodespa.be/wp-content/uploads/2024/03/777.off_20230601_CDS_Visuel-Poker-Family-_FB_Events.jpg
END:VEVENT
BEGIN:VEVENT
DTSTART;TZID=Europe/Brussels:20250207T200000
DTEND;TZID=Europe/Brussels:20250207T233000
DTSTAMP:20260420T072441
CREATED:20240220T110815Z
LAST-MODIFIED:20240320T102410Z
UID:10000318-1738958400-1738971000@www.casinodespa.be
SUMMARY:Carte ou pas cap?
DESCRIPTION:Faites le plein de cadeaux ! \n\nTous les vendredi\, défiez les probabilités et tentez de terminer notre parcours de cartes pour remporter jusqu’à 160€. \nJe veux lire le règlement 
URL:https://www.casinodespa.be/evenement/carte-ou-pas-cap/2025-02-07/
LOCATION:Casino de spa
CATEGORIES:Casino
ATTACH;FMTTYPE=image/jpeg:https://www.casinodespa.be/wp-content/uploads/2024/02/FB_Event.jpg
END:VEVENT
BEGIN:VEVENT
DTSTART;TZID=Europe/Brussels:20250208T200000
DTEND;TZID=Europe/Brussels:20250208T235900
DTSTAMP:20260420T072441
CREATED:20240220T120830Z
LAST-MODIFIED:20240220T122959Z
UID:10001624-1739044800-1739059140@www.casinodespa.be
SUMMARY:Cash Game Gourmand
DESCRIPTION:Tous les samedis au Casino de Spa c’est le Cash game gourmand! \nJouez 4h minimum et recevez un repas au Grill du Casino*. \nMin 50€\nMax 500€\nBlinds 2-2 \n*voir conditions au Grill du Casino \n\nRéservation souhaitée au +32 497 19 89 65.
URL:https://www.casinodespa.be/evenement/cash-game-gourmand/2025-02-08/
LOCATION:Casino de spa
CATEGORIES:Casino,Poker
ATTACH;FMTTYPE=image/jpeg:https://www.casinodespa.be/wp-content/uploads/2024/02/FB_Event-2.jpg
END:VEVENT
BEGIN:VEVENT
DTSTART;TZID=Europe/Brussels:20250209T150000
DTEND;TZID=Europe/Brussels:20250209T230000
DTSTAMP:20260420T072441
CREATED:20240220T120955Z
LAST-MODIFIED:20240320T102749Z
UID:10001885-1739113200-1739142000@www.casinodespa.be
SUMMARY:Double Sunday
DESCRIPTION:Tous les dimanches\, le Casino de Spa vous gâte ! \n15h-17h: Passage de tartes dans les salons de jeu du Casino* \n18h-23h: Jouez 20€ et obtenez 2.000 S points supplémentaires. \nDans la limite des stocks disponibles. \nJe veux lire le règlement 
URL:https://www.casinodespa.be/evenement/double-sunday/2025-02-09/
LOCATION:Casino de spa
CATEGORIES:Casino
ATTACH;FMTTYPE=image/jpeg:https://www.casinodespa.be/wp-content/uploads/2024/02/777.off_20230701_CDS_Double-Sunday_FB_Event.jpg
END:VEVENT
BEGIN:VEVENT
DTSTART;TZID=Europe/Brussels:20250210T180000
DTEND;TZID=Europe/Brussels:20250210T180000
DTSTAMP:20260420T072441
CREATED:20240220T111415Z
LAST-MODIFIED:20250113T113612Z
UID:10000579-1739210400-1739210400@www.casinodespa.be
SUMMARY:Menu duo du lundi
DESCRIPTION:Chaque lundi au Casino de Spa à partir de 18h\, venez profiter de notre formule duo. \n1 plat au choix parmi 5 choix + dessert + 10€ de crédit de jeu pour 25€ seulement. \nChoix de plats : \n\n\nBurger Casino\nFish and chips\nFilet d’aloyau – sauce béarnaise\nCivet de marcassin avec croquettes\nPennes au poulet curry\n\nLaissez vous tenter ! 
URL:https://www.casinodespa.be/evenement/menu-duo-du-lundi/2025-02-10/
LOCATION:Le Grill
CATEGORIES:Casino,Restaurant
ATTACH;FMTTYPE=image/jpeg:https://www.casinodespa.be/wp-content/uploads/2024/02/777.off_CDS_Menu-Duo_Event.jpg
END:VEVENT
BEGIN:VEVENT
DTSTART;TZID=Europe/Brussels:20250211T180000
DTEND;TZID=Europe/Brussels:20250211T180000
DTSTAMP:20260420T072441
CREATED:20250113T144249Z
LAST-MODIFIED:20250113T144328Z
UID:10003003-1739296800-1739296800@www.casinodespa.be
SUMMARY:Circus Poker self-deal
DESCRIPTION:Mardi | Circus Poker self-deal\nPréparez votre meilleur poker face : le mardi\, c’est votre as dans la manche ! \nRendez-vous tous les mardis au Casino de Spa pour nos tournois de self-deal \nBuy-in : 30.00€ \nStacks : 40k \nBlind : 20 min \nBonne ambiance\, gros coups et fous rires garantis. On mélange\, on distribue\, et c’est parti pour une partie où chaque coup peut tout changer. Préparez vos meilleurs bluffs et venez mettre votre poker face à l’épreuve. Le mardi soir\, c’est votre main gagnante ! \n 
URL:https://www.casinodespa.be/evenement/circus-poker-self-deal/2025-02-11/
ATTACH;FMTTYPE=image/jpeg:https://www.casinodespa.be/wp-content/uploads/2025/01/FB_Events.jpg
END:VEVENT
BEGIN:VEVENT
DTSTART;TZID=Europe/Brussels:20250211T200000
DTEND;TZID=Europe/Brussels:20250211T235900
DTSTAMP:20260420T072441
CREATED:20240220T120254Z
LAST-MODIFIED:20240320T123547Z
UID:10000841-1739304000-1739318340@www.casinodespa.be
SUMMARY:Bingo 2.0
DESCRIPTION:525€ de cadeaux à gagner en jouant à notre Bingo 100% gratuit tous les mardis dès 20h! \n\nParticipez chaque mardi à nos 3 parties gratuites de Bingo et tentez de compléter vos grilles. \nCette année\, votre statut sera mis à l’honneur. Profitez de multiplicateurs de statuts pour nos deux dernières parties. \nFerez-vous partie de nos chanceux gagnants? \nRendez-vous tous les mardis à partir de 20h pour le savoir. \n\n 
URL:https://www.casinodespa.be/evenement/bingo-2-0/2025-02-11/
LOCATION:Casino de spa
CATEGORIES:Casino
ATTACH;FMTTYPE=image/jpeg:https://www.casinodespa.be/wp-content/uploads/2024/02/777.off_20231231_CDS_bingo-mardi-2.0_FB_Event.jpg
END:VEVENT
BEGIN:VEVENT
DTSTART;TZID=Europe/Brussels:20250212T200000
DTEND;TZID=Europe/Brussels:20250212T235900
DTSTAMP:20260420T072441
CREATED:20240220T120510Z
LAST-MODIFIED:20240320T102134Z
UID:10001103-1739390400-1739404740@www.casinodespa.be
SUMMARY:Ping-pong challenge
DESCRIPTION:Ping-pong challenge | Casino de Spa\nTous les mercredis à partir de 20h\, venez jouer au ping pong challenge! \nRécupérez votre ticket à la borne et venez le placer dans l’urne pour tenter de participer au lancé de roue. \n\nLancez la roue\nRécupérez un max de balles dans la souffleuse à balles\nGagnez un max de cadeaux
URL:https://www.casinodespa.be/evenement/ping-pong-challenge/2025-02-12/
LOCATION:Casino de spa
CATEGORIES:Casino
ATTACH;FMTTYPE=image/jpeg:https://www.casinodespa.be/wp-content/uploads/2024/02/Event.jpg
END:VEVENT
BEGIN:VEVENT
DTSTART;VALUE=DATE:20250213
DTEND;VALUE=DATE:20250214
DTSTAMP:20260420T072441
CREATED:20240220T120724Z
LAST-MODIFIED:20240320T102557Z
UID:10001364-1739404800-1739491199@www.casinodespa.be
SUMMARY:Happy Thursday
DESCRIPTION:Jouez avec votre S carte sur nos machines à sous et doublez automatiquement vos S points toute la journée ! \nC’est tous les jeudis au Casino de Spa !
URL:https://www.casinodespa.be/evenement/happy-thursday/2025-02-13/
LOCATION:Casino de spa
CATEGORIES:Casino
ATTACH;FMTTYPE=image/jpeg:https://www.casinodespa.be/wp-content/uploads/2024/02/FB_Event-1.jpg
END:VEVENT
BEGIN:VEVENT
DTSTART;TZID=Europe/Brussels:20250214T180000
DTEND;TZID=Europe/Brussels:20250214T233000
DTSTAMP:20260420T072441
CREATED:20250106T131117Z
LAST-MODIFIED:20250207T130106Z
UID:10002947-1739556000-1739575800@www.casinodespa.be
SUMMARY:Saint-Valentin
DESCRIPTION:Saint-Valenin | Grill du casino de Spa\n\n\n\n\n\n\n\n\n\n\n\n\n\n\n\nVenez célébrer l’amour dans une ambiance chaleureuse et gourmande au Grill du Casino de Spa ce 14 février 2025. Pour cette soirée exceptionnelle\, laissez-vous séduire par notre carte spéciale Saint-Valentin\, conçue pour faire battre vos cœurs à l’unisson. \n✨ Au menu : \n\nNos coups de cœur culinaires\, soigneusement sélectionnés pour ravir vos papilles.\nUn vin coup de cœur\, servi à table pour sublimer votre repas.\nLe dessert des amoureux\, une douceur à partager à deux.\nLe cocktail des amoureux\, une création romantique à savourer ensemble.\n\n\nNos suggestions Saint-Valentin \nFaites de cette Saint-Valentin un moment inoubliable avec votre moitié dans un cadre unique. Réservez dès maintenant pour vivre une soirée empreinte de saveurs et de complicité.\n  \nRéservations conseillées – Nous avons hâte de vous accueillir ! ❤️\n\n\n\n\n\n  \n 
URL:https://www.casinodespa.be/evenement/saint-valentin/
LOCATION:Le Grill
CATEGORIES:Restaurant
ATTACH;FMTTYPE=image/jpeg:https://www.casinodespa.be/wp-content/uploads/2025/01/777.off_20250214_CDS_Saint-Valentin-2025_FB_Event_agenda.jpg
END:VEVENT
BEGIN:VEVENT
DTSTART;TZID=Europe/Brussels:20250214T190000
DTEND;TZID=Europe/Brussels:20250214T233000
DTSTAMP:20260420T072441
CREATED:20241118T151059Z
LAST-MODIFIED:20250314T085134Z
UID:10002691-1739559600-1739575800@www.casinodespa.be
SUMMARY:Poker Family
DESCRIPTION:Tous les vendredis au Casino de Spa\, dès 19h00\, participez à notre tournoi self-deal organisé par le tout nouveau club de la région\, Poker Family.  Profitez du confort Casino tout en profitant d’un tournoi convivial et familial. \n*Buy-in : 40\,00€ \nStacks : 40.000 \nEarly bird : 5.000 \nRe-entry : 6 lvl \nBlind : 20 min \nRestez connectés et participez à nos différents rankings. De nombreux lots mis en jeu tout au long de l’année. \n*Sous réserve de changement \n  \nInscrivez-vous ici !
URL:https://www.casinodespa.be/evenement/poker-family-2/2025-02-14/
LOCATION:Casino de spa
CATEGORIES:Poker
ATTACH;FMTTYPE=image/jpeg:https://www.casinodespa.be/wp-content/uploads/2024/03/777.off_20230601_CDS_Visuel-Poker-Family-_FB_Events.jpg
END:VEVENT
BEGIN:VEVENT
DTSTART;TZID=Europe/Brussels:20250214T200000
DTEND;TZID=Europe/Brussels:20250214T233000
DTSTAMP:20260420T072441
CREATED:20240220T110815Z
LAST-MODIFIED:20240320T102410Z
UID:10000319-1739563200-1739575800@www.casinodespa.be
SUMMARY:Carte ou pas cap?
DESCRIPTION:Faites le plein de cadeaux ! \n\nTous les vendredi\, défiez les probabilités et tentez de terminer notre parcours de cartes pour remporter jusqu’à 160€. \nJe veux lire le règlement 
URL:https://www.casinodespa.be/evenement/carte-ou-pas-cap/2025-02-14/
LOCATION:Casino de spa
CATEGORIES:Casino
ATTACH;FMTTYPE=image/jpeg:https://www.casinodespa.be/wp-content/uploads/2024/02/FB_Event.jpg
END:VEVENT
BEGIN:VEVENT
DTSTART;TZID=Europe/Brussels:20250215T200000
DTEND;TZID=Europe/Brussels:20250215T235900
DTSTAMP:20260420T072441
CREATED:20240220T120830Z
LAST-MODIFIED:20240220T122959Z
UID:10001625-1739649600-1739663940@www.casinodespa.be
SUMMARY:Cash Game Gourmand
DESCRIPTION:Tous les samedis au Casino de Spa c’est le Cash game gourmand! \nJouez 4h minimum et recevez un repas au Grill du Casino*. \nMin 50€\nMax 500€\nBlinds 2-2 \n*voir conditions au Grill du Casino \n\nRéservation souhaitée au +32 497 19 89 65.
URL:https://www.casinodespa.be/evenement/cash-game-gourmand/2025-02-15/
LOCATION:Casino de spa
CATEGORIES:Casino,Poker
ATTACH;FMTTYPE=image/jpeg:https://www.casinodespa.be/wp-content/uploads/2024/02/FB_Event-2.jpg
END:VEVENT
BEGIN:VEVENT
DTSTART;TZID=Europe/Brussels:20250216T150000
DTEND;TZID=Europe/Brussels:20250216T230000
DTSTAMP:20260420T072441
CREATED:20240220T120955Z
LAST-MODIFIED:20240320T102749Z
UID:10001886-1739718000-1739746800@www.casinodespa.be
SUMMARY:Double Sunday
DESCRIPTION:Tous les dimanches\, le Casino de Spa vous gâte ! \n15h-17h: Passage de tartes dans les salons de jeu du Casino* \n18h-23h: Jouez 20€ et obtenez 2.000 S points supplémentaires. \nDans la limite des stocks disponibles. \nJe veux lire le règlement 
URL:https://www.casinodespa.be/evenement/double-sunday/2025-02-16/
LOCATION:Casino de spa
CATEGORIES:Casino
ATTACH;FMTTYPE=image/jpeg:https://www.casinodespa.be/wp-content/uploads/2024/02/777.off_20230701_CDS_Double-Sunday_FB_Event.jpg
END:VEVENT
BEGIN:VEVENT
DTSTART;TZID=Europe/Brussels:20250217T180000
DTEND;TZID=Europe/Brussels:20250217T180000
DTSTAMP:20260420T072441
CREATED:20240220T111415Z
LAST-MODIFIED:20250113T113612Z
UID:10000580-1739815200-1739815200@www.casinodespa.be
SUMMARY:Menu duo du lundi
DESCRIPTION:Chaque lundi au Casino de Spa à partir de 18h\, venez profiter de notre formule duo. \n1 plat au choix parmi 5 choix + dessert + 10€ de crédit de jeu pour 25€ seulement. \nChoix de plats : \n\n\nBurger Casino\nFish and chips\nFilet d’aloyau – sauce béarnaise\nCivet de marcassin avec croquettes\nPennes au poulet curry\n\nLaissez vous tenter ! 
URL:https://www.casinodespa.be/evenement/menu-duo-du-lundi/2025-02-17/
LOCATION:Le Grill
CATEGORIES:Casino,Restaurant
ATTACH;FMTTYPE=image/jpeg:https://www.casinodespa.be/wp-content/uploads/2024/02/777.off_CDS_Menu-Duo_Event.jpg
END:VEVENT
BEGIN:VEVENT
DTSTART;TZID=Europe/Brussels:20250218T180000
DTEND;TZID=Europe/Brussels:20250218T180000
DTSTAMP:20260420T072441
CREATED:20250113T144249Z
LAST-MODIFIED:20250113T144328Z
UID:10003004-1739901600-1739901600@www.casinodespa.be
SUMMARY:Circus Poker self-deal
DESCRIPTION:Mardi | Circus Poker self-deal\nPréparez votre meilleur poker face : le mardi\, c’est votre as dans la manche ! \nRendez-vous tous les mardis au Casino de Spa pour nos tournois de self-deal \nBuy-in : 30.00€ \nStacks : 40k \nBlind : 20 min \nBonne ambiance\, gros coups et fous rires garantis. On mélange\, on distribue\, et c’est parti pour une partie où chaque coup peut tout changer. Préparez vos meilleurs bluffs et venez mettre votre poker face à l’épreuve. Le mardi soir\, c’est votre main gagnante ! \n 
URL:https://www.casinodespa.be/evenement/circus-poker-self-deal/2025-02-18/
ATTACH;FMTTYPE=image/jpeg:https://www.casinodespa.be/wp-content/uploads/2025/01/FB_Events.jpg
END:VEVENT
BEGIN:VEVENT
DTSTART;TZID=Europe/Brussels:20250218T200000
DTEND;TZID=Europe/Brussels:20250218T235900
DTSTAMP:20260420T072441
CREATED:20240220T120254Z
LAST-MODIFIED:20240320T123547Z
UID:10000842-1739908800-1739923140@www.casinodespa.be
SUMMARY:Bingo 2.0
DESCRIPTION:525€ de cadeaux à gagner en jouant à notre Bingo 100% gratuit tous les mardis dès 20h! \n\nParticipez chaque mardi à nos 3 parties gratuites de Bingo et tentez de compléter vos grilles. \nCette année\, votre statut sera mis à l’honneur. Profitez de multiplicateurs de statuts pour nos deux dernières parties. \nFerez-vous partie de nos chanceux gagnants? \nRendez-vous tous les mardis à partir de 20h pour le savoir. \n\n 
URL:https://www.casinodespa.be/evenement/bingo-2-0/2025-02-18/
LOCATION:Casino de spa
CATEGORIES:Casino
ATTACH;FMTTYPE=image/jpeg:https://www.casinodespa.be/wp-content/uploads/2024/02/777.off_20231231_CDS_bingo-mardi-2.0_FB_Event.jpg
END:VEVENT
BEGIN:VEVENT
DTSTART;TZID=Europe/Brussels:20250219T200000
DTEND;TZID=Europe/Brussels:20250219T235900
DTSTAMP:20260420T072441
CREATED:20240220T120510Z
LAST-MODIFIED:20240320T102134Z
UID:10001104-1739995200-1740009540@www.casinodespa.be
SUMMARY:Ping-pong challenge
DESCRIPTION:Ping-pong challenge | Casino de Spa\nTous les mercredis à partir de 20h\, venez jouer au ping pong challenge! \nRécupérez votre ticket à la borne et venez le placer dans l’urne pour tenter de participer au lancé de roue. \n\nLancez la roue\nRécupérez un max de balles dans la souffleuse à balles\nGagnez un max de cadeaux
URL:https://www.casinodespa.be/evenement/ping-pong-challenge/2025-02-19/
LOCATION:Casino de spa
CATEGORIES:Casino
ATTACH;FMTTYPE=image/jpeg:https://www.casinodespa.be/wp-content/uploads/2024/02/Event.jpg
END:VEVENT
BEGIN:VEVENT
DTSTART;VALUE=DATE:20250220
DTEND;VALUE=DATE:20250221
DTSTAMP:20260420T072441
CREATED:20240220T120724Z
LAST-MODIFIED:20240320T102557Z
UID:10001365-1740009600-1740095999@www.casinodespa.be
SUMMARY:Happy Thursday
DESCRIPTION:Jouez avec votre S carte sur nos machines à sous et doublez automatiquement vos S points toute la journée ! \nC’est tous les jeudis au Casino de Spa !
URL:https://www.casinodespa.be/evenement/happy-thursday/2025-02-20/
LOCATION:Casino de spa
CATEGORIES:Casino
ATTACH;FMTTYPE=image/jpeg:https://www.casinodespa.be/wp-content/uploads/2024/02/FB_Event-1.jpg
END:VEVENT
BEGIN:VEVENT
DTSTART;TZID=Europe/Brussels:20250221T183000
DTEND;TZID=Europe/Brussels:20250221T230000
DTSTAMP:20260420T072441
CREATED:20250106T103632Z
LAST-MODIFIED:20250106T125056Z
UID:10002946-1740162600-1740178800@www.casinodespa.be
SUMMARY:Blind test - Les grands classiques
DESCRIPTION:Blind test – Les grands classiques | Casino de Spa \nAmateurs de blind tests\, on vous attend dans les starting-blocks\, car c’est reparti pour un tour ! Elles font maintenant partie intégrante de la vie au Casino de Spa\, vous les aimez\, vous les adorez… les soirées blind tests reprennent en 2025 avec une première édition sur le thème des grands classiques. \n\n📍 Où ? Au Casino de Spa \n🕒 Quand ? Le 21 février\, de 19h à 23h30 \nℹ️ Infos : \n– Entrée gratuite \n– DJ Mister Greg aux platines \n– Inscriptions par équipes de 8 personnes* \n  \nN’oubliez pas de donner un nom à votre équipe lors de l’inscription\, soyez créatifs ! \nPrêt à chanter à tue-tête sur les plus grands classiques de la musique ? Rendez-vous le 21 février. \n\n*Vous pouvez inscrire jusqu’à 10 personnes\, mais seuls 8 gains seront distribués par équipe en cas de victoire.\nInscription par équipes complètes : pas de rajout de participants à une équipe déjà inscrite.
URL:https://www.casinodespa.be/evenement/blind-test-les-grands-classiques/
CATEGORIES:Salle Bergman
ATTACH;FMTTYPE=image/jpeg:https://www.casinodespa.be/wp-content/uploads/2025/01/777.off_20250221_CDS_Blind-test-2025-ed1_FB_Event_agenda.jpg
END:VEVENT
BEGIN:VEVENT
DTSTART;TZID=Europe/Brussels:20250221T190000
DTEND;TZID=Europe/Brussels:20250221T233000
DTSTAMP:20260420T072441
CREATED:20241118T151059Z
LAST-MODIFIED:20250314T085134Z
UID:10002692-1740164400-1740180600@www.casinodespa.be
SUMMARY:Poker Family
DESCRIPTION:Tous les vendredis au Casino de Spa\, dès 19h00\, participez à notre tournoi self-deal organisé par le tout nouveau club de la région\, Poker Family.  Profitez du confort Casino tout en profitant d’un tournoi convivial et familial. \n*Buy-in : 40\,00€ \nStacks : 40.000 \nEarly bird : 5.000 \nRe-entry : 6 lvl \nBlind : 20 min \nRestez connectés et participez à nos différents rankings. De nombreux lots mis en jeu tout au long de l’année. \n*Sous réserve de changement \n  \nInscrivez-vous ici !
URL:https://www.casinodespa.be/evenement/poker-family-2/2025-02-21/
LOCATION:Casino de spa
CATEGORIES:Poker
ATTACH;FMTTYPE=image/jpeg:https://www.casinodespa.be/wp-content/uploads/2024/03/777.off_20230601_CDS_Visuel-Poker-Family-_FB_Events.jpg
END:VEVENT
BEGIN:VEVENT
DTSTART;TZID=Europe/Brussels:20250221T200000
DTEND;TZID=Europe/Brussels:20250221T233000
DTSTAMP:20260420T072441
CREATED:20240220T110815Z
LAST-MODIFIED:20240320T102410Z
UID:10000320-1740168000-1740180600@www.casinodespa.be
SUMMARY:Carte ou pas cap?
DESCRIPTION:Faites le plein de cadeaux ! \n\nTous les vendredi\, défiez les probabilités et tentez de terminer notre parcours de cartes pour remporter jusqu’à 160€. \nJe veux lire le règlement 
URL:https://www.casinodespa.be/evenement/carte-ou-pas-cap/2025-02-21/
LOCATION:Casino de spa
CATEGORIES:Casino
ATTACH;FMTTYPE=image/jpeg:https://www.casinodespa.be/wp-content/uploads/2024/02/FB_Event.jpg
END:VEVENT
BEGIN:VEVENT
DTSTART;TZID=Europe/Brussels:20250222T200000
DTEND;TZID=Europe/Brussels:20250222T235900
DTSTAMP:20260420T072441
CREATED:20240220T120830Z
LAST-MODIFIED:20240220T122959Z
UID:10001626-1740254400-1740268740@www.casinodespa.be
SUMMARY:Cash Game Gourmand
DESCRIPTION:Tous les samedis au Casino de Spa c’est le Cash game gourmand! \nJouez 4h minimum et recevez un repas au Grill du Casino*. \nMin 50€\nMax 500€\nBlinds 2-2 \n*voir conditions au Grill du Casino \n\nRéservation souhaitée au +32 497 19 89 65.
URL:https://www.casinodespa.be/evenement/cash-game-gourmand/2025-02-22/
LOCATION:Casino de spa
CATEGORIES:Casino,Poker
ATTACH;FMTTYPE=image/jpeg:https://www.casinodespa.be/wp-content/uploads/2024/02/FB_Event-2.jpg
END:VEVENT
END:VCALENDAR