BEGIN:VCALENDAR
VERSION:2.0
PRODID:-//Casino de Spa - ECPv6.15.17.1//NONSGML v1.0//EN
CALSCALE:GREGORIAN
METHOD:PUBLISH
X-WR-CALNAME:Casino de Spa
X-ORIGINAL-URL:https://www.casinodespa.be
X-WR-CALDESC:Évènements pour Casino de Spa
REFRESH-INTERVAL;VALUE=DURATION:PT1H
X-Robots-Tag:noindex
X-PUBLISHED-TTL:PT1H
BEGIN:VTIMEZONE
TZID:Europe/Brussels
BEGIN:DAYLIGHT
TZOFFSETFROM:+0100
TZOFFSETTO:+0200
TZNAME:CEST
DTSTART:20240331T010000
END:DAYLIGHT
BEGIN:STANDARD
TZOFFSETFROM:+0200
TZOFFSETTO:+0100
TZNAME:CET
DTSTART:20241027T010000
END:STANDARD
BEGIN:DAYLIGHT
TZOFFSETFROM:+0100
TZOFFSETTO:+0200
TZNAME:CEST
DTSTART:20250330T010000
END:DAYLIGHT
BEGIN:STANDARD
TZOFFSETFROM:+0200
TZOFFSETTO:+0100
TZNAME:CET
DTSTART:20251026T010000
END:STANDARD
BEGIN:DAYLIGHT
TZOFFSETFROM:+0100
TZOFFSETTO:+0200
TZNAME:CEST
DTSTART:20260329T010000
END:DAYLIGHT
BEGIN:STANDARD
TZOFFSETFROM:+0200
TZOFFSETTO:+0100
TZNAME:CET
DTSTART:20261025T010000
END:STANDARD
END:VTIMEZONE
BEGIN:VEVENT
DTSTART;TZID=Europe/Brussels:20250228T180000
DTEND;TZID=Europe/Brussels:20250302T233000
DTSTAMP:20260420T055428
CREATED:20250106T103247Z
LAST-MODIFIED:20250106T103318Z
UID:10002945-1740765600-1740958200@www.casinodespa.be
SUMMARY:Week-end du boucher
DESCRIPTION:Week-end du boucher | Grill du Casino de Spa \nCarnivores\, à vos fourchettes ! 🥩🔥\nLes 28 février\, 1er et 2 mars 2025\, le Grill du Casino de Spa se transforme en paradis des amateurs de viande pour le Week-end du Boucher ! Venez savourer des morceaux d’exception à un prix qui va vous donner l’eau à la bouche : -50% sur notre sélection de viandes de bœuf. Entre entrecôtes juteuses et filets tendres comme jamais\, c’est l’occasion rêvée de vous faire plaisir sans casser la tirelire ! \nAmbiance conviviale\, plats généreux et saveurs à tomber… On vous attend pour trois soirées où la star\, c’est la viande. Réservez vite\, parce que ce festin ne va pas se faire tout seul. 🔥🍷 \nRéservez directement ici !
URL:https://www.casinodespa.be/evenement/4333/
LOCATION:Le Grill
CATEGORIES:Restaurant
ATTACH;FMTTYPE=image/jpeg:https://www.casinodespa.be/wp-content/uploads/2025/01/777.off_20252802_CDS_Weekend-du-boucher-_FB_Event_agenda.jpg
END:VEVENT
BEGIN:VEVENT
DTSTART;TZID=Europe/Brussels:20250301T200000
DTEND;TZID=Europe/Brussels:20250301T235900
DTSTAMP:20260420T055428
CREATED:20240220T120830Z
LAST-MODIFIED:20240220T122959Z
UID:10001627-1740859200-1740873540@www.casinodespa.be
SUMMARY:Cash Game Gourmand
DESCRIPTION:Tous les samedis au Casino de Spa c’est le Cash game gourmand! \nJouez 4h minimum et recevez un repas au Grill du Casino*. \nMin 50€\nMax 500€\nBlinds 2-2 \n*voir conditions au Grill du Casino \n\nRéservation souhaitée au +32 497 19 89 65.
URL:https://www.casinodespa.be/evenement/cash-game-gourmand/2025-03-01/
LOCATION:Casino de spa
CATEGORIES:Casino,Poker
ATTACH;FMTTYPE=image/jpeg:https://www.casinodespa.be/wp-content/uploads/2024/02/FB_Event-2.jpg
END:VEVENT
BEGIN:VEVENT
DTSTART;TZID=Europe/Brussels:20250302T150000
DTEND;TZID=Europe/Brussels:20250302T230000
DTSTAMP:20260420T055428
CREATED:20240220T120955Z
LAST-MODIFIED:20240320T102749Z
UID:10001888-1740927600-1740956400@www.casinodespa.be
SUMMARY:Double Sunday
DESCRIPTION:Tous les dimanches\, le Casino de Spa vous gâte ! \n15h-17h: Passage de tartes dans les salons de jeu du Casino* \n18h-23h: Jouez 20€ et obtenez 2.000 S points supplémentaires. \nDans la limite des stocks disponibles. \nJe veux lire le règlement 
URL:https://www.casinodespa.be/evenement/double-sunday/2025-03-02/
LOCATION:Casino de spa
CATEGORIES:Casino
ATTACH;FMTTYPE=image/jpeg:https://www.casinodespa.be/wp-content/uploads/2024/02/777.off_20230701_CDS_Double-Sunday_FB_Event.jpg
END:VEVENT
BEGIN:VEVENT
DTSTART;TZID=Europe/Brussels:20250303T180000
DTEND;TZID=Europe/Brussels:20250303T180000
DTSTAMP:20260420T055428
CREATED:20240220T111415Z
LAST-MODIFIED:20250113T113612Z
UID:10000582-1741024800-1741024800@www.casinodespa.be
SUMMARY:Menu duo du lundi
DESCRIPTION:Chaque lundi au Casino de Spa à partir de 18h\, venez profiter de notre formule duo. \n1 plat au choix parmi 5 choix + dessert + 10€ de crédit de jeu pour 25€ seulement. \nChoix de plats : \n\n\nBurger Casino\nFish and chips\nFilet d’aloyau – sauce béarnaise\nCivet de marcassin avec croquettes\nPennes au poulet curry\n\nLaissez vous tenter ! 
URL:https://www.casinodespa.be/evenement/menu-duo-du-lundi/2025-03-03/
LOCATION:Le Grill
CATEGORIES:Casino,Restaurant
ATTACH;FMTTYPE=image/jpeg:https://www.casinodespa.be/wp-content/uploads/2024/02/777.off_CDS_Menu-Duo_Event.jpg
END:VEVENT
BEGIN:VEVENT
DTSTART;TZID=Europe/Brussels:20250304T180000
DTEND;TZID=Europe/Brussels:20250304T180000
DTSTAMP:20260420T055428
CREATED:20250113T144249Z
LAST-MODIFIED:20250113T144328Z
UID:10003006-1741111200-1741111200@www.casinodespa.be
SUMMARY:Circus Poker self-deal
DESCRIPTION:Mardi | Circus Poker self-deal\nPréparez votre meilleur poker face : le mardi\, c’est votre as dans la manche ! \nRendez-vous tous les mardis au Casino de Spa pour nos tournois de self-deal \nBuy-in : 30.00€ \nStacks : 40k \nBlind : 20 min \nBonne ambiance\, gros coups et fous rires garantis. On mélange\, on distribue\, et c’est parti pour une partie où chaque coup peut tout changer. Préparez vos meilleurs bluffs et venez mettre votre poker face à l’épreuve. Le mardi soir\, c’est votre main gagnante ! \n 
URL:https://www.casinodespa.be/evenement/circus-poker-self-deal/2025-03-04/
ATTACH;FMTTYPE=image/jpeg:https://www.casinodespa.be/wp-content/uploads/2025/01/FB_Events.jpg
END:VEVENT
BEGIN:VEVENT
DTSTART;TZID=Europe/Brussels:20250304T200000
DTEND;TZID=Europe/Brussels:20250304T235900
DTSTAMP:20260420T055428
CREATED:20240220T120254Z
LAST-MODIFIED:20240320T123547Z
UID:10000844-1741118400-1741132740@www.casinodespa.be
SUMMARY:Bingo 2.0
DESCRIPTION:525€ de cadeaux à gagner en jouant à notre Bingo 100% gratuit tous les mardis dès 20h! \n\nParticipez chaque mardi à nos 3 parties gratuites de Bingo et tentez de compléter vos grilles. \nCette année\, votre statut sera mis à l’honneur. Profitez de multiplicateurs de statuts pour nos deux dernières parties. \nFerez-vous partie de nos chanceux gagnants? \nRendez-vous tous les mardis à partir de 20h pour le savoir. \n\n 
URL:https://www.casinodespa.be/evenement/bingo-2-0/2025-03-04/
LOCATION:Casino de spa
CATEGORIES:Casino
ATTACH;FMTTYPE=image/jpeg:https://www.casinodespa.be/wp-content/uploads/2024/02/777.off_20231231_CDS_bingo-mardi-2.0_FB_Event.jpg
END:VEVENT
BEGIN:VEVENT
DTSTART;TZID=Europe/Brussels:20250305T200000
DTEND;TZID=Europe/Brussels:20250305T235900
DTSTAMP:20260420T055428
CREATED:20240220T120510Z
LAST-MODIFIED:20240320T102134Z
UID:10001106-1741204800-1741219140@www.casinodespa.be
SUMMARY:Ping-pong challenge
DESCRIPTION:Ping-pong challenge | Casino de Spa\nTous les mercredis à partir de 20h\, venez jouer au ping pong challenge! \nRécupérez votre ticket à la borne et venez le placer dans l’urne pour tenter de participer au lancé de roue. \n\nLancez la roue\nRécupérez un max de balles dans la souffleuse à balles\nGagnez un max de cadeaux
URL:https://www.casinodespa.be/evenement/ping-pong-challenge/2025-03-05/
LOCATION:Casino de spa
CATEGORIES:Casino
ATTACH;FMTTYPE=image/jpeg:https://www.casinodespa.be/wp-content/uploads/2024/02/Event.jpg
END:VEVENT
BEGIN:VEVENT
DTSTART;VALUE=DATE:20250306
DTEND;VALUE=DATE:20250307
DTSTAMP:20260420T055428
CREATED:20240220T120724Z
LAST-MODIFIED:20240320T102557Z
UID:10001367-1741219200-1741305599@www.casinodespa.be
SUMMARY:Happy Thursday
DESCRIPTION:Jouez avec votre S carte sur nos machines à sous et doublez automatiquement vos S points toute la journée ! \nC’est tous les jeudis au Casino de Spa !
URL:https://www.casinodespa.be/evenement/happy-thursday/2025-03-06/
LOCATION:Casino de spa
CATEGORIES:Casino
ATTACH;FMTTYPE=image/jpeg:https://www.casinodespa.be/wp-content/uploads/2024/02/FB_Event-1.jpg
END:VEVENT
BEGIN:VEVENT
DTSTART;TZID=Europe/Brussels:20250307T190000
DTEND;TZID=Europe/Brussels:20250307T233000
DTSTAMP:20260420T055428
CREATED:20241118T151059Z
LAST-MODIFIED:20250314T085134Z
UID:10002694-1741374000-1741390200@www.casinodespa.be
SUMMARY:Poker Family
DESCRIPTION:Tous les vendredis au Casino de Spa\, dès 19h00\, participez à notre tournoi self-deal organisé par le tout nouveau club de la région\, Poker Family.  Profitez du confort Casino tout en profitant d’un tournoi convivial et familial. \n*Buy-in : 40\,00€ \nStacks : 40.000 \nEarly bird : 5.000 \nRe-entry : 6 lvl \nBlind : 20 min \nRestez connectés et participez à nos différents rankings. De nombreux lots mis en jeu tout au long de l’année. \n*Sous réserve de changement \n  \nInscrivez-vous ici !
URL:https://www.casinodespa.be/evenement/poker-family-2/2025-03-07/
LOCATION:Casino de spa
CATEGORIES:Poker
ATTACH;FMTTYPE=image/jpeg:https://www.casinodespa.be/wp-content/uploads/2024/03/777.off_20230601_CDS_Visuel-Poker-Family-_FB_Events.jpg
END:VEVENT
BEGIN:VEVENT
DTSTART;TZID=Europe/Brussels:20250307T200000
DTEND;TZID=Europe/Brussels:20250307T233000
DTSTAMP:20260420T055428
CREATED:20240220T110815Z
LAST-MODIFIED:20240320T102410Z
UID:10000322-1741377600-1741390200@www.casinodespa.be
SUMMARY:Carte ou pas cap?
DESCRIPTION:Faites le plein de cadeaux ! \n\nTous les vendredi\, défiez les probabilités et tentez de terminer notre parcours de cartes pour remporter jusqu’à 160€. \nJe veux lire le règlement 
URL:https://www.casinodespa.be/evenement/carte-ou-pas-cap/2025-03-07/
LOCATION:Casino de spa
CATEGORIES:Casino
ATTACH;FMTTYPE=image/jpeg:https://www.casinodespa.be/wp-content/uploads/2024/02/FB_Event.jpg
END:VEVENT
BEGIN:VEVENT
DTSTART;TZID=Europe/Brussels:20250308T200000
DTEND;TZID=Europe/Brussels:20250308T235900
DTSTAMP:20260420T055428
CREATED:20240220T120830Z
LAST-MODIFIED:20240220T122959Z
UID:10001628-1741464000-1741478340@www.casinodespa.be
SUMMARY:Cash Game Gourmand
DESCRIPTION:Tous les samedis au Casino de Spa c’est le Cash game gourmand! \nJouez 4h minimum et recevez un repas au Grill du Casino*. \nMin 50€\nMax 500€\nBlinds 2-2 \n*voir conditions au Grill du Casino \n\nRéservation souhaitée au +32 497 19 89 65.
URL:https://www.casinodespa.be/evenement/cash-game-gourmand/2025-03-08/
LOCATION:Casino de spa
CATEGORIES:Casino,Poker
ATTACH;FMTTYPE=image/jpeg:https://www.casinodespa.be/wp-content/uploads/2024/02/FB_Event-2.jpg
END:VEVENT
BEGIN:VEVENT
DTSTART;TZID=Europe/Brussels:20250309T150000
DTEND;TZID=Europe/Brussels:20250309T230000
DTSTAMP:20260420T055428
CREATED:20240220T120955Z
LAST-MODIFIED:20240320T102749Z
UID:10001889-1741532400-1741561200@www.casinodespa.be
SUMMARY:Double Sunday
DESCRIPTION:Tous les dimanches\, le Casino de Spa vous gâte ! \n15h-17h: Passage de tartes dans les salons de jeu du Casino* \n18h-23h: Jouez 20€ et obtenez 2.000 S points supplémentaires. \nDans la limite des stocks disponibles. \nJe veux lire le règlement 
URL:https://www.casinodespa.be/evenement/double-sunday/2025-03-09/
LOCATION:Casino de spa
CATEGORIES:Casino
ATTACH;FMTTYPE=image/jpeg:https://www.casinodespa.be/wp-content/uploads/2024/02/777.off_20230701_CDS_Double-Sunday_FB_Event.jpg
END:VEVENT
BEGIN:VEVENT
DTSTART;TZID=Europe/Brussels:20250310T180000
DTEND;TZID=Europe/Brussels:20250310T180000
DTSTAMP:20260420T055428
CREATED:20240220T111415Z
LAST-MODIFIED:20250113T113612Z
UID:10000583-1741629600-1741629600@www.casinodespa.be
SUMMARY:Menu duo du lundi
DESCRIPTION:Chaque lundi au Casino de Spa à partir de 18h\, venez profiter de notre formule duo. \n1 plat au choix parmi 5 choix + dessert + 10€ de crédit de jeu pour 25€ seulement. \nChoix de plats : \n\n\nBurger Casino\nFish and chips\nFilet d’aloyau – sauce béarnaise\nCivet de marcassin avec croquettes\nPennes au poulet curry\n\nLaissez vous tenter ! 
URL:https://www.casinodespa.be/evenement/menu-duo-du-lundi/2025-03-10/
LOCATION:Le Grill
CATEGORIES:Casino,Restaurant
ATTACH;FMTTYPE=image/jpeg:https://www.casinodespa.be/wp-content/uploads/2024/02/777.off_CDS_Menu-Duo_Event.jpg
END:VEVENT
BEGIN:VEVENT
DTSTART;TZID=Europe/Brussels:20250311T180000
DTEND;TZID=Europe/Brussels:20250311T180000
DTSTAMP:20260420T055428
CREATED:20250113T144249Z
LAST-MODIFIED:20250113T144328Z
UID:10003007-1741716000-1741716000@www.casinodespa.be
SUMMARY:Circus Poker self-deal
DESCRIPTION:Mardi | Circus Poker self-deal\nPréparez votre meilleur poker face : le mardi\, c’est votre as dans la manche ! \nRendez-vous tous les mardis au Casino de Spa pour nos tournois de self-deal \nBuy-in : 30.00€ \nStacks : 40k \nBlind : 20 min \nBonne ambiance\, gros coups et fous rires garantis. On mélange\, on distribue\, et c’est parti pour une partie où chaque coup peut tout changer. Préparez vos meilleurs bluffs et venez mettre votre poker face à l’épreuve. Le mardi soir\, c’est votre main gagnante ! \n 
URL:https://www.casinodespa.be/evenement/circus-poker-self-deal/2025-03-11/
ATTACH;FMTTYPE=image/jpeg:https://www.casinodespa.be/wp-content/uploads/2025/01/FB_Events.jpg
END:VEVENT
BEGIN:VEVENT
DTSTART;TZID=Europe/Brussels:20250311T200000
DTEND;TZID=Europe/Brussels:20250311T235900
DTSTAMP:20260420T055428
CREATED:20240220T120254Z
LAST-MODIFIED:20240320T123547Z
UID:10000845-1741723200-1741737540@www.casinodespa.be
SUMMARY:Bingo 2.0
DESCRIPTION:525€ de cadeaux à gagner en jouant à notre Bingo 100% gratuit tous les mardis dès 20h! \n\nParticipez chaque mardi à nos 3 parties gratuites de Bingo et tentez de compléter vos grilles. \nCette année\, votre statut sera mis à l’honneur. Profitez de multiplicateurs de statuts pour nos deux dernières parties. \nFerez-vous partie de nos chanceux gagnants? \nRendez-vous tous les mardis à partir de 20h pour le savoir. \n\n 
URL:https://www.casinodespa.be/evenement/bingo-2-0/2025-03-11/
LOCATION:Casino de spa
CATEGORIES:Casino
ATTACH;FMTTYPE=image/jpeg:https://www.casinodespa.be/wp-content/uploads/2024/02/777.off_20231231_CDS_bingo-mardi-2.0_FB_Event.jpg
END:VEVENT
BEGIN:VEVENT
DTSTART;TZID=Europe/Brussels:20250312T200000
DTEND;TZID=Europe/Brussels:20250312T235900
DTSTAMP:20260420T055428
CREATED:20240220T120510Z
LAST-MODIFIED:20240320T102134Z
UID:10001107-1741809600-1741823940@www.casinodespa.be
SUMMARY:Ping-pong challenge
DESCRIPTION:Ping-pong challenge | Casino de Spa\nTous les mercredis à partir de 20h\, venez jouer au ping pong challenge! \nRécupérez votre ticket à la borne et venez le placer dans l’urne pour tenter de participer au lancé de roue. \n\nLancez la roue\nRécupérez un max de balles dans la souffleuse à balles\nGagnez un max de cadeaux
URL:https://www.casinodespa.be/evenement/ping-pong-challenge/2025-03-12/
LOCATION:Casino de spa
CATEGORIES:Casino
ATTACH;FMTTYPE=image/jpeg:https://www.casinodespa.be/wp-content/uploads/2024/02/Event.jpg
END:VEVENT
BEGIN:VEVENT
DTSTART;VALUE=DATE:20250313
DTEND;VALUE=DATE:20250314
DTSTAMP:20260420T055428
CREATED:20240220T120724Z
LAST-MODIFIED:20240320T102557Z
UID:10001368-1741824000-1741910399@www.casinodespa.be
SUMMARY:Happy Thursday
DESCRIPTION:Jouez avec votre S carte sur nos machines à sous et doublez automatiquement vos S points toute la journée ! \nC’est tous les jeudis au Casino de Spa !
URL:https://www.casinodespa.be/evenement/happy-thursday/2025-03-13/
LOCATION:Casino de spa
CATEGORIES:Casino
ATTACH;FMTTYPE=image/jpeg:https://www.casinodespa.be/wp-content/uploads/2024/02/FB_Event-1.jpg
END:VEVENT
BEGIN:VEVENT
DTSTART;TZID=Europe/Brussels:20250314T190000
DTEND;TZID=Europe/Brussels:20250314T233000
DTSTAMP:20260420T055428
CREATED:20241118T151059Z
LAST-MODIFIED:20250314T085134Z
UID:10002695-1741978800-1741995000@www.casinodespa.be
SUMMARY:Poker Family
DESCRIPTION:Tous les vendredis au Casino de Spa\, dès 19h00\, participez à notre tournoi self-deal organisé par le tout nouveau club de la région\, Poker Family.  Profitez du confort Casino tout en profitant d’un tournoi convivial et familial. \n*Buy-in : 40\,00€ \nStacks : 40.000 \nEarly bird : 5.000 \nRe-entry : 6 lvl \nBlind : 20 min \nRestez connectés et participez à nos différents rankings. De nombreux lots mis en jeu tout au long de l’année. \n*Sous réserve de changement \n  \nInscrivez-vous ici !
URL:https://www.casinodespa.be/evenement/poker-family-2/2025-03-14/
LOCATION:Casino de spa
CATEGORIES:Poker
ATTACH;FMTTYPE=image/jpeg:https://www.casinodespa.be/wp-content/uploads/2024/03/777.off_20230601_CDS_Visuel-Poker-Family-_FB_Events.jpg
END:VEVENT
BEGIN:VEVENT
DTSTART;TZID=Europe/Brussels:20250314T200000
DTEND;TZID=Europe/Brussels:20250314T233000
DTSTAMP:20260420T055428
CREATED:20240220T110815Z
LAST-MODIFIED:20240320T102410Z
UID:10000323-1741982400-1741995000@www.casinodespa.be
SUMMARY:Carte ou pas cap?
DESCRIPTION:Faites le plein de cadeaux ! \n\nTous les vendredi\, défiez les probabilités et tentez de terminer notre parcours de cartes pour remporter jusqu’à 160€. \nJe veux lire le règlement 
URL:https://www.casinodespa.be/evenement/carte-ou-pas-cap/2025-03-14/
LOCATION:Casino de spa
CATEGORIES:Casino
ATTACH;FMTTYPE=image/jpeg:https://www.casinodespa.be/wp-content/uploads/2024/02/FB_Event.jpg
END:VEVENT
BEGIN:VEVENT
DTSTART;TZID=Europe/Brussels:20250315T200000
DTEND;TZID=Europe/Brussels:20250315T235900
DTSTAMP:20260420T055428
CREATED:20240220T120830Z
LAST-MODIFIED:20240220T122959Z
UID:10001629-1742068800-1742083140@www.casinodespa.be
SUMMARY:Cash Game Gourmand
DESCRIPTION:Tous les samedis au Casino de Spa c’est le Cash game gourmand! \nJouez 4h minimum et recevez un repas au Grill du Casino*. \nMin 50€\nMax 500€\nBlinds 2-2 \n*voir conditions au Grill du Casino \n\nRéservation souhaitée au +32 497 19 89 65.
URL:https://www.casinodespa.be/evenement/cash-game-gourmand/2025-03-15/
LOCATION:Casino de spa
CATEGORIES:Casino,Poker
ATTACH;FMTTYPE=image/jpeg:https://www.casinodespa.be/wp-content/uploads/2024/02/FB_Event-2.jpg
END:VEVENT
BEGIN:VEVENT
DTSTART;TZID=Europe/Brussels:20250316T150000
DTEND;TZID=Europe/Brussels:20250316T230000
DTSTAMP:20260420T055428
CREATED:20240220T120955Z
LAST-MODIFIED:20240320T102749Z
UID:10001890-1742137200-1742166000@www.casinodespa.be
SUMMARY:Double Sunday
DESCRIPTION:Tous les dimanches\, le Casino de Spa vous gâte ! \n15h-17h: Passage de tartes dans les salons de jeu du Casino* \n18h-23h: Jouez 20€ et obtenez 2.000 S points supplémentaires. \nDans la limite des stocks disponibles. \nJe veux lire le règlement 
URL:https://www.casinodespa.be/evenement/double-sunday/2025-03-16/
LOCATION:Casino de spa
CATEGORIES:Casino
ATTACH;FMTTYPE=image/jpeg:https://www.casinodespa.be/wp-content/uploads/2024/02/777.off_20230701_CDS_Double-Sunday_FB_Event.jpg
END:VEVENT
BEGIN:VEVENT
DTSTART;TZID=Europe/Brussels:20250317T180000
DTEND;TZID=Europe/Brussels:20250317T180000
DTSTAMP:20260420T055428
CREATED:20240220T111415Z
LAST-MODIFIED:20250113T113612Z
UID:10000584-1742234400-1742234400@www.casinodespa.be
SUMMARY:Menu duo du lundi
DESCRIPTION:Chaque lundi au Casino de Spa à partir de 18h\, venez profiter de notre formule duo. \n1 plat au choix parmi 5 choix + dessert + 10€ de crédit de jeu pour 25€ seulement. \nChoix de plats : \n\n\nBurger Casino\nFish and chips\nFilet d’aloyau – sauce béarnaise\nCivet de marcassin avec croquettes\nPennes au poulet curry\n\nLaissez vous tenter ! 
URL:https://www.casinodespa.be/evenement/menu-duo-du-lundi/2025-03-17/
LOCATION:Le Grill
CATEGORIES:Casino,Restaurant
ATTACH;FMTTYPE=image/jpeg:https://www.casinodespa.be/wp-content/uploads/2024/02/777.off_CDS_Menu-Duo_Event.jpg
END:VEVENT
BEGIN:VEVENT
DTSTART;TZID=Europe/Brussels:20250318T180000
DTEND;TZID=Europe/Brussels:20250318T180000
DTSTAMP:20260420T055428
CREATED:20250113T144249Z
LAST-MODIFIED:20250113T144328Z
UID:10003008-1742320800-1742320800@www.casinodespa.be
SUMMARY:Circus Poker self-deal
DESCRIPTION:Mardi | Circus Poker self-deal\nPréparez votre meilleur poker face : le mardi\, c’est votre as dans la manche ! \nRendez-vous tous les mardis au Casino de Spa pour nos tournois de self-deal \nBuy-in : 30.00€ \nStacks : 40k \nBlind : 20 min \nBonne ambiance\, gros coups et fous rires garantis. On mélange\, on distribue\, et c’est parti pour une partie où chaque coup peut tout changer. Préparez vos meilleurs bluffs et venez mettre votre poker face à l’épreuve. Le mardi soir\, c’est votre main gagnante ! \n 
URL:https://www.casinodespa.be/evenement/circus-poker-self-deal/2025-03-18/
ATTACH;FMTTYPE=image/jpeg:https://www.casinodespa.be/wp-content/uploads/2025/01/FB_Events.jpg
END:VEVENT
BEGIN:VEVENT
DTSTART;TZID=Europe/Brussels:20250318T200000
DTEND;TZID=Europe/Brussels:20250318T235900
DTSTAMP:20260420T055428
CREATED:20240220T120254Z
LAST-MODIFIED:20240320T123547Z
UID:10000846-1742328000-1742342340@www.casinodespa.be
SUMMARY:Bingo 2.0
DESCRIPTION:525€ de cadeaux à gagner en jouant à notre Bingo 100% gratuit tous les mardis dès 20h! \n\nParticipez chaque mardi à nos 3 parties gratuites de Bingo et tentez de compléter vos grilles. \nCette année\, votre statut sera mis à l’honneur. Profitez de multiplicateurs de statuts pour nos deux dernières parties. \nFerez-vous partie de nos chanceux gagnants? \nRendez-vous tous les mardis à partir de 20h pour le savoir. \n\n 
URL:https://www.casinodespa.be/evenement/bingo-2-0/2025-03-18/
LOCATION:Casino de spa
CATEGORIES:Casino
ATTACH;FMTTYPE=image/jpeg:https://www.casinodespa.be/wp-content/uploads/2024/02/777.off_20231231_CDS_bingo-mardi-2.0_FB_Event.jpg
END:VEVENT
BEGIN:VEVENT
DTSTART;TZID=Europe/Brussels:20250319T200000
DTEND;TZID=Europe/Brussels:20250319T235900
DTSTAMP:20260420T055428
CREATED:20240220T120510Z
LAST-MODIFIED:20240320T102134Z
UID:10001108-1742414400-1742428740@www.casinodespa.be
SUMMARY:Ping-pong challenge
DESCRIPTION:Ping-pong challenge | Casino de Spa\nTous les mercredis à partir de 20h\, venez jouer au ping pong challenge! \nRécupérez votre ticket à la borne et venez le placer dans l’urne pour tenter de participer au lancé de roue. \n\nLancez la roue\nRécupérez un max de balles dans la souffleuse à balles\nGagnez un max de cadeaux
URL:https://www.casinodespa.be/evenement/ping-pong-challenge/2025-03-19/
LOCATION:Casino de spa
CATEGORIES:Casino
ATTACH;FMTTYPE=image/jpeg:https://www.casinodespa.be/wp-content/uploads/2024/02/Event.jpg
END:VEVENT
BEGIN:VEVENT
DTSTART;VALUE=DATE:20250320
DTEND;VALUE=DATE:20250321
DTSTAMP:20260420T055428
CREATED:20240220T120724Z
LAST-MODIFIED:20240320T102557Z
UID:10001369-1742428800-1742515199@www.casinodespa.be
SUMMARY:Happy Thursday
DESCRIPTION:Jouez avec votre S carte sur nos machines à sous et doublez automatiquement vos S points toute la journée ! \nC’est tous les jeudis au Casino de Spa !
URL:https://www.casinodespa.be/evenement/happy-thursday/2025-03-20/
LOCATION:Casino de spa
CATEGORIES:Casino
ATTACH;FMTTYPE=image/jpeg:https://www.casinodespa.be/wp-content/uploads/2024/02/FB_Event-1.jpg
END:VEVENT
BEGIN:VEVENT
DTSTART;TZID=Europe/Brussels:20250321T190000
DTEND;TZID=Europe/Brussels:20250321T233000
DTSTAMP:20260420T055428
CREATED:20241118T151059Z
LAST-MODIFIED:20250314T085134Z
UID:10002696-1742583600-1742599800@www.casinodespa.be
SUMMARY:Poker Family
DESCRIPTION:Tous les vendredis au Casino de Spa\, dès 19h00\, participez à notre tournoi self-deal organisé par le tout nouveau club de la région\, Poker Family.  Profitez du confort Casino tout en profitant d’un tournoi convivial et familial. \n*Buy-in : 40\,00€ \nStacks : 40.000 \nEarly bird : 5.000 \nRe-entry : 6 lvl \nBlind : 20 min \nRestez connectés et participez à nos différents rankings. De nombreux lots mis en jeu tout au long de l’année. \n*Sous réserve de changement \n  \nInscrivez-vous ici !
URL:https://www.casinodespa.be/evenement/poker-family-2/2025-03-21/
LOCATION:Casino de spa
CATEGORIES:Poker
ATTACH;FMTTYPE=image/jpeg:https://www.casinodespa.be/wp-content/uploads/2024/03/777.off_20230601_CDS_Visuel-Poker-Family-_FB_Events.jpg
END:VEVENT
BEGIN:VEVENT
DTSTART;TZID=Europe/Brussels:20250321T190000
DTEND;TZID=Europe/Brussels:20250321T233000
DTSTAMP:20260420T055428
CREATED:20250109T091624Z
LAST-MODIFIED:20250217T150030Z
UID:10002948-1742583600-1742599800@www.casinodespa.be
SUMMARY:Souper-spectacle | KOSTIA
DESCRIPTION:Souper-spectacle | KOSTIA\nPlongez dans une soirée inoubliable mêlant gastronomie et humour au Casino de Spa. Nous avons le plaisir de vous inviter à notre Souper-Spectacle exclusif avec l’humoriste KOSTIA\, qui promet un moment de rire et de convivialité inégalé. \nFormule : \n\nTarif : 59€/personne\nInclus : Un menu 3 services + spectacle\nLes boissons ne sont pas comprises dans la formule\n\nJe réserve ma place \n+21 ans. Carte d’identité obligatoire. Conditions d’accès Casino. \n  \nEntrée\nSaumon Bio au sel et à la betterave fumée\nDifférentes textures de betteraves & Shizo rouge\nPlat\nLe beau suprême de Coq des prés AOC Bio cuit à basse température\nBéarnaise de Homard / Salicorne / Carotte glacée / Raviole de Homard\nDesserts\nPassage en plateau dans les salons de jeu
URL:https://www.casinodespa.be/evenement/souper-spectacle-kostia/
CATEGORIES:Salle Bergman
ATTACH;FMTTYPE=image/jpeg:https://www.casinodespa.be/wp-content/uploads/2025/01/777.off_20240221_CDS_Souper_spectacle-KOSTIA-_FB_Event_agenda.jpg
END:VEVENT
BEGIN:VEVENT
DTSTART;TZID=Europe/Brussels:20250321T200000
DTEND;TZID=Europe/Brussels:20250321T233000
DTSTAMP:20260420T055428
CREATED:20240220T110815Z
LAST-MODIFIED:20240320T102410Z
UID:10000324-1742587200-1742599800@www.casinodespa.be
SUMMARY:Carte ou pas cap?
DESCRIPTION:Faites le plein de cadeaux ! \n\nTous les vendredi\, défiez les probabilités et tentez de terminer notre parcours de cartes pour remporter jusqu’à 160€. \nJe veux lire le règlement 
URL:https://www.casinodespa.be/evenement/carte-ou-pas-cap/2025-03-21/
LOCATION:Casino de spa
CATEGORIES:Casino
ATTACH;FMTTYPE=image/jpeg:https://www.casinodespa.be/wp-content/uploads/2024/02/FB_Event.jpg
END:VEVENT
BEGIN:VEVENT
DTSTART;TZID=Europe/Brussels:20250322T200000
DTEND;TZID=Europe/Brussels:20250322T235900
DTSTAMP:20260420T055428
CREATED:20240220T120830Z
LAST-MODIFIED:20240220T122959Z
UID:10001630-1742673600-1742687940@www.casinodespa.be
SUMMARY:Cash Game Gourmand
DESCRIPTION:Tous les samedis au Casino de Spa c’est le Cash game gourmand! \nJouez 4h minimum et recevez un repas au Grill du Casino*. \nMin 50€\nMax 500€\nBlinds 2-2 \n*voir conditions au Grill du Casino \n\nRéservation souhaitée au +32 497 19 89 65.
URL:https://www.casinodespa.be/evenement/cash-game-gourmand/2025-03-22/
LOCATION:Casino de spa
CATEGORIES:Casino,Poker
ATTACH;FMTTYPE=image/jpeg:https://www.casinodespa.be/wp-content/uploads/2024/02/FB_Event-2.jpg
END:VEVENT
END:VCALENDAR