BEGIN:VCALENDAR
VERSION:2.0
PRODID:-//Casino de Spa - ECPv6.15.17.1//NONSGML v1.0//EN
CALSCALE:GREGORIAN
METHOD:PUBLISH
X-ORIGINAL-URL:https://www.casinodespa.be
X-WR-CALDESC:Évènements pour Casino de Spa
REFRESH-INTERVAL;VALUE=DURATION:PT1H
X-Robots-Tag:noindex
X-PUBLISHED-TTL:PT1H
BEGIN:VTIMEZONE
TZID:Europe/Brussels
BEGIN:DAYLIGHT
TZOFFSETFROM:+0100
TZOFFSETTO:+0200
TZNAME:CEST
DTSTART:20240331T010000
END:DAYLIGHT
BEGIN:STANDARD
TZOFFSETFROM:+0200
TZOFFSETTO:+0100
TZNAME:CET
DTSTART:20241027T010000
END:STANDARD
BEGIN:DAYLIGHT
TZOFFSETFROM:+0100
TZOFFSETTO:+0200
TZNAME:CEST
DTSTART:20250330T010000
END:DAYLIGHT
BEGIN:STANDARD
TZOFFSETFROM:+0200
TZOFFSETTO:+0100
TZNAME:CET
DTSTART:20251026T010000
END:STANDARD
BEGIN:DAYLIGHT
TZOFFSETFROM:+0100
TZOFFSETTO:+0200
TZNAME:CEST
DTSTART:20260329T010000
END:DAYLIGHT
BEGIN:STANDARD
TZOFFSETFROM:+0200
TZOFFSETTO:+0100
TZNAME:CET
DTSTART:20261025T010000
END:STANDARD
END:VTIMEZONE
BEGIN:VEVENT
DTSTART;TZID=Europe/Brussels:20250418T080000
DTEND;TZID=Europe/Brussels:20250612T170000
DTSTAMP:20260420T022034
CREATED:20250403T085719Z
LAST-MODIFIED:20250414T102629Z
UID:10003274-1744963200-1749747600@www.casinodespa.be
SUMMARY:Skillshot darts challenge
DESCRIPTION:Le Skillshot Darts Challenge\n\nLe Skillshot Darts Challenge\, votre tournoi de fléchette amateurs dans la région\, débarque dans vos bars préférés avec une finale majestueuse au Casino de Spa 🎯 \n\nÇa vous tente ? Inscrivez-vous par équipes de 2 joueurs pour la phase de qualifications dans l’un des bars partenaires. Affrontez les autres équipes au 501 sur machines électroniques et tentez de décrocher votre ticket pour la finale ! 🎟️ \n\nRendez-vous ensuite au Casino de Spa le 12 septembre avec un total de 5.000 € de prizepool pour les finalistes ! \n\n📅 Date des qualifications : du 18/04 au 12/06 – Consultez notre planning pour choisir votre bar préféré.\n📅 Date de la finale : 12 septembre au Casino de Spa\n📝 Inscriptions : Cliquez ici \n💶 Prix : 20 € par équipe d’inscription\, dont une boisson offerte par personne.\n\n  \nArriverez-vous à viser juste pour repartir avec le 1ᵉʳ prix ? Inscrivez-vous sans attendre. \n\nConditions de participation : avoir +21 ans & être éligible pour entrer dans un Casino belge. Carte d’identité obligatoire lors de l’inscription et lors de la finale. \n\nListe des bars partenaires et dates des qualifications : \n\n🎯 Space Malmedy – 18/04 à 19h\n🎯 Space Waremme – 25/04 à 19h\n🎯 Extra Time Battice – 23/0519h\n🎯 Tennis de Theux – 28/05 à 19h\n🎯 Space Lontzen – 1/06 à 14h\n🎯 BH Bar Pepinster – 6/06 à 19h\n🎯 Oddsbar Herstal -12/06 à 19h
URL:https://www.casinodespa.be/evenement/skillshot-darts-challenge/
LOCATION:Casino de spa
CATEGORIES:Casino,Salle Bergman
ATTACH;FMTTYPE=image/jpeg:https://www.casinodespa.be/wp-content/uploads/2025/04/777.off_2025061_CDS_Tournoi-fle╠uchette-2025-_FB_Event_agenda.jpg
END:VEVENT
BEGIN:VEVENT
DTSTART;VALUE=DATE:20250501
DTEND;VALUE=DATE:20250502
DTSTAMP:20260420T022034
CREATED:20240220T120724Z
LAST-MODIFIED:20240320T102557Z
UID:10001375-1746057600-1746143999@www.casinodespa.be
SUMMARY:Happy Thursday
DESCRIPTION:Jouez avec votre S carte sur nos machines à sous et doublez automatiquement vos S points toute la journée ! \nC’est tous les jeudis au Casino de Spa !
URL:https://www.casinodespa.be/evenement/happy-thursday/2025-05-01/
LOCATION:Casino de spa
CATEGORIES:Casino
ATTACH;FMTTYPE=image/jpeg:https://www.casinodespa.be/wp-content/uploads/2024/02/FB_Event-1.jpg
END:VEVENT
BEGIN:VEVENT
DTSTART;TZID=Europe/Brussels:20250502T190000
DTEND;TZID=Europe/Brussels:20250502T233000
DTSTAMP:20260420T022034
CREATED:20241118T151059Z
LAST-MODIFIED:20250314T085134Z
UID:10002702-1746212400-1746228600@www.casinodespa.be
SUMMARY:Poker Family
DESCRIPTION:Tous les vendredis au Casino de Spa\, dès 19h00\, participez à notre tournoi self-deal organisé par le tout nouveau club de la région\, Poker Family.  Profitez du confort Casino tout en profitant d’un tournoi convivial et familial. \n*Buy-in : 40\,00€ \nStacks : 40.000 \nEarly bird : 5.000 \nRe-entry : 6 lvl \nBlind : 20 min \nRestez connectés et participez à nos différents rankings. De nombreux lots mis en jeu tout au long de l’année. \n*Sous réserve de changement \n  \nInscrivez-vous ici !
URL:https://www.casinodespa.be/evenement/poker-family-2/2025-05-02/
LOCATION:Casino de spa
CATEGORIES:Poker
ATTACH;FMTTYPE=image/jpeg:https://www.casinodespa.be/wp-content/uploads/2024/03/777.off_20230601_CDS_Visuel-Poker-Family-_FB_Events.jpg
END:VEVENT
BEGIN:VEVENT
DTSTART;TZID=Europe/Brussels:20250502T200000
DTEND;TZID=Europe/Brussels:20250502T233000
DTSTAMP:20260420T022034
CREATED:20240220T110815Z
LAST-MODIFIED:20240320T102410Z
UID:10000330-1746216000-1746228600@www.casinodespa.be
SUMMARY:Carte ou pas cap?
DESCRIPTION:Faites le plein de cadeaux ! \n\nTous les vendredi\, défiez les probabilités et tentez de terminer notre parcours de cartes pour remporter jusqu’à 160€. \nJe veux lire le règlement 
URL:https://www.casinodespa.be/evenement/carte-ou-pas-cap/2025-05-02/
LOCATION:Casino de spa
CATEGORIES:Casino
ATTACH;FMTTYPE=image/jpeg:https://www.casinodespa.be/wp-content/uploads/2024/02/FB_Event.jpg
END:VEVENT
BEGIN:VEVENT
DTSTART;TZID=Europe/Brussels:20250503T200000
DTEND;TZID=Europe/Brussels:20250503T235900
DTSTAMP:20260420T022034
CREATED:20240220T120830Z
LAST-MODIFIED:20240220T122959Z
UID:10001636-1746302400-1746316740@www.casinodespa.be
SUMMARY:Cash Game Gourmand
DESCRIPTION:Tous les samedis au Casino de Spa c’est le Cash game gourmand! \nJouez 4h minimum et recevez un repas au Grill du Casino*. \nMin 50€\nMax 500€\nBlinds 2-2 \n*voir conditions au Grill du Casino \n\nRéservation souhaitée au +32 497 19 89 65.
URL:https://www.casinodespa.be/evenement/cash-game-gourmand/2025-05-03/
LOCATION:Casino de spa
CATEGORIES:Casino,Poker
ATTACH;FMTTYPE=image/jpeg:https://www.casinodespa.be/wp-content/uploads/2024/02/FB_Event-2.jpg
END:VEVENT
BEGIN:VEVENT
DTSTART;TZID=Europe/Brussels:20250504T150000
DTEND;TZID=Europe/Brussels:20250504T230000
DTSTAMP:20260420T022034
CREATED:20240220T120955Z
LAST-MODIFIED:20240320T102749Z
UID:10001897-1746370800-1746399600@www.casinodespa.be
SUMMARY:Double Sunday
DESCRIPTION:Tous les dimanches\, le Casino de Spa vous gâte ! \n15h-17h: Passage de tartes dans les salons de jeu du Casino* \n18h-23h: Jouez 20€ et obtenez 2.000 S points supplémentaires. \nDans la limite des stocks disponibles. \nJe veux lire le règlement 
URL:https://www.casinodespa.be/evenement/double-sunday/2025-05-04/
LOCATION:Casino de spa
CATEGORIES:Casino
ATTACH;FMTTYPE=image/jpeg:https://www.casinodespa.be/wp-content/uploads/2024/02/777.off_20230701_CDS_Double-Sunday_FB_Event.jpg
END:VEVENT
BEGIN:VEVENT
DTSTART;TZID=Europe/Brussels:20250505T180000
DTEND;TZID=Europe/Brussels:20250505T180000
DTSTAMP:20260420T022034
CREATED:20240220T111415Z
LAST-MODIFIED:20250113T113612Z
UID:10000591-1746468000-1746468000@www.casinodespa.be
SUMMARY:Menu duo du lundi
DESCRIPTION:Chaque lundi au Casino de Spa à partir de 18h\, venez profiter de notre formule duo. \n1 plat au choix parmi 5 choix + dessert + 10€ de crédit de jeu pour 25€ seulement. \nChoix de plats : \n\n\nBurger Casino\nFish and chips\nFilet d’aloyau – sauce béarnaise\nCivet de marcassin avec croquettes\nPennes au poulet curry\n\nLaissez vous tenter ! 
URL:https://www.casinodespa.be/evenement/menu-duo-du-lundi/2025-05-05/
LOCATION:Le Grill
CATEGORIES:Casino,Restaurant
ATTACH;FMTTYPE=image/jpeg:https://www.casinodespa.be/wp-content/uploads/2024/02/777.off_CDS_Menu-Duo_Event.jpg
END:VEVENT
BEGIN:VEVENT
DTSTART;TZID=Europe/Brussels:20250506T180000
DTEND;TZID=Europe/Brussels:20250506T180000
DTSTAMP:20260420T022034
CREATED:20250113T144249Z
LAST-MODIFIED:20250113T144328Z
UID:10003015-1746554400-1746554400@www.casinodespa.be
SUMMARY:Circus Poker self-deal
DESCRIPTION:Mardi | Circus Poker self-deal\nPréparez votre meilleur poker face : le mardi\, c’est votre as dans la manche ! \nRendez-vous tous les mardis au Casino de Spa pour nos tournois de self-deal \nBuy-in : 30.00€ \nStacks : 40k \nBlind : 20 min \nBonne ambiance\, gros coups et fous rires garantis. On mélange\, on distribue\, et c’est parti pour une partie où chaque coup peut tout changer. Préparez vos meilleurs bluffs et venez mettre votre poker face à l’épreuve. Le mardi soir\, c’est votre main gagnante ! \n 
URL:https://www.casinodespa.be/evenement/circus-poker-self-deal/2025-05-06/
ATTACH;FMTTYPE=image/jpeg:https://www.casinodespa.be/wp-content/uploads/2025/01/FB_Events.jpg
END:VEVENT
BEGIN:VEVENT
DTSTART;TZID=Europe/Brussels:20250506T200000
DTEND;TZID=Europe/Brussels:20250506T235900
DTSTAMP:20260420T022034
CREATED:20240220T120254Z
LAST-MODIFIED:20240320T123547Z
UID:10000853-1746561600-1746575940@www.casinodespa.be
SUMMARY:Bingo 2.0
DESCRIPTION:525€ de cadeaux à gagner en jouant à notre Bingo 100% gratuit tous les mardis dès 20h! \n\nParticipez chaque mardi à nos 3 parties gratuites de Bingo et tentez de compléter vos grilles. \nCette année\, votre statut sera mis à l’honneur. Profitez de multiplicateurs de statuts pour nos deux dernières parties. \nFerez-vous partie de nos chanceux gagnants? \nRendez-vous tous les mardis à partir de 20h pour le savoir. \n\n 
URL:https://www.casinodespa.be/evenement/bingo-2-0/2025-05-06/
LOCATION:Casino de spa
CATEGORIES:Casino
ATTACH;FMTTYPE=image/jpeg:https://www.casinodespa.be/wp-content/uploads/2024/02/777.off_20231231_CDS_bingo-mardi-2.0_FB_Event.jpg
END:VEVENT
BEGIN:VEVENT
DTSTART;TZID=Europe/Brussels:20250507T200000
DTEND;TZID=Europe/Brussels:20250507T235900
DTSTAMP:20260420T022034
CREATED:20240220T120510Z
LAST-MODIFIED:20240320T102134Z
UID:10001115-1746648000-1746662340@www.casinodespa.be
SUMMARY:Ping-pong challenge
DESCRIPTION:Ping-pong challenge | Casino de Spa\nTous les mercredis à partir de 20h\, venez jouer au ping pong challenge! \nRécupérez votre ticket à la borne et venez le placer dans l’urne pour tenter de participer au lancé de roue. \n\nLancez la roue\nRécupérez un max de balles dans la souffleuse à balles\nGagnez un max de cadeaux
URL:https://www.casinodespa.be/evenement/ping-pong-challenge/2025-05-07/
LOCATION:Casino de spa
CATEGORIES:Casino
ATTACH;FMTTYPE=image/jpeg:https://www.casinodespa.be/wp-content/uploads/2024/02/Event.jpg
END:VEVENT
BEGIN:VEVENT
DTSTART;VALUE=DATE:20250508
DTEND;VALUE=DATE:20250509
DTSTAMP:20260420T022034
CREATED:20240220T120724Z
LAST-MODIFIED:20240320T102557Z
UID:10001376-1746662400-1746748799@www.casinodespa.be
SUMMARY:Happy Thursday
DESCRIPTION:Jouez avec votre S carte sur nos machines à sous et doublez automatiquement vos S points toute la journée ! \nC’est tous les jeudis au Casino de Spa !
URL:https://www.casinodespa.be/evenement/happy-thursday/2025-05-08/
LOCATION:Casino de spa
CATEGORIES:Casino
ATTACH;FMTTYPE=image/jpeg:https://www.casinodespa.be/wp-content/uploads/2024/02/FB_Event-1.jpg
END:VEVENT
BEGIN:VEVENT
DTSTART;TZID=Europe/Brussels:20250509T190000
DTEND;TZID=Europe/Brussels:20250509T233000
DTSTAMP:20260420T022034
CREATED:20241118T151059Z
LAST-MODIFIED:20250314T085134Z
UID:10002703-1746817200-1746833400@www.casinodespa.be
SUMMARY:Poker Family
DESCRIPTION:Tous les vendredis au Casino de Spa\, dès 19h00\, participez à notre tournoi self-deal organisé par le tout nouveau club de la région\, Poker Family.  Profitez du confort Casino tout en profitant d’un tournoi convivial et familial. \n*Buy-in : 40\,00€ \nStacks : 40.000 \nEarly bird : 5.000 \nRe-entry : 6 lvl \nBlind : 20 min \nRestez connectés et participez à nos différents rankings. De nombreux lots mis en jeu tout au long de l’année. \n*Sous réserve de changement \n  \nInscrivez-vous ici !
URL:https://www.casinodespa.be/evenement/poker-family-2/2025-05-09/
LOCATION:Casino de spa
CATEGORIES:Poker
ATTACH;FMTTYPE=image/jpeg:https://www.casinodespa.be/wp-content/uploads/2024/03/777.off_20230601_CDS_Visuel-Poker-Family-_FB_Events.jpg
END:VEVENT
BEGIN:VEVENT
DTSTART;TZID=Europe/Brussels:20250509T200000
DTEND;TZID=Europe/Brussels:20250509T233000
DTSTAMP:20260420T022034
CREATED:20240220T110815Z
LAST-MODIFIED:20240320T102410Z
UID:10000331-1746820800-1746833400@www.casinodespa.be
SUMMARY:Carte ou pas cap?
DESCRIPTION:Faites le plein de cadeaux ! \n\nTous les vendredi\, défiez les probabilités et tentez de terminer notre parcours de cartes pour remporter jusqu’à 160€. \nJe veux lire le règlement 
URL:https://www.casinodespa.be/evenement/carte-ou-pas-cap/2025-05-09/
LOCATION:Casino de spa
CATEGORIES:Casino
ATTACH;FMTTYPE=image/jpeg:https://www.casinodespa.be/wp-content/uploads/2024/02/FB_Event.jpg
END:VEVENT
BEGIN:VEVENT
DTSTART;TZID=Europe/Brussels:20250510T200000
DTEND;TZID=Europe/Brussels:20250510T235900
DTSTAMP:20260420T022034
CREATED:20240220T120830Z
LAST-MODIFIED:20240220T122959Z
UID:10001637-1746907200-1746921540@www.casinodespa.be
SUMMARY:Cash Game Gourmand
DESCRIPTION:Tous les samedis au Casino de Spa c’est le Cash game gourmand! \nJouez 4h minimum et recevez un repas au Grill du Casino*. \nMin 50€\nMax 500€\nBlinds 2-2 \n*voir conditions au Grill du Casino \n\nRéservation souhaitée au +32 497 19 89 65.
URL:https://www.casinodespa.be/evenement/cash-game-gourmand/2025-05-10/
LOCATION:Casino de spa
CATEGORIES:Casino,Poker
ATTACH;FMTTYPE=image/jpeg:https://www.casinodespa.be/wp-content/uploads/2024/02/FB_Event-2.jpg
END:VEVENT
BEGIN:VEVENT
DTSTART;TZID=Europe/Brussels:20250511T150000
DTEND;TZID=Europe/Brussels:20250511T230000
DTSTAMP:20260420T022034
CREATED:20240220T120955Z
LAST-MODIFIED:20240320T102749Z
UID:10001898-1746975600-1747004400@www.casinodespa.be
SUMMARY:Double Sunday
DESCRIPTION:Tous les dimanches\, le Casino de Spa vous gâte ! \n15h-17h: Passage de tartes dans les salons de jeu du Casino* \n18h-23h: Jouez 20€ et obtenez 2.000 S points supplémentaires. \nDans la limite des stocks disponibles. \nJe veux lire le règlement 
URL:https://www.casinodespa.be/evenement/double-sunday/2025-05-11/
LOCATION:Casino de spa
CATEGORIES:Casino
ATTACH;FMTTYPE=image/jpeg:https://www.casinodespa.be/wp-content/uploads/2024/02/777.off_20230701_CDS_Double-Sunday_FB_Event.jpg
END:VEVENT
BEGIN:VEVENT
DTSTART;TZID=Europe/Brussels:20250512T180000
DTEND;TZID=Europe/Brussels:20250512T180000
DTSTAMP:20260420T022034
CREATED:20240220T111415Z
LAST-MODIFIED:20250113T113612Z
UID:10000592-1747072800-1747072800@www.casinodespa.be
SUMMARY:Menu duo du lundi
DESCRIPTION:Chaque lundi au Casino de Spa à partir de 18h\, venez profiter de notre formule duo. \n1 plat au choix parmi 5 choix + dessert + 10€ de crédit de jeu pour 25€ seulement. \nChoix de plats : \n\n\nBurger Casino\nFish and chips\nFilet d’aloyau – sauce béarnaise\nCivet de marcassin avec croquettes\nPennes au poulet curry\n\nLaissez vous tenter ! 
URL:https://www.casinodespa.be/evenement/menu-duo-du-lundi/2025-05-12/
LOCATION:Le Grill
CATEGORIES:Casino,Restaurant
ATTACH;FMTTYPE=image/jpeg:https://www.casinodespa.be/wp-content/uploads/2024/02/777.off_CDS_Menu-Duo_Event.jpg
END:VEVENT
BEGIN:VEVENT
DTSTART;TZID=Europe/Brussels:20250513T180000
DTEND;TZID=Europe/Brussels:20250513T180000
DTSTAMP:20260420T022034
CREATED:20250113T144249Z
LAST-MODIFIED:20250113T144328Z
UID:10003016-1747159200-1747159200@www.casinodespa.be
SUMMARY:Circus Poker self-deal
DESCRIPTION:Mardi | Circus Poker self-deal\nPréparez votre meilleur poker face : le mardi\, c’est votre as dans la manche ! \nRendez-vous tous les mardis au Casino de Spa pour nos tournois de self-deal \nBuy-in : 30.00€ \nStacks : 40k \nBlind : 20 min \nBonne ambiance\, gros coups et fous rires garantis. On mélange\, on distribue\, et c’est parti pour une partie où chaque coup peut tout changer. Préparez vos meilleurs bluffs et venez mettre votre poker face à l’épreuve. Le mardi soir\, c’est votre main gagnante ! \n 
URL:https://www.casinodespa.be/evenement/circus-poker-self-deal/2025-05-13/
ATTACH;FMTTYPE=image/jpeg:https://www.casinodespa.be/wp-content/uploads/2025/01/FB_Events.jpg
END:VEVENT
BEGIN:VEVENT
DTSTART;TZID=Europe/Brussels:20250513T200000
DTEND;TZID=Europe/Brussels:20250513T235900
DTSTAMP:20260420T022034
CREATED:20240220T120254Z
LAST-MODIFIED:20240320T123547Z
UID:10000854-1747166400-1747180740@www.casinodespa.be
SUMMARY:Bingo 2.0
DESCRIPTION:525€ de cadeaux à gagner en jouant à notre Bingo 100% gratuit tous les mardis dès 20h! \n\nParticipez chaque mardi à nos 3 parties gratuites de Bingo et tentez de compléter vos grilles. \nCette année\, votre statut sera mis à l’honneur. Profitez de multiplicateurs de statuts pour nos deux dernières parties. \nFerez-vous partie de nos chanceux gagnants? \nRendez-vous tous les mardis à partir de 20h pour le savoir. \n\n 
URL:https://www.casinodespa.be/evenement/bingo-2-0/2025-05-13/
LOCATION:Casino de spa
CATEGORIES:Casino
ATTACH;FMTTYPE=image/jpeg:https://www.casinodespa.be/wp-content/uploads/2024/02/777.off_20231231_CDS_bingo-mardi-2.0_FB_Event.jpg
END:VEVENT
BEGIN:VEVENT
DTSTART;TZID=Europe/Brussels:20250514T200000
DTEND;TZID=Europe/Brussels:20250514T235900
DTSTAMP:20260420T022034
CREATED:20240220T120510Z
LAST-MODIFIED:20240320T102134Z
UID:10001116-1747252800-1747267140@www.casinodespa.be
SUMMARY:Ping-pong challenge
DESCRIPTION:Ping-pong challenge | Casino de Spa\nTous les mercredis à partir de 20h\, venez jouer au ping pong challenge! \nRécupérez votre ticket à la borne et venez le placer dans l’urne pour tenter de participer au lancé de roue. \n\nLancez la roue\nRécupérez un max de balles dans la souffleuse à balles\nGagnez un max de cadeaux
URL:https://www.casinodespa.be/evenement/ping-pong-challenge/2025-05-14/
LOCATION:Casino de spa
CATEGORIES:Casino
ATTACH;FMTTYPE=image/jpeg:https://www.casinodespa.be/wp-content/uploads/2024/02/Event.jpg
END:VEVENT
BEGIN:VEVENT
DTSTART;VALUE=DATE:20250515
DTEND;VALUE=DATE:20250516
DTSTAMP:20260420T022034
CREATED:20240220T120724Z
LAST-MODIFIED:20240320T102557Z
UID:10001377-1747267200-1747353599@www.casinodespa.be
SUMMARY:Happy Thursday
DESCRIPTION:Jouez avec votre S carte sur nos machines à sous et doublez automatiquement vos S points toute la journée ! \nC’est tous les jeudis au Casino de Spa !
URL:https://www.casinodespa.be/evenement/happy-thursday/2025-05-15/
LOCATION:Casino de spa
CATEGORIES:Casino
ATTACH;FMTTYPE=image/jpeg:https://www.casinodespa.be/wp-content/uploads/2024/02/FB_Event-1.jpg
END:VEVENT
BEGIN:VEVENT
DTSTART;TZID=Europe/Brussels:20250516T190000
DTEND;TZID=Europe/Brussels:20250516T233000
DTSTAMP:20260420T022034
CREATED:20241118T151059Z
LAST-MODIFIED:20250314T085134Z
UID:10002704-1747422000-1747438200@www.casinodespa.be
SUMMARY:Poker Family
DESCRIPTION:Tous les vendredis au Casino de Spa\, dès 19h00\, participez à notre tournoi self-deal organisé par le tout nouveau club de la région\, Poker Family.  Profitez du confort Casino tout en profitant d’un tournoi convivial et familial. \n*Buy-in : 40\,00€ \nStacks : 40.000 \nEarly bird : 5.000 \nRe-entry : 6 lvl \nBlind : 20 min \nRestez connectés et participez à nos différents rankings. De nombreux lots mis en jeu tout au long de l’année. \n*Sous réserve de changement \n  \nInscrivez-vous ici !
URL:https://www.casinodespa.be/evenement/poker-family-2/2025-05-16/
LOCATION:Casino de spa
CATEGORIES:Poker
ATTACH;FMTTYPE=image/jpeg:https://www.casinodespa.be/wp-content/uploads/2024/03/777.off_20230601_CDS_Visuel-Poker-Family-_FB_Events.jpg
END:VEVENT
BEGIN:VEVENT
DTSTART;TZID=Europe/Brussels:20250516T200000
DTEND;TZID=Europe/Brussels:20250516T233000
DTSTAMP:20260420T022034
CREATED:20240220T110815Z
LAST-MODIFIED:20240320T102410Z
UID:10000332-1747425600-1747438200@www.casinodespa.be
SUMMARY:Carte ou pas cap?
DESCRIPTION:Faites le plein de cadeaux ! \n\nTous les vendredi\, défiez les probabilités et tentez de terminer notre parcours de cartes pour remporter jusqu’à 160€. \nJe veux lire le règlement 
URL:https://www.casinodespa.be/evenement/carte-ou-pas-cap/2025-05-16/
LOCATION:Casino de spa
CATEGORIES:Casino
ATTACH;FMTTYPE=image/jpeg:https://www.casinodespa.be/wp-content/uploads/2024/02/FB_Event.jpg
END:VEVENT
BEGIN:VEVENT
DTSTART;TZID=Europe/Brussels:20250517T200000
DTEND;TZID=Europe/Brussels:20250517T235900
DTSTAMP:20260420T022034
CREATED:20240220T120830Z
LAST-MODIFIED:20240220T122959Z
UID:10001638-1747512000-1747526340@www.casinodespa.be
SUMMARY:Cash Game Gourmand
DESCRIPTION:Tous les samedis au Casino de Spa c’est le Cash game gourmand! \nJouez 4h minimum et recevez un repas au Grill du Casino*. \nMin 50€\nMax 500€\nBlinds 2-2 \n*voir conditions au Grill du Casino \n\nRéservation souhaitée au +32 497 19 89 65.
URL:https://www.casinodespa.be/evenement/cash-game-gourmand/2025-05-17/
LOCATION:Casino de spa
CATEGORIES:Casino,Poker
ATTACH;FMTTYPE=image/jpeg:https://www.casinodespa.be/wp-content/uploads/2024/02/FB_Event-2.jpg
END:VEVENT
BEGIN:VEVENT
DTSTART;TZID=Europe/Brussels:20250518T150000
DTEND;TZID=Europe/Brussels:20250518T230000
DTSTAMP:20260420T022034
CREATED:20240220T120955Z
LAST-MODIFIED:20240320T102749Z
UID:10001899-1747580400-1747609200@www.casinodespa.be
SUMMARY:Double Sunday
DESCRIPTION:Tous les dimanches\, le Casino de Spa vous gâte ! \n15h-17h: Passage de tartes dans les salons de jeu du Casino* \n18h-23h: Jouez 20€ et obtenez 2.000 S points supplémentaires. \nDans la limite des stocks disponibles. \nJe veux lire le règlement 
URL:https://www.casinodespa.be/evenement/double-sunday/2025-05-18/
LOCATION:Casino de spa
CATEGORIES:Casino
ATTACH;FMTTYPE=image/jpeg:https://www.casinodespa.be/wp-content/uploads/2024/02/777.off_20230701_CDS_Double-Sunday_FB_Event.jpg
END:VEVENT
BEGIN:VEVENT
DTSTART;TZID=Europe/Brussels:20250519T180000
DTEND;TZID=Europe/Brussels:20250519T180000
DTSTAMP:20260420T022034
CREATED:20240220T111415Z
LAST-MODIFIED:20250113T113612Z
UID:10000593-1747677600-1747677600@www.casinodespa.be
SUMMARY:Menu duo du lundi
DESCRIPTION:Chaque lundi au Casino de Spa à partir de 18h\, venez profiter de notre formule duo. \n1 plat au choix parmi 5 choix + dessert + 10€ de crédit de jeu pour 25€ seulement. \nChoix de plats : \n\n\nBurger Casino\nFish and chips\nFilet d’aloyau – sauce béarnaise\nCivet de marcassin avec croquettes\nPennes au poulet curry\n\nLaissez vous tenter ! 
URL:https://www.casinodespa.be/evenement/menu-duo-du-lundi/2025-05-19/
LOCATION:Le Grill
CATEGORIES:Casino,Restaurant
ATTACH;FMTTYPE=image/jpeg:https://www.casinodespa.be/wp-content/uploads/2024/02/777.off_CDS_Menu-Duo_Event.jpg
END:VEVENT
BEGIN:VEVENT
DTSTART;TZID=Europe/Brussels:20250520T180000
DTEND;TZID=Europe/Brussels:20250520T180000
DTSTAMP:20260420T022034
CREATED:20250113T144249Z
LAST-MODIFIED:20250113T144328Z
UID:10003017-1747764000-1747764000@www.casinodespa.be
SUMMARY:Circus Poker self-deal
DESCRIPTION:Mardi | Circus Poker self-deal\nPréparez votre meilleur poker face : le mardi\, c’est votre as dans la manche ! \nRendez-vous tous les mardis au Casino de Spa pour nos tournois de self-deal \nBuy-in : 30.00€ \nStacks : 40k \nBlind : 20 min \nBonne ambiance\, gros coups et fous rires garantis. On mélange\, on distribue\, et c’est parti pour une partie où chaque coup peut tout changer. Préparez vos meilleurs bluffs et venez mettre votre poker face à l’épreuve. Le mardi soir\, c’est votre main gagnante ! \n 
URL:https://www.casinodespa.be/evenement/circus-poker-self-deal/2025-05-20/
ATTACH;FMTTYPE=image/jpeg:https://www.casinodespa.be/wp-content/uploads/2025/01/FB_Events.jpg
END:VEVENT
BEGIN:VEVENT
DTSTART;TZID=Europe/Brussels:20250520T200000
DTEND;TZID=Europe/Brussels:20250520T235900
DTSTAMP:20260420T022034
CREATED:20240220T120254Z
LAST-MODIFIED:20240320T123547Z
UID:10000855-1747771200-1747785540@www.casinodespa.be
SUMMARY:Bingo 2.0
DESCRIPTION:525€ de cadeaux à gagner en jouant à notre Bingo 100% gratuit tous les mardis dès 20h! \n\nParticipez chaque mardi à nos 3 parties gratuites de Bingo et tentez de compléter vos grilles. \nCette année\, votre statut sera mis à l’honneur. Profitez de multiplicateurs de statuts pour nos deux dernières parties. \nFerez-vous partie de nos chanceux gagnants? \nRendez-vous tous les mardis à partir de 20h pour le savoir. \n\n 
URL:https://www.casinodespa.be/evenement/bingo-2-0/2025-05-20/
LOCATION:Casino de spa
CATEGORIES:Casino
ATTACH;FMTTYPE=image/jpeg:https://www.casinodespa.be/wp-content/uploads/2024/02/777.off_20231231_CDS_bingo-mardi-2.0_FB_Event.jpg
END:VEVENT
BEGIN:VEVENT
DTSTART;TZID=Europe/Brussels:20250521T200000
DTEND;TZID=Europe/Brussels:20250521T235900
DTSTAMP:20260420T022034
CREATED:20240220T120510Z
LAST-MODIFIED:20240320T102134Z
UID:10001117-1747857600-1747871940@www.casinodespa.be
SUMMARY:Ping-pong challenge
DESCRIPTION:Ping-pong challenge | Casino de Spa\nTous les mercredis à partir de 20h\, venez jouer au ping pong challenge! \nRécupérez votre ticket à la borne et venez le placer dans l’urne pour tenter de participer au lancé de roue. \n\nLancez la roue\nRécupérez un max de balles dans la souffleuse à balles\nGagnez un max de cadeaux
URL:https://www.casinodespa.be/evenement/ping-pong-challenge/2025-05-21/
LOCATION:Casino de spa
CATEGORIES:Casino
ATTACH;FMTTYPE=image/jpeg:https://www.casinodespa.be/wp-content/uploads/2024/02/Event.jpg
END:VEVENT
BEGIN:VEVENT
DTSTART;VALUE=DATE:20250522
DTEND;VALUE=DATE:20250523
DTSTAMP:20260420T022034
CREATED:20240220T120724Z
LAST-MODIFIED:20240320T102557Z
UID:10001378-1747872000-1747958399@www.casinodespa.be
SUMMARY:Happy Thursday
DESCRIPTION:Jouez avec votre S carte sur nos machines à sous et doublez automatiquement vos S points toute la journée ! \nC’est tous les jeudis au Casino de Spa !
URL:https://www.casinodespa.be/evenement/happy-thursday/2025-05-22/
LOCATION:Casino de spa
CATEGORIES:Casino
ATTACH;FMTTYPE=image/jpeg:https://www.casinodespa.be/wp-content/uploads/2024/02/FB_Event-1.jpg
END:VEVENT
BEGIN:VEVENT
DTSTART;TZID=Europe/Brussels:20250523T190000
DTEND;TZID=Europe/Brussels:20250523T233000
DTSTAMP:20260420T022034
CREATED:20241118T151059Z
LAST-MODIFIED:20250314T085134Z
UID:10002705-1748026800-1748043000@www.casinodespa.be
SUMMARY:Poker Family
DESCRIPTION:Tous les vendredis au Casino de Spa\, dès 19h00\, participez à notre tournoi self-deal organisé par le tout nouveau club de la région\, Poker Family.  Profitez du confort Casino tout en profitant d’un tournoi convivial et familial. \n*Buy-in : 40\,00€ \nStacks : 40.000 \nEarly bird : 5.000 \nRe-entry : 6 lvl \nBlind : 20 min \nRestez connectés et participez à nos différents rankings. De nombreux lots mis en jeu tout au long de l’année. \n*Sous réserve de changement \n  \nInscrivez-vous ici !
URL:https://www.casinodespa.be/evenement/poker-family-2/2025-05-23/
LOCATION:Casino de spa
CATEGORIES:Poker
ATTACH;FMTTYPE=image/jpeg:https://www.casinodespa.be/wp-content/uploads/2024/03/777.off_20230601_CDS_Visuel-Poker-Family-_FB_Events.jpg
END:VEVENT
END:VCALENDAR