BEGIN:VCALENDAR
VERSION:2.0
PRODID:-//Casino de Spa - ECPv6.15.17.1//NONSGML v1.0//EN
CALSCALE:GREGORIAN
METHOD:PUBLISH
X-WR-CALNAME:Casino de Spa
X-ORIGINAL-URL:https://www.casinodespa.be
X-WR-CALDESC:Évènements pour Casino de Spa
REFRESH-INTERVAL;VALUE=DURATION:PT1H
X-Robots-Tag:noindex
X-PUBLISHED-TTL:PT1H
BEGIN:VTIMEZONE
TZID:Europe/Brussels
BEGIN:DAYLIGHT
TZOFFSETFROM:+0100
TZOFFSETTO:+0200
TZNAME:CEST
DTSTART:20240331T010000
END:DAYLIGHT
BEGIN:STANDARD
TZOFFSETFROM:+0200
TZOFFSETTO:+0100
TZNAME:CET
DTSTART:20241027T010000
END:STANDARD
BEGIN:DAYLIGHT
TZOFFSETFROM:+0100
TZOFFSETTO:+0200
TZNAME:CEST
DTSTART:20250330T010000
END:DAYLIGHT
BEGIN:STANDARD
TZOFFSETFROM:+0200
TZOFFSETTO:+0100
TZNAME:CET
DTSTART:20251026T010000
END:STANDARD
BEGIN:DAYLIGHT
TZOFFSETFROM:+0100
TZOFFSETTO:+0200
TZNAME:CEST
DTSTART:20260329T010000
END:DAYLIGHT
BEGIN:STANDARD
TZOFFSETFROM:+0200
TZOFFSETTO:+0100
TZNAME:CET
DTSTART:20261025T010000
END:STANDARD
END:VTIMEZONE
BEGIN:VEVENT
DTSTART;TZID=Europe/Brussels:20250418T080000
DTEND;TZID=Europe/Brussels:20250612T170000
DTSTAMP:20260420T004505
CREATED:20250403T085719Z
LAST-MODIFIED:20250414T102629Z
UID:10003274-1744963200-1749747600@www.casinodespa.be
SUMMARY:Skillshot darts challenge
DESCRIPTION:Le Skillshot Darts Challenge\n\nLe Skillshot Darts Challenge\, votre tournoi de fléchette amateurs dans la région\, débarque dans vos bars préférés avec une finale majestueuse au Casino de Spa 🎯 \n\nÇa vous tente ? Inscrivez-vous par équipes de 2 joueurs pour la phase de qualifications dans l’un des bars partenaires. Affrontez les autres équipes au 501 sur machines électroniques et tentez de décrocher votre ticket pour la finale ! 🎟️ \n\nRendez-vous ensuite au Casino de Spa le 12 septembre avec un total de 5.000 € de prizepool pour les finalistes ! \n\n📅 Date des qualifications : du 18/04 au 12/06 – Consultez notre planning pour choisir votre bar préféré.\n📅 Date de la finale : 12 septembre au Casino de Spa\n📝 Inscriptions : Cliquez ici \n💶 Prix : 20 € par équipe d’inscription\, dont une boisson offerte par personne.\n\n  \nArriverez-vous à viser juste pour repartir avec le 1ᵉʳ prix ? Inscrivez-vous sans attendre. \n\nConditions de participation : avoir +21 ans & être éligible pour entrer dans un Casino belge. Carte d’identité obligatoire lors de l’inscription et lors de la finale. \n\nListe des bars partenaires et dates des qualifications : \n\n🎯 Space Malmedy – 18/04 à 19h\n🎯 Space Waremme – 25/04 à 19h\n🎯 Extra Time Battice – 23/0519h\n🎯 Tennis de Theux – 28/05 à 19h\n🎯 Space Lontzen – 1/06 à 14h\n🎯 BH Bar Pepinster – 6/06 à 19h\n🎯 Oddsbar Herstal -12/06 à 19h
URL:https://www.casinodespa.be/evenement/skillshot-darts-challenge/
LOCATION:Casino de spa
CATEGORIES:Casino,Salle Bergman
ATTACH;FMTTYPE=image/jpeg:https://www.casinodespa.be/wp-content/uploads/2025/04/777.off_2025061_CDS_Tournoi-fle╠uchette-2025-_FB_Event_agenda.jpg
END:VEVENT
BEGIN:VEVENT
DTSTART;TZID=Europe/Brussels:20250601T150000
DTEND;TZID=Europe/Brussels:20250601T230000
DTSTAMP:20260420T004505
CREATED:20240220T120955Z
LAST-MODIFIED:20240320T102749Z
UID:10001901-1748790000-1748818800@www.casinodespa.be
SUMMARY:Double Sunday
DESCRIPTION:Tous les dimanches\, le Casino de Spa vous gâte ! \n15h-17h: Passage de tartes dans les salons de jeu du Casino* \n18h-23h: Jouez 20€ et obtenez 2.000 S points supplémentaires. \nDans la limite des stocks disponibles. \nJe veux lire le règlement 
URL:https://www.casinodespa.be/evenement/double-sunday/2025-06-01/
LOCATION:Casino de spa
CATEGORIES:Casino
ATTACH;FMTTYPE=image/jpeg:https://www.casinodespa.be/wp-content/uploads/2024/02/777.off_20230701_CDS_Double-Sunday_FB_Event.jpg
END:VEVENT
BEGIN:VEVENT
DTSTART;TZID=Europe/Brussels:20250602T180000
DTEND;TZID=Europe/Brussels:20250602T180000
DTSTAMP:20260420T004505
CREATED:20240220T111415Z
LAST-MODIFIED:20250113T113612Z
UID:10000595-1748887200-1748887200@www.casinodespa.be
SUMMARY:Menu duo du lundi
DESCRIPTION:Chaque lundi au Casino de Spa à partir de 18h\, venez profiter de notre formule duo. \n1 plat au choix parmi 5 choix + dessert + 10€ de crédit de jeu pour 25€ seulement. \nChoix de plats : \n\n\nBurger Casino\nFish and chips\nFilet d’aloyau – sauce béarnaise\nCivet de marcassin avec croquettes\nPennes au poulet curry\n\nLaissez vous tenter ! 
URL:https://www.casinodespa.be/evenement/menu-duo-du-lundi/2025-06-02/
LOCATION:Le Grill
CATEGORIES:Casino,Restaurant
ATTACH;FMTTYPE=image/jpeg:https://www.casinodespa.be/wp-content/uploads/2024/02/777.off_CDS_Menu-Duo_Event.jpg
END:VEVENT
BEGIN:VEVENT
DTSTART;TZID=Europe/Brussels:20250603T180000
DTEND;TZID=Europe/Brussels:20250603T180000
DTSTAMP:20260420T004505
CREATED:20250113T144249Z
LAST-MODIFIED:20250113T144328Z
UID:10003019-1748973600-1748973600@www.casinodespa.be
SUMMARY:Circus Poker self-deal
DESCRIPTION:Mardi | Circus Poker self-deal\nPréparez votre meilleur poker face : le mardi\, c’est votre as dans la manche ! \nRendez-vous tous les mardis au Casino de Spa pour nos tournois de self-deal \nBuy-in : 30.00€ \nStacks : 40k \nBlind : 20 min \nBonne ambiance\, gros coups et fous rires garantis. On mélange\, on distribue\, et c’est parti pour une partie où chaque coup peut tout changer. Préparez vos meilleurs bluffs et venez mettre votre poker face à l’épreuve. Le mardi soir\, c’est votre main gagnante ! \n 
URL:https://www.casinodespa.be/evenement/circus-poker-self-deal/2025-06-03/
ATTACH;FMTTYPE=image/jpeg:https://www.casinodespa.be/wp-content/uploads/2025/01/FB_Events.jpg
END:VEVENT
BEGIN:VEVENT
DTSTART;TZID=Europe/Brussels:20250603T200000
DTEND;TZID=Europe/Brussels:20250603T235900
DTSTAMP:20260420T004505
CREATED:20240220T120254Z
LAST-MODIFIED:20240320T123547Z
UID:10000857-1748980800-1748995140@www.casinodespa.be
SUMMARY:Bingo 2.0
DESCRIPTION:525€ de cadeaux à gagner en jouant à notre Bingo 100% gratuit tous les mardis dès 20h! \n\nParticipez chaque mardi à nos 3 parties gratuites de Bingo et tentez de compléter vos grilles. \nCette année\, votre statut sera mis à l’honneur. Profitez de multiplicateurs de statuts pour nos deux dernières parties. \nFerez-vous partie de nos chanceux gagnants? \nRendez-vous tous les mardis à partir de 20h pour le savoir. \n\n 
URL:https://www.casinodespa.be/evenement/bingo-2-0/2025-06-03/
LOCATION:Casino de spa
CATEGORIES:Casino
ATTACH;FMTTYPE=image/jpeg:https://www.casinodespa.be/wp-content/uploads/2024/02/777.off_20231231_CDS_bingo-mardi-2.0_FB_Event.jpg
END:VEVENT
BEGIN:VEVENT
DTSTART;TZID=Europe/Brussels:20250604T200000
DTEND;TZID=Europe/Brussels:20250604T235900
DTSTAMP:20260420T004505
CREATED:20240220T120510Z
LAST-MODIFIED:20240320T102134Z
UID:10001119-1749067200-1749081540@www.casinodespa.be
SUMMARY:Ping-pong challenge
DESCRIPTION:Ping-pong challenge | Casino de Spa\nTous les mercredis à partir de 20h\, venez jouer au ping pong challenge! \nRécupérez votre ticket à la borne et venez le placer dans l’urne pour tenter de participer au lancé de roue. \n\nLancez la roue\nRécupérez un max de balles dans la souffleuse à balles\nGagnez un max de cadeaux
URL:https://www.casinodespa.be/evenement/ping-pong-challenge/2025-06-04/
LOCATION:Casino de spa
CATEGORIES:Casino
ATTACH;FMTTYPE=image/jpeg:https://www.casinodespa.be/wp-content/uploads/2024/02/Event.jpg
END:VEVENT
BEGIN:VEVENT
DTSTART;VALUE=DATE:20250605
DTEND;VALUE=DATE:20250606
DTSTAMP:20260420T004505
CREATED:20240220T120724Z
LAST-MODIFIED:20240320T102557Z
UID:10001380-1749081600-1749167999@www.casinodespa.be
SUMMARY:Happy Thursday
DESCRIPTION:Jouez avec votre S carte sur nos machines à sous et doublez automatiquement vos S points toute la journée ! \nC’est tous les jeudis au Casino de Spa !
URL:https://www.casinodespa.be/evenement/happy-thursday/2025-06-05/
LOCATION:Casino de spa
CATEGORIES:Casino
ATTACH;FMTTYPE=image/jpeg:https://www.casinodespa.be/wp-content/uploads/2024/02/FB_Event-1.jpg
END:VEVENT
BEGIN:VEVENT
DTSTART;TZID=Europe/Brussels:20250606T190000
DTEND;TZID=Europe/Brussels:20250606T233000
DTSTAMP:20260420T004505
CREATED:20241118T151059Z
LAST-MODIFIED:20250314T085134Z
UID:10002707-1749236400-1749252600@www.casinodespa.be
SUMMARY:Poker Family
DESCRIPTION:Tous les vendredis au Casino de Spa\, dès 19h00\, participez à notre tournoi self-deal organisé par le tout nouveau club de la région\, Poker Family.  Profitez du confort Casino tout en profitant d’un tournoi convivial et familial. \n*Buy-in : 40\,00€ \nStacks : 40.000 \nEarly bird : 5.000 \nRe-entry : 6 lvl \nBlind : 20 min \nRestez connectés et participez à nos différents rankings. De nombreux lots mis en jeu tout au long de l’année. \n*Sous réserve de changement \n  \nInscrivez-vous ici !
URL:https://www.casinodespa.be/evenement/poker-family-2/2025-06-06/
LOCATION:Casino de spa
CATEGORIES:Poker
ATTACH;FMTTYPE=image/jpeg:https://www.casinodespa.be/wp-content/uploads/2024/03/777.off_20230601_CDS_Visuel-Poker-Family-_FB_Events.jpg
END:VEVENT
BEGIN:VEVENT
DTSTART;TZID=Europe/Brussels:20250606T200000
DTEND;TZID=Europe/Brussels:20250606T233000
DTSTAMP:20260420T004505
CREATED:20240220T110815Z
LAST-MODIFIED:20240320T102410Z
UID:10000335-1749240000-1749252600@www.casinodespa.be
SUMMARY:Carte ou pas cap?
DESCRIPTION:Faites le plein de cadeaux ! \n\nTous les vendredi\, défiez les probabilités et tentez de terminer notre parcours de cartes pour remporter jusqu’à 160€. \nJe veux lire le règlement 
URL:https://www.casinodespa.be/evenement/carte-ou-pas-cap/2025-06-06/
LOCATION:Casino de spa
CATEGORIES:Casino
ATTACH;FMTTYPE=image/jpeg:https://www.casinodespa.be/wp-content/uploads/2024/02/FB_Event.jpg
END:VEVENT
BEGIN:VEVENT
DTSTART;TZID=Europe/Brussels:20250607T200000
DTEND;TZID=Europe/Brussels:20250607T235900
DTSTAMP:20260420T004505
CREATED:20240220T120830Z
LAST-MODIFIED:20240220T122959Z
UID:10001641-1749326400-1749340740@www.casinodespa.be
SUMMARY:Cash Game Gourmand
DESCRIPTION:Tous les samedis au Casino de Spa c’est le Cash game gourmand! \nJouez 4h minimum et recevez un repas au Grill du Casino*. \nMin 50€\nMax 500€\nBlinds 2-2 \n*voir conditions au Grill du Casino \n\nRéservation souhaitée au +32 497 19 89 65.
URL:https://www.casinodespa.be/evenement/cash-game-gourmand/2025-06-07/
LOCATION:Casino de spa
CATEGORIES:Casino,Poker
ATTACH;FMTTYPE=image/jpeg:https://www.casinodespa.be/wp-content/uploads/2024/02/FB_Event-2.jpg
END:VEVENT
BEGIN:VEVENT
DTSTART;TZID=Europe/Brussels:20250608T150000
DTEND;TZID=Europe/Brussels:20250608T230000
DTSTAMP:20260420T004505
CREATED:20240220T120955Z
LAST-MODIFIED:20240320T102749Z
UID:10001902-1749394800-1749423600@www.casinodespa.be
SUMMARY:Double Sunday
DESCRIPTION:Tous les dimanches\, le Casino de Spa vous gâte ! \n15h-17h: Passage de tartes dans les salons de jeu du Casino* \n18h-23h: Jouez 20€ et obtenez 2.000 S points supplémentaires. \nDans la limite des stocks disponibles. \nJe veux lire le règlement 
URL:https://www.casinodespa.be/evenement/double-sunday/2025-06-08/
LOCATION:Casino de spa
CATEGORIES:Casino
ATTACH;FMTTYPE=image/jpeg:https://www.casinodespa.be/wp-content/uploads/2024/02/777.off_20230701_CDS_Double-Sunday_FB_Event.jpg
END:VEVENT
BEGIN:VEVENT
DTSTART;TZID=Europe/Brussels:20250609T180000
DTEND;TZID=Europe/Brussels:20250609T180000
DTSTAMP:20260420T004505
CREATED:20240220T111415Z
LAST-MODIFIED:20250113T113612Z
UID:10000596-1749492000-1749492000@www.casinodespa.be
SUMMARY:Menu duo du lundi
DESCRIPTION:Chaque lundi au Casino de Spa à partir de 18h\, venez profiter de notre formule duo. \n1 plat au choix parmi 5 choix + dessert + 10€ de crédit de jeu pour 25€ seulement. \nChoix de plats : \n\n\nBurger Casino\nFish and chips\nFilet d’aloyau – sauce béarnaise\nCivet de marcassin avec croquettes\nPennes au poulet curry\n\nLaissez vous tenter ! 
URL:https://www.casinodespa.be/evenement/menu-duo-du-lundi/2025-06-09/
LOCATION:Le Grill
CATEGORIES:Casino,Restaurant
ATTACH;FMTTYPE=image/jpeg:https://www.casinodespa.be/wp-content/uploads/2024/02/777.off_CDS_Menu-Duo_Event.jpg
END:VEVENT
BEGIN:VEVENT
DTSTART;TZID=Europe/Brussels:20250610T180000
DTEND;TZID=Europe/Brussels:20250610T180000
DTSTAMP:20260420T004505
CREATED:20250113T144249Z
LAST-MODIFIED:20250113T144328Z
UID:10003020-1749578400-1749578400@www.casinodespa.be
SUMMARY:Circus Poker self-deal
DESCRIPTION:Mardi | Circus Poker self-deal\nPréparez votre meilleur poker face : le mardi\, c’est votre as dans la manche ! \nRendez-vous tous les mardis au Casino de Spa pour nos tournois de self-deal \nBuy-in : 30.00€ \nStacks : 40k \nBlind : 20 min \nBonne ambiance\, gros coups et fous rires garantis. On mélange\, on distribue\, et c’est parti pour une partie où chaque coup peut tout changer. Préparez vos meilleurs bluffs et venez mettre votre poker face à l’épreuve. Le mardi soir\, c’est votre main gagnante ! \n 
URL:https://www.casinodespa.be/evenement/circus-poker-self-deal/2025-06-10/
ATTACH;FMTTYPE=image/jpeg:https://www.casinodespa.be/wp-content/uploads/2025/01/FB_Events.jpg
END:VEVENT
BEGIN:VEVENT
DTSTART;TZID=Europe/Brussels:20250610T200000
DTEND;TZID=Europe/Brussels:20250610T235900
DTSTAMP:20260420T004505
CREATED:20240220T120254Z
LAST-MODIFIED:20240320T123547Z
UID:10000858-1749585600-1749599940@www.casinodespa.be
SUMMARY:Bingo 2.0
DESCRIPTION:525€ de cadeaux à gagner en jouant à notre Bingo 100% gratuit tous les mardis dès 20h! \n\nParticipez chaque mardi à nos 3 parties gratuites de Bingo et tentez de compléter vos grilles. \nCette année\, votre statut sera mis à l’honneur. Profitez de multiplicateurs de statuts pour nos deux dernières parties. \nFerez-vous partie de nos chanceux gagnants? \nRendez-vous tous les mardis à partir de 20h pour le savoir. \n\n 
URL:https://www.casinodespa.be/evenement/bingo-2-0/2025-06-10/
LOCATION:Casino de spa
CATEGORIES:Casino
ATTACH;FMTTYPE=image/jpeg:https://www.casinodespa.be/wp-content/uploads/2024/02/777.off_20231231_CDS_bingo-mardi-2.0_FB_Event.jpg
END:VEVENT
BEGIN:VEVENT
DTSTART;TZID=Europe/Brussels:20250611T200000
DTEND;TZID=Europe/Brussels:20250611T235900
DTSTAMP:20260420T004505
CREATED:20240220T120510Z
LAST-MODIFIED:20240320T102134Z
UID:10001120-1749672000-1749686340@www.casinodespa.be
SUMMARY:Ping-pong challenge
DESCRIPTION:Ping-pong challenge | Casino de Spa\nTous les mercredis à partir de 20h\, venez jouer au ping pong challenge! \nRécupérez votre ticket à la borne et venez le placer dans l’urne pour tenter de participer au lancé de roue. \n\nLancez la roue\nRécupérez un max de balles dans la souffleuse à balles\nGagnez un max de cadeaux
URL:https://www.casinodespa.be/evenement/ping-pong-challenge/2025-06-11/
LOCATION:Casino de spa
CATEGORIES:Casino
ATTACH;FMTTYPE=image/jpeg:https://www.casinodespa.be/wp-content/uploads/2024/02/Event.jpg
END:VEVENT
BEGIN:VEVENT
DTSTART;VALUE=DATE:20250612
DTEND;VALUE=DATE:20250613
DTSTAMP:20260420T004505
CREATED:20240220T120724Z
LAST-MODIFIED:20240320T102557Z
UID:10001381-1749686400-1749772799@www.casinodespa.be
SUMMARY:Happy Thursday
DESCRIPTION:Jouez avec votre S carte sur nos machines à sous et doublez automatiquement vos S points toute la journée ! \nC’est tous les jeudis au Casino de Spa !
URL:https://www.casinodespa.be/evenement/happy-thursday/2025-06-12/
LOCATION:Casino de spa
CATEGORIES:Casino
ATTACH;FMTTYPE=image/jpeg:https://www.casinodespa.be/wp-content/uploads/2024/02/FB_Event-1.jpg
END:VEVENT
BEGIN:VEVENT
DTSTART;TZID=Europe/Brussels:20250613T160000
DTEND;TZID=Europe/Brussels:20250615T000000
DTSTAMP:20260420T004505
CREATED:20250314T085614Z
LAST-MODIFIED:20250314T093026Z
UID:10003273-1749830400-1749945600@www.casinodespa.be
SUMMARY:Lucky Festival Poker
DESCRIPTION:🎉 Lucky Festival – Le Poker sous une bonne étoile ! 🌟♠️\n🔮 Vendredi 13 approche… et la chance est peut-être de ton côté ! Rejoins-nous du 13 au 15 juin pour un week-end épique au Casino de Spa\, où les cartes et le destin s’alignent pour un festival inoubliable ! \n🃏 Tournoi phare : Mystery Bounty !💰 225€ Buy-in – 70K Chips – 40 min niveaux🎁 Des primes mystères qui peuvent changer ta soirée en un claquement de jeton ! \n  \n🔥 Autres événements à ne pas manquer :🔹 Samedi 14/06 à 19h : Freezout – 130€🔹 Dimanche 15/06 à 16h : Big KO – 130€ \n  \n💡 Pourquoi tenter ta chance ?✅ Re-entry illimités pour le Mystery Bounty✅ Bonus 7K pour les inscriptions en ligne 📲✅ Ambiance de folie et adrénaline garantie \n🎟️ Inscris-toi maintenant sur www.circus-poker.com et viens défier le destin !
URL:https://www.casinodespa.be/evenement/lucky-festival-poker-2/
CATEGORIES:Poker
ATTACH;FMTTYPE=image/jpeg:https://www.casinodespa.be/wp-content/uploads/2025/03/777.off_20240912_CDS_Lucky-Festival-_Vignette-Site_Circus-poker_600x420.jpg
END:VEVENT
BEGIN:VEVENT
DTSTART;TZID=Europe/Brussels:20250613T200000
DTEND;TZID=Europe/Brussels:20250613T200000
DTSTAMP:20260420T004505
CREATED:20250314T084826Z
LAST-MODIFIED:20250314T084954Z
UID:10003263-1749844800-1749844800@www.casinodespa.be
SUMMARY:Vendredi 13
DESCRIPTION:Vendredi 13 – La chance vous attend ! 🍀\n  \nCette année\, l’unique vendredi 13 tombe en juin. Ne le manquez pas ! Comme toujours au Casino de Spa\, cette journée particulière est l’occasion de donner un coup de boost à votre bonne étoile avec nos différentes actions :\n  \n🎭 Carte ou pas cap Lucky – Osez relever le défi ! Ce soir-là\, les montants du parcours seront multipliés par 13\, pour 13 participants\n🥩 13% de réduction au Grill du Casino – Superstitieux ou non\, ici\, tout le monde est gagnant\, même à table !\n🎲 Récupérez 100% de votre addition si vous faites 13 aux dés – Un seul lancer peut tout changer et vous offrir votre repas !\n✨ Une Mystery vous attend pour faire gagner 13 fois 130 €\n🍹 Cocktail du jour – Nos barmans ont concocté une création spéciale ce vendredi 13\, aux couleurs de la chance\n  \nLe 13 juin au Casino de Spa\, la fortune vous sourira peut-être…
URL:https://www.casinodespa.be/evenement/vendredi-13-2/
LOCATION:Casino de spa
CATEGORIES:Casino
ATTACH;FMTTYPE=image/jpeg:https://www.casinodespa.be/wp-content/uploads/2025/03/777.off_20250613_CDS_Vendredi-13-2025-_FB_Event_agenda.jpg
END:VEVENT
BEGIN:VEVENT
DTSTART;TZID=Europe/Brussels:20250613T200000
DTEND;TZID=Europe/Brussels:20250613T233000
DTSTAMP:20260420T004505
CREATED:20240220T110815Z
LAST-MODIFIED:20240320T102410Z
UID:10000336-1749844800-1749857400@www.casinodespa.be
SUMMARY:Carte ou pas cap?
DESCRIPTION:Faites le plein de cadeaux ! \n\nTous les vendredi\, défiez les probabilités et tentez de terminer notre parcours de cartes pour remporter jusqu’à 160€. \nJe veux lire le règlement 
URL:https://www.casinodespa.be/evenement/carte-ou-pas-cap/2025-06-13/
LOCATION:Casino de spa
CATEGORIES:Casino
ATTACH;FMTTYPE=image/jpeg:https://www.casinodespa.be/wp-content/uploads/2024/02/FB_Event.jpg
END:VEVENT
BEGIN:VEVENT
DTSTART;TZID=Europe/Brussels:20250614T200000
DTEND;TZID=Europe/Brussels:20250614T235900
DTSTAMP:20260420T004505
CREATED:20240220T120830Z
LAST-MODIFIED:20240220T122959Z
UID:10001642-1749931200-1749945540@www.casinodespa.be
SUMMARY:Cash Game Gourmand
DESCRIPTION:Tous les samedis au Casino de Spa c’est le Cash game gourmand! \nJouez 4h minimum et recevez un repas au Grill du Casino*. \nMin 50€\nMax 500€\nBlinds 2-2 \n*voir conditions au Grill du Casino \n\nRéservation souhaitée au +32 497 19 89 65.
URL:https://www.casinodespa.be/evenement/cash-game-gourmand/2025-06-14/
LOCATION:Casino de spa
CATEGORIES:Casino,Poker
ATTACH;FMTTYPE=image/jpeg:https://www.casinodespa.be/wp-content/uploads/2024/02/FB_Event-2.jpg
END:VEVENT
BEGIN:VEVENT
DTSTART;TZID=Europe/Brussels:20250615T150000
DTEND;TZID=Europe/Brussels:20250615T230000
DTSTAMP:20260420T004505
CREATED:20240220T120955Z
LAST-MODIFIED:20240320T102749Z
UID:10001903-1749999600-1750028400@www.casinodespa.be
SUMMARY:Double Sunday
DESCRIPTION:Tous les dimanches\, le Casino de Spa vous gâte ! \n15h-17h: Passage de tartes dans les salons de jeu du Casino* \n18h-23h: Jouez 20€ et obtenez 2.000 S points supplémentaires. \nDans la limite des stocks disponibles. \nJe veux lire le règlement 
URL:https://www.casinodespa.be/evenement/double-sunday/2025-06-15/
LOCATION:Casino de spa
CATEGORIES:Casino
ATTACH;FMTTYPE=image/jpeg:https://www.casinodespa.be/wp-content/uploads/2024/02/777.off_20230701_CDS_Double-Sunday_FB_Event.jpg
END:VEVENT
BEGIN:VEVENT
DTSTART;TZID=Europe/Brussels:20250616T180000
DTEND;TZID=Europe/Brussels:20250616T180000
DTSTAMP:20260420T004505
CREATED:20240220T111415Z
LAST-MODIFIED:20250113T113612Z
UID:10000597-1750096800-1750096800@www.casinodespa.be
SUMMARY:Menu duo du lundi
DESCRIPTION:Chaque lundi au Casino de Spa à partir de 18h\, venez profiter de notre formule duo. \n1 plat au choix parmi 5 choix + dessert + 10€ de crédit de jeu pour 25€ seulement. \nChoix de plats : \n\n\nBurger Casino\nFish and chips\nFilet d’aloyau – sauce béarnaise\nCivet de marcassin avec croquettes\nPennes au poulet curry\n\nLaissez vous tenter ! 
URL:https://www.casinodespa.be/evenement/menu-duo-du-lundi/2025-06-16/
LOCATION:Le Grill
CATEGORIES:Casino,Restaurant
ATTACH;FMTTYPE=image/jpeg:https://www.casinodespa.be/wp-content/uploads/2024/02/777.off_CDS_Menu-Duo_Event.jpg
END:VEVENT
BEGIN:VEVENT
DTSTART;TZID=Europe/Brussels:20250617T180000
DTEND;TZID=Europe/Brussels:20250617T180000
DTSTAMP:20260420T004505
CREATED:20250113T144249Z
LAST-MODIFIED:20250113T144328Z
UID:10003021-1750183200-1750183200@www.casinodespa.be
SUMMARY:Circus Poker self-deal
DESCRIPTION:Mardi | Circus Poker self-deal\nPréparez votre meilleur poker face : le mardi\, c’est votre as dans la manche ! \nRendez-vous tous les mardis au Casino de Spa pour nos tournois de self-deal \nBuy-in : 30.00€ \nStacks : 40k \nBlind : 20 min \nBonne ambiance\, gros coups et fous rires garantis. On mélange\, on distribue\, et c’est parti pour une partie où chaque coup peut tout changer. Préparez vos meilleurs bluffs et venez mettre votre poker face à l’épreuve. Le mardi soir\, c’est votre main gagnante ! \n 
URL:https://www.casinodespa.be/evenement/circus-poker-self-deal/2025-06-17/
ATTACH;FMTTYPE=image/jpeg:https://www.casinodespa.be/wp-content/uploads/2025/01/FB_Events.jpg
END:VEVENT
BEGIN:VEVENT
DTSTART;TZID=Europe/Brussels:20250617T200000
DTEND;TZID=Europe/Brussels:20250617T235900
DTSTAMP:20260420T004505
CREATED:20240220T120254Z
LAST-MODIFIED:20240320T123547Z
UID:10000859-1750190400-1750204740@www.casinodespa.be
SUMMARY:Bingo 2.0
DESCRIPTION:525€ de cadeaux à gagner en jouant à notre Bingo 100% gratuit tous les mardis dès 20h! \n\nParticipez chaque mardi à nos 3 parties gratuites de Bingo et tentez de compléter vos grilles. \nCette année\, votre statut sera mis à l’honneur. Profitez de multiplicateurs de statuts pour nos deux dernières parties. \nFerez-vous partie de nos chanceux gagnants? \nRendez-vous tous les mardis à partir de 20h pour le savoir. \n\n 
URL:https://www.casinodespa.be/evenement/bingo-2-0/2025-06-17/
LOCATION:Casino de spa
CATEGORIES:Casino
ATTACH;FMTTYPE=image/jpeg:https://www.casinodespa.be/wp-content/uploads/2024/02/777.off_20231231_CDS_bingo-mardi-2.0_FB_Event.jpg
END:VEVENT
BEGIN:VEVENT
DTSTART;TZID=Europe/Brussels:20250618T200000
DTEND;TZID=Europe/Brussels:20250618T235900
DTSTAMP:20260420T004505
CREATED:20240220T120510Z
LAST-MODIFIED:20240320T102134Z
UID:10001121-1750276800-1750291140@www.casinodespa.be
SUMMARY:Ping-pong challenge
DESCRIPTION:Ping-pong challenge | Casino de Spa\nTous les mercredis à partir de 20h\, venez jouer au ping pong challenge! \nRécupérez votre ticket à la borne et venez le placer dans l’urne pour tenter de participer au lancé de roue. \n\nLancez la roue\nRécupérez un max de balles dans la souffleuse à balles\nGagnez un max de cadeaux
URL:https://www.casinodespa.be/evenement/ping-pong-challenge/2025-06-18/
LOCATION:Casino de spa
CATEGORIES:Casino
ATTACH;FMTTYPE=image/jpeg:https://www.casinodespa.be/wp-content/uploads/2024/02/Event.jpg
END:VEVENT
BEGIN:VEVENT
DTSTART;VALUE=DATE:20250619
DTEND;VALUE=DATE:20250620
DTSTAMP:20260420T004505
CREATED:20240220T120724Z
LAST-MODIFIED:20240320T102557Z
UID:10001382-1750291200-1750377599@www.casinodespa.be
SUMMARY:Happy Thursday
DESCRIPTION:Jouez avec votre S carte sur nos machines à sous et doublez automatiquement vos S points toute la journée ! \nC’est tous les jeudis au Casino de Spa !
URL:https://www.casinodespa.be/evenement/happy-thursday/2025-06-19/
LOCATION:Casino de spa
CATEGORIES:Casino
ATTACH;FMTTYPE=image/jpeg:https://www.casinodespa.be/wp-content/uploads/2024/02/FB_Event-1.jpg
END:VEVENT
BEGIN:VEVENT
DTSTART;TZID=Europe/Brussels:20250620T190000
DTEND;TZID=Europe/Brussels:20250620T233000
DTSTAMP:20260420T004505
CREATED:20241118T151059Z
LAST-MODIFIED:20250314T085134Z
UID:10002709-1750446000-1750462200@www.casinodespa.be
SUMMARY:Poker Family
DESCRIPTION:Tous les vendredis au Casino de Spa\, dès 19h00\, participez à notre tournoi self-deal organisé par le tout nouveau club de la région\, Poker Family.  Profitez du confort Casino tout en profitant d’un tournoi convivial et familial. \n*Buy-in : 40\,00€ \nStacks : 40.000 \nEarly bird : 5.000 \nRe-entry : 6 lvl \nBlind : 20 min \nRestez connectés et participez à nos différents rankings. De nombreux lots mis en jeu tout au long de l’année. \n*Sous réserve de changement \n  \nInscrivez-vous ici !
URL:https://www.casinodespa.be/evenement/poker-family-2/2025-06-20/
LOCATION:Casino de spa
CATEGORIES:Poker
ATTACH;FMTTYPE=image/jpeg:https://www.casinodespa.be/wp-content/uploads/2024/03/777.off_20230601_CDS_Visuel-Poker-Family-_FB_Events.jpg
END:VEVENT
BEGIN:VEVENT
DTSTART;TZID=Europe/Brussels:20250620T200000
DTEND;TZID=Europe/Brussels:20250620T233000
DTSTAMP:20260420T004505
CREATED:20240220T110815Z
LAST-MODIFIED:20240320T102410Z
UID:10000337-1750449600-1750462200@www.casinodespa.be
SUMMARY:Carte ou pas cap?
DESCRIPTION:Faites le plein de cadeaux ! \n\nTous les vendredi\, défiez les probabilités et tentez de terminer notre parcours de cartes pour remporter jusqu’à 160€. \nJe veux lire le règlement 
URL:https://www.casinodespa.be/evenement/carte-ou-pas-cap/2025-06-20/
LOCATION:Casino de spa
CATEGORIES:Casino
ATTACH;FMTTYPE=image/jpeg:https://www.casinodespa.be/wp-content/uploads/2024/02/FB_Event.jpg
END:VEVENT
BEGIN:VEVENT
DTSTART;TZID=Europe/Brussels:20250621T200000
DTEND;TZID=Europe/Brussels:20250621T235900
DTSTAMP:20260420T004505
CREATED:20240220T120830Z
LAST-MODIFIED:20240220T122959Z
UID:10001643-1750536000-1750550340@www.casinodespa.be
SUMMARY:Cash Game Gourmand
DESCRIPTION:Tous les samedis au Casino de Spa c’est le Cash game gourmand! \nJouez 4h minimum et recevez un repas au Grill du Casino*. \nMin 50€\nMax 500€\nBlinds 2-2 \n*voir conditions au Grill du Casino \n\nRéservation souhaitée au +32 497 19 89 65.
URL:https://www.casinodespa.be/evenement/cash-game-gourmand/2025-06-21/
LOCATION:Casino de spa
CATEGORIES:Casino,Poker
ATTACH;FMTTYPE=image/jpeg:https://www.casinodespa.be/wp-content/uploads/2024/02/FB_Event-2.jpg
END:VEVENT
BEGIN:VEVENT
DTSTART;TZID=Europe/Brussels:20250622T150000
DTEND;TZID=Europe/Brussels:20250622T230000
DTSTAMP:20260420T004505
CREATED:20240220T120955Z
LAST-MODIFIED:20240320T102749Z
UID:10001904-1750604400-1750633200@www.casinodespa.be
SUMMARY:Double Sunday
DESCRIPTION:Tous les dimanches\, le Casino de Spa vous gâte ! \n15h-17h: Passage de tartes dans les salons de jeu du Casino* \n18h-23h: Jouez 20€ et obtenez 2.000 S points supplémentaires. \nDans la limite des stocks disponibles. \nJe veux lire le règlement 
URL:https://www.casinodespa.be/evenement/double-sunday/2025-06-22/
LOCATION:Casino de spa
CATEGORIES:Casino
ATTACH;FMTTYPE=image/jpeg:https://www.casinodespa.be/wp-content/uploads/2024/02/777.off_20230701_CDS_Double-Sunday_FB_Event.jpg
END:VEVENT
END:VCALENDAR