BEGIN:VCALENDAR
VERSION:2.0
PRODID:-//Casino de Spa - ECPv6.15.17.1//NONSGML v1.0//EN
CALSCALE:GREGORIAN
METHOD:PUBLISH
X-ORIGINAL-URL:https://www.casinodespa.be
X-WR-CALDESC:Évènements pour Casino de Spa
REFRESH-INTERVAL;VALUE=DURATION:PT1H
X-Robots-Tag:noindex
X-PUBLISHED-TTL:PT1H
BEGIN:VTIMEZONE
TZID:Europe/Brussels
BEGIN:DAYLIGHT
TZOFFSETFROM:+0100
TZOFFSETTO:+0200
TZNAME:CEST
DTSTART:20240331T010000
END:DAYLIGHT
BEGIN:STANDARD
TZOFFSETFROM:+0200
TZOFFSETTO:+0100
TZNAME:CET
DTSTART:20241027T010000
END:STANDARD
BEGIN:DAYLIGHT
TZOFFSETFROM:+0100
TZOFFSETTO:+0200
TZNAME:CEST
DTSTART:20250330T010000
END:DAYLIGHT
BEGIN:STANDARD
TZOFFSETFROM:+0200
TZOFFSETTO:+0100
TZNAME:CET
DTSTART:20251026T010000
END:STANDARD
BEGIN:DAYLIGHT
TZOFFSETFROM:+0100
TZOFFSETTO:+0200
TZNAME:CEST
DTSTART:20260329T010000
END:DAYLIGHT
BEGIN:STANDARD
TZOFFSETFROM:+0200
TZOFFSETTO:+0100
TZNAME:CET
DTSTART:20261025T010000
END:STANDARD
END:VTIMEZONE
BEGIN:VEVENT
DTSTART;TZID=Europe/Brussels:20250901T180000
DTEND;TZID=Europe/Brussels:20250901T180000
DTSTAMP:20260419T194035
CREATED:20240220T111415Z
LAST-MODIFIED:20250113T113612Z
UID:10000608-1756749600-1756749600@www.casinodespa.be
SUMMARY:Menu duo du lundi
DESCRIPTION:Chaque lundi au Casino de Spa à partir de 18h\, venez profiter de notre formule duo. \n1 plat au choix parmi 5 choix + dessert + 10€ de crédit de jeu pour 25€ seulement. \nChoix de plats : \n\n\nBurger Casino\nFish and chips\nFilet d’aloyau – sauce béarnaise\nCivet de marcassin avec croquettes\nPennes au poulet curry\n\nLaissez vous tenter ! 
URL:https://www.casinodespa.be/evenement/menu-duo-du-lundi/2025-09-01/
LOCATION:Le Grill
CATEGORIES:Casino,Restaurant
ATTACH;FMTTYPE=image/jpeg:https://www.casinodespa.be/wp-content/uploads/2024/02/777.off_CDS_Menu-Duo_Event.jpg
END:VEVENT
BEGIN:VEVENT
DTSTART;TZID=Europe/Brussels:20250902T180000
DTEND;TZID=Europe/Brussels:20250902T180000
DTSTAMP:20260419T194035
CREATED:20250113T144249Z
LAST-MODIFIED:20250113T144328Z
UID:10003032-1756836000-1756836000@www.casinodespa.be
SUMMARY:Circus Poker self-deal
DESCRIPTION:Mardi | Circus Poker self-deal\nPréparez votre meilleur poker face : le mardi\, c’est votre as dans la manche ! \nRendez-vous tous les mardis au Casino de Spa pour nos tournois de self-deal \nBuy-in : 30.00€ \nStacks : 40k \nBlind : 20 min \nBonne ambiance\, gros coups et fous rires garantis. On mélange\, on distribue\, et c’est parti pour une partie où chaque coup peut tout changer. Préparez vos meilleurs bluffs et venez mettre votre poker face à l’épreuve. Le mardi soir\, c’est votre main gagnante ! \n 
URL:https://www.casinodespa.be/evenement/circus-poker-self-deal/2025-09-02/
ATTACH;FMTTYPE=image/jpeg:https://www.casinodespa.be/wp-content/uploads/2025/01/FB_Events.jpg
END:VEVENT
BEGIN:VEVENT
DTSTART;TZID=Europe/Brussels:20250902T200000
DTEND;TZID=Europe/Brussels:20250902T235900
DTSTAMP:20260419T194035
CREATED:20240220T120254Z
LAST-MODIFIED:20240320T123547Z
UID:10000870-1756843200-1756857540@www.casinodespa.be
SUMMARY:Bingo 2.0
DESCRIPTION:525€ de cadeaux à gagner en jouant à notre Bingo 100% gratuit tous les mardis dès 20h! \n\nParticipez chaque mardi à nos 3 parties gratuites de Bingo et tentez de compléter vos grilles. \nCette année\, votre statut sera mis à l’honneur. Profitez de multiplicateurs de statuts pour nos deux dernières parties. \nFerez-vous partie de nos chanceux gagnants? \nRendez-vous tous les mardis à partir de 20h pour le savoir. \n\n 
URL:https://www.casinodespa.be/evenement/bingo-2-0/2025-09-02/
LOCATION:Casino de spa
CATEGORIES:Casino
ATTACH;FMTTYPE=image/jpeg:https://www.casinodespa.be/wp-content/uploads/2024/02/777.off_20231231_CDS_bingo-mardi-2.0_FB_Event.jpg
END:VEVENT
BEGIN:VEVENT
DTSTART;TZID=Europe/Brussels:20250903T200000
DTEND;TZID=Europe/Brussels:20250903T235900
DTSTAMP:20260419T194035
CREATED:20240220T120510Z
LAST-MODIFIED:20240320T102134Z
UID:10001132-1756929600-1756943940@www.casinodespa.be
SUMMARY:Ping-pong challenge
DESCRIPTION:Ping-pong challenge | Casino de Spa\nTous les mercredis à partir de 20h\, venez jouer au ping pong challenge! \nRécupérez votre ticket à la borne et venez le placer dans l’urne pour tenter de participer au lancé de roue. \n\nLancez la roue\nRécupérez un max de balles dans la souffleuse à balles\nGagnez un max de cadeaux
URL:https://www.casinodespa.be/evenement/ping-pong-challenge/2025-09-03/
LOCATION:Casino de spa
CATEGORIES:Casino
ATTACH;FMTTYPE=image/jpeg:https://www.casinodespa.be/wp-content/uploads/2024/02/Event.jpg
END:VEVENT
BEGIN:VEVENT
DTSTART;VALUE=DATE:20250904
DTEND;VALUE=DATE:20250905
DTSTAMP:20260419T194035
CREATED:20240220T120724Z
LAST-MODIFIED:20240320T102557Z
UID:10001393-1756944000-1757030399@www.casinodespa.be
SUMMARY:Happy Thursday
DESCRIPTION:Jouez avec votre S carte sur nos machines à sous et doublez automatiquement vos S points toute la journée ! \nC’est tous les jeudis au Casino de Spa !
URL:https://www.casinodespa.be/evenement/happy-thursday/2025-09-04/
LOCATION:Casino de spa
CATEGORIES:Casino
ATTACH;FMTTYPE=image/jpeg:https://www.casinodespa.be/wp-content/uploads/2024/02/FB_Event-1.jpg
END:VEVENT
BEGIN:VEVENT
DTSTART;TZID=Europe/Brussels:20250905T190000
DTEND;TZID=Europe/Brussels:20250905T233000
DTSTAMP:20260419T194035
CREATED:20241118T151059Z
LAST-MODIFIED:20250314T085134Z
UID:10002720-1757098800-1757115000@www.casinodespa.be
SUMMARY:Poker Family
DESCRIPTION:Tous les vendredis au Casino de Spa\, dès 19h00\, participez à notre tournoi self-deal organisé par le tout nouveau club de la région\, Poker Family.  Profitez du confort Casino tout en profitant d’un tournoi convivial et familial. \n*Buy-in : 40\,00€ \nStacks : 40.000 \nEarly bird : 5.000 \nRe-entry : 6 lvl \nBlind : 20 min \nRestez connectés et participez à nos différents rankings. De nombreux lots mis en jeu tout au long de l’année. \n*Sous réserve de changement \n  \nInscrivez-vous ici !
URL:https://www.casinodespa.be/evenement/poker-family-2/2025-09-05/
LOCATION:Casino de spa
CATEGORIES:Poker
ATTACH;FMTTYPE=image/jpeg:https://www.casinodespa.be/wp-content/uploads/2024/03/777.off_20230601_CDS_Visuel-Poker-Family-_FB_Events.jpg
END:VEVENT
BEGIN:VEVENT
DTSTART;TZID=Europe/Brussels:20250905T190000
DTEND;TZID=Europe/Brussels:20250905T233000
DTSTAMP:20260419T194035
CREATED:20250723T150010Z
LAST-MODIFIED:20250723T150011Z
UID:10003279-1757098800-1757115000@www.casinodespa.be
SUMMARY:Soirée paella
DESCRIPTION:À Spa\, l’été n’est pas encore terminé. Rendez-vous ce 5 septembre sur la terrasse du Grill du Casino pour une soirée ensoleillée aux accents hispaniques !\n  \n🥘 Paella géante en plein air\n🎶 Concert live aux rythmes espagnols\n🍷 Sangria à l’honneur\n  \nTarifs* :\n• 30 €* – repas & concert\n• 35 €* – repas\, concert & 10 € de jeu payé inclus\n1 sangria offerte avec chaque formule\n  \n📍 Lieu : Terrasse du Grill du Casino\n📅 Date : Vendredi 5 septembre dès 19h\n\n*boissons non comprises
URL:https://www.casinodespa.be/evenement/soiree-paella/
LOCATION:Le Grill
CATEGORIES:Restaurant
ATTACH;FMTTYPE=image/jpeg:https://www.casinodespa.be/wp-content/uploads/2025/07/777.off_20250905_CDS_Soire╠ue-Paella-_FB_Event_agenda.jpg
END:VEVENT
BEGIN:VEVENT
DTSTART;TZID=Europe/Brussels:20250905T200000
DTEND;TZID=Europe/Brussels:20250905T233000
DTSTAMP:20260419T194035
CREATED:20240220T110815Z
LAST-MODIFIED:20240320T102410Z
UID:10000348-1757102400-1757115000@www.casinodespa.be
SUMMARY:Carte ou pas cap?
DESCRIPTION:Faites le plein de cadeaux ! \n\nTous les vendredi\, défiez les probabilités et tentez de terminer notre parcours de cartes pour remporter jusqu’à 160€. \nJe veux lire le règlement 
URL:https://www.casinodespa.be/evenement/carte-ou-pas-cap/2025-09-05/
LOCATION:Casino de spa
CATEGORIES:Casino
ATTACH;FMTTYPE=image/jpeg:https://www.casinodespa.be/wp-content/uploads/2024/02/FB_Event.jpg
END:VEVENT
BEGIN:VEVENT
DTSTART;TZID=Europe/Brussels:20250906T200000
DTEND;TZID=Europe/Brussels:20250906T235900
DTSTAMP:20260419T194035
CREATED:20240220T120830Z
LAST-MODIFIED:20240220T122959Z
UID:10001654-1757188800-1757203140@www.casinodespa.be
SUMMARY:Cash Game Gourmand
DESCRIPTION:Tous les samedis au Casino de Spa c’est le Cash game gourmand! \nJouez 4h minimum et recevez un repas au Grill du Casino*. \nMin 50€\nMax 500€\nBlinds 2-2 \n*voir conditions au Grill du Casino \n\nRéservation souhaitée au +32 497 19 89 65.
URL:https://www.casinodespa.be/evenement/cash-game-gourmand/2025-09-06/
LOCATION:Casino de spa
CATEGORIES:Casino,Poker
ATTACH;FMTTYPE=image/jpeg:https://www.casinodespa.be/wp-content/uploads/2024/02/FB_Event-2.jpg
END:VEVENT
BEGIN:VEVENT
DTSTART;TZID=Europe/Brussels:20250907T150000
DTEND;TZID=Europe/Brussels:20250907T230000
DTSTAMP:20260419T194035
CREATED:20240220T120955Z
LAST-MODIFIED:20240320T102749Z
UID:10001915-1757257200-1757286000@www.casinodespa.be
SUMMARY:Double Sunday
DESCRIPTION:Tous les dimanches\, le Casino de Spa vous gâte ! \n15h-17h: Passage de tartes dans les salons de jeu du Casino* \n18h-23h: Jouez 20€ et obtenez 2.000 S points supplémentaires. \nDans la limite des stocks disponibles. \nJe veux lire le règlement 
URL:https://www.casinodespa.be/evenement/double-sunday/2025-09-07/
LOCATION:Casino de spa
CATEGORIES:Casino
ATTACH;FMTTYPE=image/jpeg:https://www.casinodespa.be/wp-content/uploads/2024/02/777.off_20230701_CDS_Double-Sunday_FB_Event.jpg
END:VEVENT
BEGIN:VEVENT
DTSTART;TZID=Europe/Brussels:20250908T180000
DTEND;TZID=Europe/Brussels:20250908T180000
DTSTAMP:20260419T194035
CREATED:20240220T111415Z
LAST-MODIFIED:20250113T113612Z
UID:10000609-1757354400-1757354400@www.casinodespa.be
SUMMARY:Menu duo du lundi
DESCRIPTION:Chaque lundi au Casino de Spa à partir de 18h\, venez profiter de notre formule duo. \n1 plat au choix parmi 5 choix + dessert + 10€ de crédit de jeu pour 25€ seulement. \nChoix de plats : \n\n\nBurger Casino\nFish and chips\nFilet d’aloyau – sauce béarnaise\nCivet de marcassin avec croquettes\nPennes au poulet curry\n\nLaissez vous tenter ! 
URL:https://www.casinodespa.be/evenement/menu-duo-du-lundi/2025-09-08/
LOCATION:Le Grill
CATEGORIES:Casino,Restaurant
ATTACH;FMTTYPE=image/jpeg:https://www.casinodespa.be/wp-content/uploads/2024/02/777.off_CDS_Menu-Duo_Event.jpg
END:VEVENT
BEGIN:VEVENT
DTSTART;TZID=Europe/Brussels:20250909T180000
DTEND;TZID=Europe/Brussels:20250909T180000
DTSTAMP:20260419T194035
CREATED:20250113T144249Z
LAST-MODIFIED:20250113T144328Z
UID:10003033-1757440800-1757440800@www.casinodespa.be
SUMMARY:Circus Poker self-deal
DESCRIPTION:Mardi | Circus Poker self-deal\nPréparez votre meilleur poker face : le mardi\, c’est votre as dans la manche ! \nRendez-vous tous les mardis au Casino de Spa pour nos tournois de self-deal \nBuy-in : 30.00€ \nStacks : 40k \nBlind : 20 min \nBonne ambiance\, gros coups et fous rires garantis. On mélange\, on distribue\, et c’est parti pour une partie où chaque coup peut tout changer. Préparez vos meilleurs bluffs et venez mettre votre poker face à l’épreuve. Le mardi soir\, c’est votre main gagnante ! \n 
URL:https://www.casinodespa.be/evenement/circus-poker-self-deal/2025-09-09/
ATTACH;FMTTYPE=image/jpeg:https://www.casinodespa.be/wp-content/uploads/2025/01/FB_Events.jpg
END:VEVENT
BEGIN:VEVENT
DTSTART;TZID=Europe/Brussels:20250909T200000
DTEND;TZID=Europe/Brussels:20250909T235900
DTSTAMP:20260419T194035
CREATED:20240220T120254Z
LAST-MODIFIED:20240320T123547Z
UID:10000871-1757448000-1757462340@www.casinodespa.be
SUMMARY:Bingo 2.0
DESCRIPTION:525€ de cadeaux à gagner en jouant à notre Bingo 100% gratuit tous les mardis dès 20h! \n\nParticipez chaque mardi à nos 3 parties gratuites de Bingo et tentez de compléter vos grilles. \nCette année\, votre statut sera mis à l’honneur. Profitez de multiplicateurs de statuts pour nos deux dernières parties. \nFerez-vous partie de nos chanceux gagnants? \nRendez-vous tous les mardis à partir de 20h pour le savoir. \n\n 
URL:https://www.casinodespa.be/evenement/bingo-2-0/2025-09-09/
LOCATION:Casino de spa
CATEGORIES:Casino
ATTACH;FMTTYPE=image/jpeg:https://www.casinodespa.be/wp-content/uploads/2024/02/777.off_20231231_CDS_bingo-mardi-2.0_FB_Event.jpg
END:VEVENT
BEGIN:VEVENT
DTSTART;TZID=Europe/Brussels:20250910T200000
DTEND;TZID=Europe/Brussels:20250910T235900
DTSTAMP:20260419T194035
CREATED:20240220T120510Z
LAST-MODIFIED:20240320T102134Z
UID:10001133-1757534400-1757548740@www.casinodespa.be
SUMMARY:Ping-pong challenge
DESCRIPTION:Ping-pong challenge | Casino de Spa\nTous les mercredis à partir de 20h\, venez jouer au ping pong challenge! \nRécupérez votre ticket à la borne et venez le placer dans l’urne pour tenter de participer au lancé de roue. \n\nLancez la roue\nRécupérez un max de balles dans la souffleuse à balles\nGagnez un max de cadeaux
URL:https://www.casinodespa.be/evenement/ping-pong-challenge/2025-09-10/
LOCATION:Casino de spa
CATEGORIES:Casino
ATTACH;FMTTYPE=image/jpeg:https://www.casinodespa.be/wp-content/uploads/2024/02/Event.jpg
END:VEVENT
BEGIN:VEVENT
DTSTART;VALUE=DATE:20250911
DTEND;VALUE=DATE:20250912
DTSTAMP:20260419T194035
CREATED:20240220T120724Z
LAST-MODIFIED:20240320T102557Z
UID:10001394-1757548800-1757635199@www.casinodespa.be
SUMMARY:Happy Thursday
DESCRIPTION:Jouez avec votre S carte sur nos machines à sous et doublez automatiquement vos S points toute la journée ! \nC’est tous les jeudis au Casino de Spa !
URL:https://www.casinodespa.be/evenement/happy-thursday/2025-09-11/
LOCATION:Casino de spa
CATEGORIES:Casino
ATTACH;FMTTYPE=image/jpeg:https://www.casinodespa.be/wp-content/uploads/2024/02/FB_Event-1.jpg
END:VEVENT
BEGIN:VEVENT
DTSTART;TZID=Europe/Brussels:20250912T190000
DTEND;TZID=Europe/Brussels:20250912T190000
DTSTAMP:20260419T194035
CREATED:20250714T132921Z
LAST-MODIFIED:20250714T134105Z
UID:10003276-1757703600-1757703600@www.casinodespa.be
SUMMARY:Skillshot darts challenge - Finale
DESCRIPTION:Le Skillshot Darts Challenge\nLe Skillshot Darts Challenge\, votre tournoi de fléchette amateurs dans la région\, débarque dans vos bars préférés avec une finale majestueuse au Casino de Spa 🎯 \nCa y est\, c’est l’heure de la grande finale du Skillshot Darts Challenge. Nos 39 équipes qualifiées se rendront ce 12/9 au Casino de Spa pour tenter de remporter leur part du prizepool de 5.000€. Venez les encourager lors d’une soirée grandiose. DJ\, animations\, food\, on a tout mis en place pour que vous passiez une soirée INCROYBALE. \n\n\n📅 Date de la finale : 12 septembre au Casino de Spa dès 19h00\n\n\n⚠️ Conditions d’accès Casino pour tous – Carte d’identité obligatoire\n\n\nCe n’est pas tout !\nSi tu n’as pas eu la chance de te qualifier pour le main event de notre finale\, parce que tu as été nul\, ou parce que tu as raté l’info\, pas de souci\, on a la solution pour toi. En plus de l’évènement principal\, le Casino de Spa te propose ses mini-tournois tout au long de la soirée.\n\n\n20h00 : 301\n\n\n21h00 : Cricket\n\n\n22h00 : Around the clock\n\n\nPrizepool : 500€ par tournoi\nInscription : Gratuite (condition d’accès Casino) ➡️ Inscris ton équipe ici\nRègle : Equipe de 2 joueurs – Attention\, si tu es toujours en cours dans un des autres tournois du jour\, ton inscription ne sera pas prise en compte.
URL:https://www.casinodespa.be/evenement/skillshot-darts-challenge-finale/
LOCATION:Casino de spa
CATEGORIES:Casino,Salle Bergman
ATTACH;FMTTYPE=image/jpeg:https://www.casinodespa.be/wp-content/uploads/2025/04/777.off_2025061_CDS_Tournoi-fle╠uchette-2025-_FB_Event_agenda.jpg
END:VEVENT
BEGIN:VEVENT
DTSTART;TZID=Europe/Brussels:20250912T190000
DTEND;TZID=Europe/Brussels:20250912T233000
DTSTAMP:20260419T194035
CREATED:20241118T151059Z
LAST-MODIFIED:20250314T085134Z
UID:10002721-1757703600-1757719800@www.casinodespa.be
SUMMARY:Poker Family
DESCRIPTION:Tous les vendredis au Casino de Spa\, dès 19h00\, participez à notre tournoi self-deal organisé par le tout nouveau club de la région\, Poker Family.  Profitez du confort Casino tout en profitant d’un tournoi convivial et familial. \n*Buy-in : 40\,00€ \nStacks : 40.000 \nEarly bird : 5.000 \nRe-entry : 6 lvl \nBlind : 20 min \nRestez connectés et participez à nos différents rankings. De nombreux lots mis en jeu tout au long de l’année. \n*Sous réserve de changement \n  \nInscrivez-vous ici !
URL:https://www.casinodespa.be/evenement/poker-family-2/2025-09-12/
LOCATION:Casino de spa
CATEGORIES:Poker
ATTACH;FMTTYPE=image/jpeg:https://www.casinodespa.be/wp-content/uploads/2024/03/777.off_20230601_CDS_Visuel-Poker-Family-_FB_Events.jpg
END:VEVENT
BEGIN:VEVENT
DTSTART;TZID=Europe/Brussels:20250912T200000
DTEND;TZID=Europe/Brussels:20250912T233000
DTSTAMP:20260419T194035
CREATED:20240220T110815Z
LAST-MODIFIED:20240320T102410Z
UID:10000349-1757707200-1757719800@www.casinodespa.be
SUMMARY:Carte ou pas cap?
DESCRIPTION:Faites le plein de cadeaux ! \n\nTous les vendredi\, défiez les probabilités et tentez de terminer notre parcours de cartes pour remporter jusqu’à 160€. \nJe veux lire le règlement 
URL:https://www.casinodespa.be/evenement/carte-ou-pas-cap/2025-09-12/
LOCATION:Casino de spa
CATEGORIES:Casino
ATTACH;FMTTYPE=image/jpeg:https://www.casinodespa.be/wp-content/uploads/2024/02/FB_Event.jpg
END:VEVENT
BEGIN:VEVENT
DTSTART;TZID=Europe/Brussels:20250913T200000
DTEND;TZID=Europe/Brussels:20250913T235900
DTSTAMP:20260419T194035
CREATED:20240220T120830Z
LAST-MODIFIED:20240220T122959Z
UID:10001655-1757793600-1757807940@www.casinodespa.be
SUMMARY:Cash Game Gourmand
DESCRIPTION:Tous les samedis au Casino de Spa c’est le Cash game gourmand! \nJouez 4h minimum et recevez un repas au Grill du Casino*. \nMin 50€\nMax 500€\nBlinds 2-2 \n*voir conditions au Grill du Casino \n\nRéservation souhaitée au +32 497 19 89 65.
URL:https://www.casinodespa.be/evenement/cash-game-gourmand/2025-09-13/
LOCATION:Casino de spa
CATEGORIES:Casino,Poker
ATTACH;FMTTYPE=image/jpeg:https://www.casinodespa.be/wp-content/uploads/2024/02/FB_Event-2.jpg
END:VEVENT
BEGIN:VEVENT
DTSTART;TZID=Europe/Brussels:20250914T150000
DTEND;TZID=Europe/Brussels:20250914T230000
DTSTAMP:20260419T194035
CREATED:20240220T120955Z
LAST-MODIFIED:20240320T102749Z
UID:10001916-1757862000-1757890800@www.casinodespa.be
SUMMARY:Double Sunday
DESCRIPTION:Tous les dimanches\, le Casino de Spa vous gâte ! \n15h-17h: Passage de tartes dans les salons de jeu du Casino* \n18h-23h: Jouez 20€ et obtenez 2.000 S points supplémentaires. \nDans la limite des stocks disponibles. \nJe veux lire le règlement 
URL:https://www.casinodespa.be/evenement/double-sunday/2025-09-14/
LOCATION:Casino de spa
CATEGORIES:Casino
ATTACH;FMTTYPE=image/jpeg:https://www.casinodespa.be/wp-content/uploads/2024/02/777.off_20230701_CDS_Double-Sunday_FB_Event.jpg
END:VEVENT
BEGIN:VEVENT
DTSTART;TZID=Europe/Brussels:20250915T180000
DTEND;TZID=Europe/Brussels:20250915T180000
DTSTAMP:20260419T194035
CREATED:20240220T111415Z
LAST-MODIFIED:20250113T113612Z
UID:10000610-1757959200-1757959200@www.casinodespa.be
SUMMARY:Menu duo du lundi
DESCRIPTION:Chaque lundi au Casino de Spa à partir de 18h\, venez profiter de notre formule duo. \n1 plat au choix parmi 5 choix + dessert + 10€ de crédit de jeu pour 25€ seulement. \nChoix de plats : \n\n\nBurger Casino\nFish and chips\nFilet d’aloyau – sauce béarnaise\nCivet de marcassin avec croquettes\nPennes au poulet curry\n\nLaissez vous tenter ! 
URL:https://www.casinodespa.be/evenement/menu-duo-du-lundi/2025-09-15/
LOCATION:Le Grill
CATEGORIES:Casino,Restaurant
ATTACH;FMTTYPE=image/jpeg:https://www.casinodespa.be/wp-content/uploads/2024/02/777.off_CDS_Menu-Duo_Event.jpg
END:VEVENT
BEGIN:VEVENT
DTSTART;TZID=Europe/Brussels:20250916T180000
DTEND;TZID=Europe/Brussels:20250916T180000
DTSTAMP:20260419T194035
CREATED:20250113T144249Z
LAST-MODIFIED:20250113T144328Z
UID:10003034-1758045600-1758045600@www.casinodespa.be
SUMMARY:Circus Poker self-deal
DESCRIPTION:Mardi | Circus Poker self-deal\nPréparez votre meilleur poker face : le mardi\, c’est votre as dans la manche ! \nRendez-vous tous les mardis au Casino de Spa pour nos tournois de self-deal \nBuy-in : 30.00€ \nStacks : 40k \nBlind : 20 min \nBonne ambiance\, gros coups et fous rires garantis. On mélange\, on distribue\, et c’est parti pour une partie où chaque coup peut tout changer. Préparez vos meilleurs bluffs et venez mettre votre poker face à l’épreuve. Le mardi soir\, c’est votre main gagnante ! \n 
URL:https://www.casinodespa.be/evenement/circus-poker-self-deal/2025-09-16/
ATTACH;FMTTYPE=image/jpeg:https://www.casinodespa.be/wp-content/uploads/2025/01/FB_Events.jpg
END:VEVENT
BEGIN:VEVENT
DTSTART;TZID=Europe/Brussels:20250916T200000
DTEND;TZID=Europe/Brussels:20250916T235900
DTSTAMP:20260419T194035
CREATED:20240220T120254Z
LAST-MODIFIED:20240320T123547Z
UID:10000872-1758052800-1758067140@www.casinodespa.be
SUMMARY:Bingo 2.0
DESCRIPTION:525€ de cadeaux à gagner en jouant à notre Bingo 100% gratuit tous les mardis dès 20h! \n\nParticipez chaque mardi à nos 3 parties gratuites de Bingo et tentez de compléter vos grilles. \nCette année\, votre statut sera mis à l’honneur. Profitez de multiplicateurs de statuts pour nos deux dernières parties. \nFerez-vous partie de nos chanceux gagnants? \nRendez-vous tous les mardis à partir de 20h pour le savoir. \n\n 
URL:https://www.casinodespa.be/evenement/bingo-2-0/2025-09-16/
LOCATION:Casino de spa
CATEGORIES:Casino
ATTACH;FMTTYPE=image/jpeg:https://www.casinodespa.be/wp-content/uploads/2024/02/777.off_20231231_CDS_bingo-mardi-2.0_FB_Event.jpg
END:VEVENT
BEGIN:VEVENT
DTSTART;TZID=Europe/Brussels:20250917T200000
DTEND;TZID=Europe/Brussels:20250917T235900
DTSTAMP:20260419T194035
CREATED:20240220T120510Z
LAST-MODIFIED:20240320T102134Z
UID:10001134-1758139200-1758153540@www.casinodespa.be
SUMMARY:Ping-pong challenge
DESCRIPTION:Ping-pong challenge | Casino de Spa\nTous les mercredis à partir de 20h\, venez jouer au ping pong challenge! \nRécupérez votre ticket à la borne et venez le placer dans l’urne pour tenter de participer au lancé de roue. \n\nLancez la roue\nRécupérez un max de balles dans la souffleuse à balles\nGagnez un max de cadeaux
URL:https://www.casinodespa.be/evenement/ping-pong-challenge/2025-09-17/
LOCATION:Casino de spa
CATEGORIES:Casino
ATTACH;FMTTYPE=image/jpeg:https://www.casinodespa.be/wp-content/uploads/2024/02/Event.jpg
END:VEVENT
BEGIN:VEVENT
DTSTART;VALUE=DATE:20250918
DTEND;VALUE=DATE:20250919
DTSTAMP:20260419T194035
CREATED:20240220T120724Z
LAST-MODIFIED:20240320T102557Z
UID:10001395-1758153600-1758239999@www.casinodespa.be
SUMMARY:Happy Thursday
DESCRIPTION:Jouez avec votre S carte sur nos machines à sous et doublez automatiquement vos S points toute la journée ! \nC’est tous les jeudis au Casino de Spa !
URL:https://www.casinodespa.be/evenement/happy-thursday/2025-09-18/
LOCATION:Casino de spa
CATEGORIES:Casino
ATTACH;FMTTYPE=image/jpeg:https://www.casinodespa.be/wp-content/uploads/2024/02/FB_Event-1.jpg
END:VEVENT
BEGIN:VEVENT
DTSTART;TZID=Europe/Brussels:20250919T190000
DTEND;TZID=Europe/Brussels:20250919T233000
DTSTAMP:20260419T194035
CREATED:20241118T151059Z
LAST-MODIFIED:20250314T085134Z
UID:10002722-1758308400-1758324600@www.casinodespa.be
SUMMARY:Poker Family
DESCRIPTION:Tous les vendredis au Casino de Spa\, dès 19h00\, participez à notre tournoi self-deal organisé par le tout nouveau club de la région\, Poker Family.  Profitez du confort Casino tout en profitant d’un tournoi convivial et familial. \n*Buy-in : 40\,00€ \nStacks : 40.000 \nEarly bird : 5.000 \nRe-entry : 6 lvl \nBlind : 20 min \nRestez connectés et participez à nos différents rankings. De nombreux lots mis en jeu tout au long de l’année. \n*Sous réserve de changement \n  \nInscrivez-vous ici !
URL:https://www.casinodespa.be/evenement/poker-family-2/2025-09-19/
LOCATION:Casino de spa
CATEGORIES:Poker
ATTACH;FMTTYPE=image/jpeg:https://www.casinodespa.be/wp-content/uploads/2024/03/777.off_20230601_CDS_Visuel-Poker-Family-_FB_Events.jpg
END:VEVENT
BEGIN:VEVENT
DTSTART;TZID=Europe/Brussels:20250919T190000
DTEND;TZID=Europe/Brussels:20250919T233000
DTSTAMP:20260419T194035
CREATED:20250723T072708Z
LAST-MODIFIED:20250723T072708Z
UID:10003277-1758308400-1758324600@www.casinodespa.be
SUMMARY:Ladies night
DESCRIPTION:Ladies Night – Soirée 100% filles\, surprises garanties !\n\nEnvie d’un moment entre copines\, sans filtre\, et plein de rires ? Le Casino de Spa vous ouvre ses portes pour une Ladies Night survoltée\, décomplexée et résolument festive.\n  \n📅 19 septembre – à partir de 19h00\n📍 Casino de Spa\n🎫 20 €/personne\n  \nUn petit aperçu du programme :\n\n💃 Dès 19h00\, on entame les festivités avec des stands 100% girly :\n\ntatouages éphémères\ncoiffures et maquillages à paillettes\ntote bags et porte-clés personnalisés\nbar à shots et cocktails à prix mini\n… et beaucoup d’autres surprises !\n\n  \nEt tout ça accompagné de + 2.000€ de cadeaux 100% filles !\n  \n🔥 À 21h30\, les choses sérieuses commencent : un show Chippendales qui promet une montée en température collective.\n  \nUne soirée entre filles comme on les aime : sexy\, drôle & inoubliable.\n👉 Réservez maintenant
URL:https://www.casinodespa.be/evenement/ladies-night/
LOCATION:Casino de spa
CATEGORIES:Salle Bergman
ATTACH;FMTTYPE=image/jpeg:https://www.casinodespa.be/wp-content/uploads/2025/07/777.off_CDS_LADIES-NIGHT-_FB_Event_agenda.jpg
END:VEVENT
BEGIN:VEVENT
DTSTART;TZID=Europe/Brussels:20250919T200000
DTEND;TZID=Europe/Brussels:20250919T233000
DTSTAMP:20260419T194035
CREATED:20240220T110815Z
LAST-MODIFIED:20240320T102410Z
UID:10000350-1758312000-1758324600@www.casinodespa.be
SUMMARY:Carte ou pas cap?
DESCRIPTION:Faites le plein de cadeaux ! \n\nTous les vendredi\, défiez les probabilités et tentez de terminer notre parcours de cartes pour remporter jusqu’à 160€. \nJe veux lire le règlement 
URL:https://www.casinodespa.be/evenement/carte-ou-pas-cap/2025-09-19/
LOCATION:Casino de spa
CATEGORIES:Casino
ATTACH;FMTTYPE=image/jpeg:https://www.casinodespa.be/wp-content/uploads/2024/02/FB_Event.jpg
END:VEVENT
BEGIN:VEVENT
DTSTART;TZID=Europe/Brussels:20250920T200000
DTEND;TZID=Europe/Brussels:20250920T235900
DTSTAMP:20260419T194035
CREATED:20240220T120830Z
LAST-MODIFIED:20240220T122959Z
UID:10001656-1758398400-1758412740@www.casinodespa.be
SUMMARY:Cash Game Gourmand
DESCRIPTION:Tous les samedis au Casino de Spa c’est le Cash game gourmand! \nJouez 4h minimum et recevez un repas au Grill du Casino*. \nMin 50€\nMax 500€\nBlinds 2-2 \n*voir conditions au Grill du Casino \n\nRéservation souhaitée au +32 497 19 89 65.
URL:https://www.casinodespa.be/evenement/cash-game-gourmand/2025-09-20/
LOCATION:Casino de spa
CATEGORIES:Casino,Poker
ATTACH;FMTTYPE=image/jpeg:https://www.casinodespa.be/wp-content/uploads/2024/02/FB_Event-2.jpg
END:VEVENT
BEGIN:VEVENT
DTSTART;TZID=Europe/Brussels:20250921T150000
DTEND;TZID=Europe/Brussels:20250921T230000
DTSTAMP:20260419T194035
CREATED:20240220T120955Z
LAST-MODIFIED:20240320T102749Z
UID:10001917-1758466800-1758495600@www.casinodespa.be
SUMMARY:Double Sunday
DESCRIPTION:Tous les dimanches\, le Casino de Spa vous gâte ! \n15h-17h: Passage de tartes dans les salons de jeu du Casino* \n18h-23h: Jouez 20€ et obtenez 2.000 S points supplémentaires. \nDans la limite des stocks disponibles. \nJe veux lire le règlement 
URL:https://www.casinodespa.be/evenement/double-sunday/2025-09-21/
LOCATION:Casino de spa
CATEGORIES:Casino
ATTACH;FMTTYPE=image/jpeg:https://www.casinodespa.be/wp-content/uploads/2024/02/777.off_20230701_CDS_Double-Sunday_FB_Event.jpg
END:VEVENT
END:VCALENDAR