BEGIN:VCALENDAR
VERSION:2.0
PRODID:-//Casino de Spa - ECPv6.15.17.1//NONSGML v1.0//EN
CALSCALE:GREGORIAN
METHOD:PUBLISH
X-ORIGINAL-URL:https://www.casinodespa.be
X-WR-CALDESC:Évènements pour Casino de Spa
REFRESH-INTERVAL;VALUE=DURATION:PT1H
X-Robots-Tag:noindex
X-PUBLISHED-TTL:PT1H
BEGIN:VTIMEZONE
TZID:Europe/Brussels
BEGIN:DAYLIGHT
TZOFFSETFROM:+0100
TZOFFSETTO:+0200
TZNAME:CEST
DTSTART:20240331T010000
END:DAYLIGHT
BEGIN:STANDARD
TZOFFSETFROM:+0200
TZOFFSETTO:+0100
TZNAME:CET
DTSTART:20241027T010000
END:STANDARD
BEGIN:DAYLIGHT
TZOFFSETFROM:+0100
TZOFFSETTO:+0200
TZNAME:CEST
DTSTART:20250330T010000
END:DAYLIGHT
BEGIN:STANDARD
TZOFFSETFROM:+0200
TZOFFSETTO:+0100
TZNAME:CET
DTSTART:20251026T010000
END:STANDARD
BEGIN:DAYLIGHT
TZOFFSETFROM:+0100
TZOFFSETTO:+0200
TZNAME:CEST
DTSTART:20260329T010000
END:DAYLIGHT
BEGIN:STANDARD
TZOFFSETFROM:+0200
TZOFFSETTO:+0100
TZNAME:CET
DTSTART:20261025T010000
END:STANDARD
END:VTIMEZONE
BEGIN:VEVENT
DTSTART;TZID=Europe/Brussels:20251001T200000
DTEND;TZID=Europe/Brussels:20251001T235900
DTSTAMP:20260419T180720
CREATED:20240220T120510Z
LAST-MODIFIED:20240320T102134Z
UID:10001136-1759348800-1759363140@www.casinodespa.be
SUMMARY:Ping-pong challenge
DESCRIPTION:Ping-pong challenge | Casino de Spa\nTous les mercredis à partir de 20h\, venez jouer au ping pong challenge! \nRécupérez votre ticket à la borne et venez le placer dans l’urne pour tenter de participer au lancé de roue. \n\nLancez la roue\nRécupérez un max de balles dans la souffleuse à balles\nGagnez un max de cadeaux
URL:https://www.casinodespa.be/evenement/ping-pong-challenge/2025-10-01/
LOCATION:Casino de spa
CATEGORIES:Casino
ATTACH;FMTTYPE=image/jpeg:https://www.casinodespa.be/wp-content/uploads/2024/02/Event.jpg
END:VEVENT
BEGIN:VEVENT
DTSTART;VALUE=DATE:20251002
DTEND;VALUE=DATE:20251003
DTSTAMP:20260419T180720
CREATED:20240220T120724Z
LAST-MODIFIED:20240320T102557Z
UID:10001397-1759363200-1759449599@www.casinodespa.be
SUMMARY:Happy Thursday
DESCRIPTION:Jouez avec votre S carte sur nos machines à sous et doublez automatiquement vos S points toute la journée ! \nC’est tous les jeudis au Casino de Spa !
URL:https://www.casinodespa.be/evenement/happy-thursday/2025-10-02/
LOCATION:Casino de spa
CATEGORIES:Casino
ATTACH;FMTTYPE=image/jpeg:https://www.casinodespa.be/wp-content/uploads/2024/02/FB_Event-1.jpg
END:VEVENT
BEGIN:VEVENT
DTSTART;TZID=Europe/Brussels:20251003T190000
DTEND;TZID=Europe/Brussels:20251003T233000
DTSTAMP:20260419T180720
CREATED:20241118T151059Z
LAST-MODIFIED:20250314T085134Z
UID:10002724-1759518000-1759534200@www.casinodespa.be
SUMMARY:Poker Family
DESCRIPTION:Tous les vendredis au Casino de Spa\, dès 19h00\, participez à notre tournoi self-deal organisé par le tout nouveau club de la région\, Poker Family.  Profitez du confort Casino tout en profitant d’un tournoi convivial et familial. \n*Buy-in : 40\,00€ \nStacks : 40.000 \nEarly bird : 5.000 \nRe-entry : 6 lvl \nBlind : 20 min \nRestez connectés et participez à nos différents rankings. De nombreux lots mis en jeu tout au long de l’année. \n*Sous réserve de changement \n  \nInscrivez-vous ici !
URL:https://www.casinodespa.be/evenement/poker-family-2/2025-10-03/
LOCATION:Casino de spa
CATEGORIES:Poker
ATTACH;FMTTYPE=image/jpeg:https://www.casinodespa.be/wp-content/uploads/2024/03/777.off_20230601_CDS_Visuel-Poker-Family-_FB_Events.jpg
END:VEVENT
BEGIN:VEVENT
DTSTART;TZID=Europe/Brussels:20251003T200000
DTEND;TZID=Europe/Brussels:20251003T233000
DTSTAMP:20260419T180720
CREATED:20240220T110815Z
LAST-MODIFIED:20240320T102410Z
UID:10000352-1759521600-1759534200@www.casinodespa.be
SUMMARY:Carte ou pas cap?
DESCRIPTION:Faites le plein de cadeaux ! \n\nTous les vendredi\, défiez les probabilités et tentez de terminer notre parcours de cartes pour remporter jusqu’à 160€. \nJe veux lire le règlement 
URL:https://www.casinodespa.be/evenement/carte-ou-pas-cap/2025-10-03/
LOCATION:Casino de spa
CATEGORIES:Casino
ATTACH;FMTTYPE=image/jpeg:https://www.casinodespa.be/wp-content/uploads/2024/02/FB_Event.jpg
END:VEVENT
BEGIN:VEVENT
DTSTART;TZID=Europe/Brussels:20251004T150000
DTEND;TZID=Europe/Brussels:20251005T200000
DTSTAMP:20260419T180720
CREATED:20250723T074636Z
LAST-MODIFIED:20250723T074636Z
UID:10003278-1759590000-1759694400@www.casinodespa.be
SUMMARY:Journées portes ouvertes au Casino de Spa
DESCRIPTION:Les 4 et 5 octobre de 15h à 20h\, découvrez le Casino de Spa comme vous ne l’avez jamais vu ! Vous êtes invité à un week-end exceptionnel placé sous le signe de la découverte\, de l’amusement et de la surprise. Visitez les coulisses de ce lieu mythique\, relevez des défis\, testez vos talents… et tentez de remporter des cadeaux d’exception !\n  \n🔎 Au programme :\n\nLigne du temps interactive animée par l’Office du Tourisme et anecdotes sur la belle ville de Spa\nUn escape game géant à travers le Casino. Résolvez les énigmes\, débusquez les indices et remportez des tickets pour notre concours et tenter l’ouverture de la malle aux trésors contenant pas moins de 2.000 € de prix ! Et bien entendu\, il y aura des gagnants le samedi et le dimanche.\nDes animations : Bingo\, ping-pong challenge \, Carte ou pas cap et des initiations gratuites !\nLuna Park : collectez vos S pièces lors de notre désormais bien connue « Luna Park »\nEt ambiance assurée : DJ\, concert\, caricaturiste\, photo booth\, et plus encore !\n\n  \nBref\, un évènement socio-culturel à ne pas manquer.\nC’est LE moment idéal pour (re)découvrir le Casino de Spa dans une ambiance fun\, festive et pleine de surprises.\n  \nEntrée gratuite. Événement réservé aux +21 ans. Condition d’accès Casino
URL:https://www.casinodespa.be/evenement/journees-portes-ouvertes-au-casino-de-spa/
LOCATION:Casino de spa
CATEGORIES:Casino,Restaurant,Salle Bergman
ATTACH;FMTTYPE=image/jpeg:https://www.casinodespa.be/wp-content/uploads/2025/07/777.off_20251004_CDS_JPO-_FB_Event_agenda.jpg
END:VEVENT
BEGIN:VEVENT
DTSTART;TZID=Europe/Brussels:20251004T150000
DTEND;TZID=Europe/Brussels:20251005T233000
DTSTAMP:20260419T180720
CREATED:20250731T095233Z
LAST-MODIFIED:20250731T095233Z
UID:10003280-1759590000-1759707000@www.casinodespa.be
SUMMARY:Journée portes ouvertes
DESCRIPTION:Journées portes ouvertes au Casino de Spa\n\nLes 4 et 5 octobre de 15h à 20h\, découvrez le Casino de Spa comme vous ne l’avez jamais vu ! Vous êtes invité à un week-end exceptionnel placé sous le signe de la découverte\, de l’amusement et de la surprise. Visitez les coulisses de ce lieu mythique\, relevez des défis\, testez vos talents… et tentez de remporter des cadeaux d’exception !\n\n🔎 Au programme :\n\nLigne du temps interactive animée par l’Office du Tourisme et anecdotes sur la belle ville de Spa\nUn escape game géant à travers le Casino. Résolvez les énigmes\, débusquez les indices et remportez des tickets pour notre concours et tenter l’ouverture de la malle aux trésors contenant pas moins de 2.000 € de prix ! Et bien entendu\, il y aura des gagnants le samedi et le dimanche.\nDes animations : Bingo\, ping-pong challenge \, Carte ou pas cap et des initiations gratuites !\nLuna Park : collectez vos S pièces lors de notre désormais bien connue « Luna Park »\nEt ambiance assurée : DJ\, concert\, caricaturiste\, photo booth\, et plus encore !\n\n\nBref\, un évènement socio-culturel à ne pas manquer.\nC’est LE moment idéal pour (re)découvrir le Casino de Spa dans une ambiance fun\, festive et pleine de surprises.\n\nEntrée gratuite. Événement réservé aux +21 ans. Condition d’accès Casino
URL:https://www.casinodespa.be/evenement/journee-portes-ouvertes/
LOCATION:Casino de spa
CATEGORIES:Casino,Salle Bergman
ATTACH;FMTTYPE=image/jpeg:https://www.casinodespa.be/wp-content/uploads/2025/07/777.off_20251004_CDS_JPO-_FB_Event_agenda-1.jpg
END:VEVENT
BEGIN:VEVENT
DTSTART;TZID=Europe/Brussels:20251004T200000
DTEND;TZID=Europe/Brussels:20251004T235900
DTSTAMP:20260419T180720
CREATED:20240220T120830Z
LAST-MODIFIED:20240220T122959Z
UID:10001658-1759608000-1759622340@www.casinodespa.be
SUMMARY:Cash Game Gourmand
DESCRIPTION:Tous les samedis au Casino de Spa c’est le Cash game gourmand! \nJouez 4h minimum et recevez un repas au Grill du Casino*. \nMin 50€\nMax 500€\nBlinds 2-2 \n*voir conditions au Grill du Casino \n\nRéservation souhaitée au +32 497 19 89 65.
URL:https://www.casinodespa.be/evenement/cash-game-gourmand/2025-10-04/
LOCATION:Casino de spa
CATEGORIES:Casino,Poker
ATTACH;FMTTYPE=image/jpeg:https://www.casinodespa.be/wp-content/uploads/2024/02/FB_Event-2.jpg
END:VEVENT
BEGIN:VEVENT
DTSTART;TZID=Europe/Brussels:20251005T150000
DTEND;TZID=Europe/Brussels:20251005T230000
DTSTAMP:20260419T180720
CREATED:20240220T120955Z
LAST-MODIFIED:20240320T102749Z
UID:10001919-1759676400-1759705200@www.casinodespa.be
SUMMARY:Double Sunday
DESCRIPTION:Tous les dimanches\, le Casino de Spa vous gâte ! \n15h-17h: Passage de tartes dans les salons de jeu du Casino* \n18h-23h: Jouez 20€ et obtenez 2.000 S points supplémentaires. \nDans la limite des stocks disponibles. \nJe veux lire le règlement 
URL:https://www.casinodespa.be/evenement/double-sunday/2025-10-05/
LOCATION:Casino de spa
CATEGORIES:Casino
ATTACH;FMTTYPE=image/jpeg:https://www.casinodespa.be/wp-content/uploads/2024/02/777.off_20230701_CDS_Double-Sunday_FB_Event.jpg
END:VEVENT
BEGIN:VEVENT
DTSTART;TZID=Europe/Brussels:20251006T180000
DTEND;TZID=Europe/Brussels:20251006T180000
DTSTAMP:20260419T180720
CREATED:20240220T111415Z
LAST-MODIFIED:20250113T113612Z
UID:10000613-1759773600-1759773600@www.casinodespa.be
SUMMARY:Menu duo du lundi
DESCRIPTION:Chaque lundi au Casino de Spa à partir de 18h\, venez profiter de notre formule duo. \n1 plat au choix parmi 5 choix + dessert + 10€ de crédit de jeu pour 25€ seulement. \nChoix de plats : \n\n\nBurger Casino\nFish and chips\nFilet d’aloyau – sauce béarnaise\nCivet de marcassin avec croquettes\nPennes au poulet curry\n\nLaissez vous tenter ! 
URL:https://www.casinodespa.be/evenement/menu-duo-du-lundi/2025-10-06/
LOCATION:Le Grill
CATEGORIES:Casino,Restaurant
ATTACH;FMTTYPE=image/jpeg:https://www.casinodespa.be/wp-content/uploads/2024/02/777.off_CDS_Menu-Duo_Event.jpg
END:VEVENT
BEGIN:VEVENT
DTSTART;TZID=Europe/Brussels:20251007T180000
DTEND;TZID=Europe/Brussels:20251007T180000
DTSTAMP:20260419T180720
CREATED:20250113T144249Z
LAST-MODIFIED:20250113T144328Z
UID:10003037-1759860000-1759860000@www.casinodespa.be
SUMMARY:Circus Poker self-deal
DESCRIPTION:Mardi | Circus Poker self-deal\nPréparez votre meilleur poker face : le mardi\, c’est votre as dans la manche ! \nRendez-vous tous les mardis au Casino de Spa pour nos tournois de self-deal \nBuy-in : 30.00€ \nStacks : 40k \nBlind : 20 min \nBonne ambiance\, gros coups et fous rires garantis. On mélange\, on distribue\, et c’est parti pour une partie où chaque coup peut tout changer. Préparez vos meilleurs bluffs et venez mettre votre poker face à l’épreuve. Le mardi soir\, c’est votre main gagnante ! \n 
URL:https://www.casinodespa.be/evenement/circus-poker-self-deal/2025-10-07/
ATTACH;FMTTYPE=image/jpeg:https://www.casinodespa.be/wp-content/uploads/2025/01/FB_Events.jpg
END:VEVENT
BEGIN:VEVENT
DTSTART;TZID=Europe/Brussels:20251007T200000
DTEND;TZID=Europe/Brussels:20251007T235900
DTSTAMP:20260419T180720
CREATED:20240220T120254Z
LAST-MODIFIED:20240320T123547Z
UID:10000875-1759867200-1759881540@www.casinodespa.be
SUMMARY:Bingo 2.0
DESCRIPTION:525€ de cadeaux à gagner en jouant à notre Bingo 100% gratuit tous les mardis dès 20h! \n\nParticipez chaque mardi à nos 3 parties gratuites de Bingo et tentez de compléter vos grilles. \nCette année\, votre statut sera mis à l’honneur. Profitez de multiplicateurs de statuts pour nos deux dernières parties. \nFerez-vous partie de nos chanceux gagnants? \nRendez-vous tous les mardis à partir de 20h pour le savoir. \n\n 
URL:https://www.casinodespa.be/evenement/bingo-2-0/2025-10-07/
LOCATION:Casino de spa
CATEGORIES:Casino
ATTACH;FMTTYPE=image/jpeg:https://www.casinodespa.be/wp-content/uploads/2024/02/777.off_20231231_CDS_bingo-mardi-2.0_FB_Event.jpg
END:VEVENT
BEGIN:VEVENT
DTSTART;TZID=Europe/Brussels:20251008T200000
DTEND;TZID=Europe/Brussels:20251008T235900
DTSTAMP:20260419T180720
CREATED:20240220T120510Z
LAST-MODIFIED:20240320T102134Z
UID:10001137-1759953600-1759967940@www.casinodespa.be
SUMMARY:Ping-pong challenge
DESCRIPTION:Ping-pong challenge | Casino de Spa\nTous les mercredis à partir de 20h\, venez jouer au ping pong challenge! \nRécupérez votre ticket à la borne et venez le placer dans l’urne pour tenter de participer au lancé de roue. \n\nLancez la roue\nRécupérez un max de balles dans la souffleuse à balles\nGagnez un max de cadeaux
URL:https://www.casinodespa.be/evenement/ping-pong-challenge/2025-10-08/
LOCATION:Casino de spa
CATEGORIES:Casino
ATTACH;FMTTYPE=image/jpeg:https://www.casinodespa.be/wp-content/uploads/2024/02/Event.jpg
END:VEVENT
BEGIN:VEVENT
DTSTART;VALUE=DATE:20251009
DTEND;VALUE=DATE:20251010
DTSTAMP:20260419T180720
CREATED:20240220T120724Z
LAST-MODIFIED:20240320T102557Z
UID:10001398-1759968000-1760054399@www.casinodespa.be
SUMMARY:Happy Thursday
DESCRIPTION:Jouez avec votre S carte sur nos machines à sous et doublez automatiquement vos S points toute la journée ! \nC’est tous les jeudis au Casino de Spa !
URL:https://www.casinodespa.be/evenement/happy-thursday/2025-10-09/
LOCATION:Casino de spa
CATEGORIES:Casino
ATTACH;FMTTYPE=image/jpeg:https://www.casinodespa.be/wp-content/uploads/2024/02/FB_Event-1.jpg
END:VEVENT
BEGIN:VEVENT
DTSTART;TZID=Europe/Brussels:20251010T190000
DTEND;TZID=Europe/Brussels:20251010T233000
DTSTAMP:20260419T180720
CREATED:20241118T151059Z
LAST-MODIFIED:20250314T085134Z
UID:10002725-1760122800-1760139000@www.casinodespa.be
SUMMARY:Poker Family
DESCRIPTION:Tous les vendredis au Casino de Spa\, dès 19h00\, participez à notre tournoi self-deal organisé par le tout nouveau club de la région\, Poker Family.  Profitez du confort Casino tout en profitant d’un tournoi convivial et familial. \n*Buy-in : 40\,00€ \nStacks : 40.000 \nEarly bird : 5.000 \nRe-entry : 6 lvl \nBlind : 20 min \nRestez connectés et participez à nos différents rankings. De nombreux lots mis en jeu tout au long de l’année. \n*Sous réserve de changement \n  \nInscrivez-vous ici !
URL:https://www.casinodespa.be/evenement/poker-family-2/2025-10-10/
LOCATION:Casino de spa
CATEGORIES:Poker
ATTACH;FMTTYPE=image/jpeg:https://www.casinodespa.be/wp-content/uploads/2024/03/777.off_20230601_CDS_Visuel-Poker-Family-_FB_Events.jpg
END:VEVENT
BEGIN:VEVENT
DTSTART;TZID=Europe/Brussels:20251010T200000
DTEND;TZID=Europe/Brussels:20251010T233000
DTSTAMP:20260419T180720
CREATED:20240220T110815Z
LAST-MODIFIED:20240320T102410Z
UID:10000353-1760126400-1760139000@www.casinodespa.be
SUMMARY:Carte ou pas cap?
DESCRIPTION:Faites le plein de cadeaux ! \n\nTous les vendredi\, défiez les probabilités et tentez de terminer notre parcours de cartes pour remporter jusqu’à 160€. \nJe veux lire le règlement 
URL:https://www.casinodespa.be/evenement/carte-ou-pas-cap/2025-10-10/
LOCATION:Casino de spa
CATEGORIES:Casino
ATTACH;FMTTYPE=image/jpeg:https://www.casinodespa.be/wp-content/uploads/2024/02/FB_Event.jpg
END:VEVENT
BEGIN:VEVENT
DTSTART;TZID=Europe/Brussels:20251011T200000
DTEND;TZID=Europe/Brussels:20251011T235900
DTSTAMP:20260419T180720
CREATED:20240220T120830Z
LAST-MODIFIED:20240220T122959Z
UID:10001659-1760212800-1760227140@www.casinodespa.be
SUMMARY:Cash Game Gourmand
DESCRIPTION:Tous les samedis au Casino de Spa c’est le Cash game gourmand! \nJouez 4h minimum et recevez un repas au Grill du Casino*. \nMin 50€\nMax 500€\nBlinds 2-2 \n*voir conditions au Grill du Casino \n\nRéservation souhaitée au +32 497 19 89 65.
URL:https://www.casinodespa.be/evenement/cash-game-gourmand/2025-10-11/
LOCATION:Casino de spa
CATEGORIES:Casino,Poker
ATTACH;FMTTYPE=image/jpeg:https://www.casinodespa.be/wp-content/uploads/2024/02/FB_Event-2.jpg
END:VEVENT
BEGIN:VEVENT
DTSTART;TZID=Europe/Brussels:20251012T150000
DTEND;TZID=Europe/Brussels:20251012T230000
DTSTAMP:20260419T180720
CREATED:20240220T120955Z
LAST-MODIFIED:20240320T102749Z
UID:10001920-1760281200-1760310000@www.casinodespa.be
SUMMARY:Double Sunday
DESCRIPTION:Tous les dimanches\, le Casino de Spa vous gâte ! \n15h-17h: Passage de tartes dans les salons de jeu du Casino* \n18h-23h: Jouez 20€ et obtenez 2.000 S points supplémentaires. \nDans la limite des stocks disponibles. \nJe veux lire le règlement 
URL:https://www.casinodespa.be/evenement/double-sunday/2025-10-12/
LOCATION:Casino de spa
CATEGORIES:Casino
ATTACH;FMTTYPE=image/jpeg:https://www.casinodespa.be/wp-content/uploads/2024/02/777.off_20230701_CDS_Double-Sunday_FB_Event.jpg
END:VEVENT
BEGIN:VEVENT
DTSTART;TZID=Europe/Brussels:20251013T180000
DTEND;TZID=Europe/Brussels:20251013T180000
DTSTAMP:20260419T180720
CREATED:20240220T111415Z
LAST-MODIFIED:20250113T113612Z
UID:10000614-1760378400-1760378400@www.casinodespa.be
SUMMARY:Menu duo du lundi
DESCRIPTION:Chaque lundi au Casino de Spa à partir de 18h\, venez profiter de notre formule duo. \n1 plat au choix parmi 5 choix + dessert + 10€ de crédit de jeu pour 25€ seulement. \nChoix de plats : \n\n\nBurger Casino\nFish and chips\nFilet d’aloyau – sauce béarnaise\nCivet de marcassin avec croquettes\nPennes au poulet curry\n\nLaissez vous tenter ! 
URL:https://www.casinodespa.be/evenement/menu-duo-du-lundi/2025-10-13/
LOCATION:Le Grill
CATEGORIES:Casino,Restaurant
ATTACH;FMTTYPE=image/jpeg:https://www.casinodespa.be/wp-content/uploads/2024/02/777.off_CDS_Menu-Duo_Event.jpg
END:VEVENT
BEGIN:VEVENT
DTSTART;TZID=Europe/Brussels:20251014T080000
DTEND;TZID=Europe/Brussels:20251014T170000
DTSTAMP:20260419T180720
CREATED:20251014T122533Z
LAST-MODIFIED:20251014T123819Z
UID:10003283-1760428800-1760461200@www.casinodespa.be
SUMMARY:Bingo Noël
DESCRIPTION:Notre mythique Bingo fait son grand retour pour la fin d’année. Le Casino de Spa vous attend le 14 décembre pour cette dernière édition de 2025\, dans une ambiance Noël 🎄\n  \nVous connaissez la mécanique :\n\n2.000 € de prix à remporter\nCocktail gratuit si vous venez déguisé sur le thème de Noël\nAnimations et DJ tout l’après-midi\n\n  \nProgramme :\n14h00 – 15h30 Bingo time\n15h30 – 16h30 PAUSE\n16h30 – 18h Bingo Time\n  \nRéservez vite au +32 87 77 20 52\, les places sont limitées !\nPour prolonger le plaisir\, notre restaurant le Grill du Casino est également ouvert midi et soir.
URL:https://www.casinodespa.be/evenement/bingo-noel/
LOCATION:Casino de spa
CATEGORIES:Salle Bergman
ATTACH;FMTTYPE=image/jpeg:https://www.casinodespa.be/wp-content/uploads/2025/10/777.off_20251214_CDS_Bingo-Noel-2025_FB_Event_agenda.jpg
END:VEVENT
BEGIN:VEVENT
DTSTART;TZID=Europe/Brussels:20251014T180000
DTEND;TZID=Europe/Brussels:20251014T180000
DTSTAMP:20260419T180720
CREATED:20250113T144249Z
LAST-MODIFIED:20250113T144328Z
UID:10003038-1760464800-1760464800@www.casinodespa.be
SUMMARY:Circus Poker self-deal
DESCRIPTION:Mardi | Circus Poker self-deal\nPréparez votre meilleur poker face : le mardi\, c’est votre as dans la manche ! \nRendez-vous tous les mardis au Casino de Spa pour nos tournois de self-deal \nBuy-in : 30.00€ \nStacks : 40k \nBlind : 20 min \nBonne ambiance\, gros coups et fous rires garantis. On mélange\, on distribue\, et c’est parti pour une partie où chaque coup peut tout changer. Préparez vos meilleurs bluffs et venez mettre votre poker face à l’épreuve. Le mardi soir\, c’est votre main gagnante ! \n 
URL:https://www.casinodespa.be/evenement/circus-poker-self-deal/2025-10-14/
ATTACH;FMTTYPE=image/jpeg:https://www.casinodespa.be/wp-content/uploads/2025/01/FB_Events.jpg
END:VEVENT
BEGIN:VEVENT
DTSTART;TZID=Europe/Brussels:20251014T200000
DTEND;TZID=Europe/Brussels:20251014T235900
DTSTAMP:20260419T180720
CREATED:20240220T120254Z
LAST-MODIFIED:20240320T123547Z
UID:10000876-1760472000-1760486340@www.casinodespa.be
SUMMARY:Bingo 2.0
DESCRIPTION:525€ de cadeaux à gagner en jouant à notre Bingo 100% gratuit tous les mardis dès 20h! \n\nParticipez chaque mardi à nos 3 parties gratuites de Bingo et tentez de compléter vos grilles. \nCette année\, votre statut sera mis à l’honneur. Profitez de multiplicateurs de statuts pour nos deux dernières parties. \nFerez-vous partie de nos chanceux gagnants? \nRendez-vous tous les mardis à partir de 20h pour le savoir. \n\n 
URL:https://www.casinodespa.be/evenement/bingo-2-0/2025-10-14/
LOCATION:Casino de spa
CATEGORIES:Casino
ATTACH;FMTTYPE=image/jpeg:https://www.casinodespa.be/wp-content/uploads/2024/02/777.off_20231231_CDS_bingo-mardi-2.0_FB_Event.jpg
END:VEVENT
BEGIN:VEVENT
DTSTART;TZID=Europe/Brussels:20251015T200000
DTEND;TZID=Europe/Brussels:20251015T235900
DTSTAMP:20260419T180720
CREATED:20240220T120510Z
LAST-MODIFIED:20240320T102134Z
UID:10001138-1760558400-1760572740@www.casinodespa.be
SUMMARY:Ping-pong challenge
DESCRIPTION:Ping-pong challenge | Casino de Spa\nTous les mercredis à partir de 20h\, venez jouer au ping pong challenge! \nRécupérez votre ticket à la borne et venez le placer dans l’urne pour tenter de participer au lancé de roue. \n\nLancez la roue\nRécupérez un max de balles dans la souffleuse à balles\nGagnez un max de cadeaux
URL:https://www.casinodespa.be/evenement/ping-pong-challenge/2025-10-15/
LOCATION:Casino de spa
CATEGORIES:Casino
ATTACH;FMTTYPE=image/jpeg:https://www.casinodespa.be/wp-content/uploads/2024/02/Event.jpg
END:VEVENT
BEGIN:VEVENT
DTSTART;VALUE=DATE:20251016
DTEND;VALUE=DATE:20251017
DTSTAMP:20260419T180720
CREATED:20240220T120724Z
LAST-MODIFIED:20240320T102557Z
UID:10001399-1760572800-1760659199@www.casinodespa.be
SUMMARY:Happy Thursday
DESCRIPTION:Jouez avec votre S carte sur nos machines à sous et doublez automatiquement vos S points toute la journée ! \nC’est tous les jeudis au Casino de Spa !
URL:https://www.casinodespa.be/evenement/happy-thursday/2025-10-16/
LOCATION:Casino de spa
CATEGORIES:Casino
ATTACH;FMTTYPE=image/jpeg:https://www.casinodespa.be/wp-content/uploads/2024/02/FB_Event-1.jpg
END:VEVENT
BEGIN:VEVENT
DTSTART;TZID=Europe/Brussels:20251017T190000
DTEND;TZID=Europe/Brussels:20251017T233000
DTSTAMP:20260419T180720
CREATED:20241118T151059Z
LAST-MODIFIED:20250314T085134Z
UID:10002726-1760727600-1760743800@www.casinodespa.be
SUMMARY:Poker Family
DESCRIPTION:Tous les vendredis au Casino de Spa\, dès 19h00\, participez à notre tournoi self-deal organisé par le tout nouveau club de la région\, Poker Family.  Profitez du confort Casino tout en profitant d’un tournoi convivial et familial. \n*Buy-in : 40\,00€ \nStacks : 40.000 \nEarly bird : 5.000 \nRe-entry : 6 lvl \nBlind : 20 min \nRestez connectés et participez à nos différents rankings. De nombreux lots mis en jeu tout au long de l’année. \n*Sous réserve de changement \n  \nInscrivez-vous ici !
URL:https://www.casinodespa.be/evenement/poker-family-2/2025-10-17/
LOCATION:Casino de spa
CATEGORIES:Poker
ATTACH;FMTTYPE=image/jpeg:https://www.casinodespa.be/wp-content/uploads/2024/03/777.off_20230601_CDS_Visuel-Poker-Family-_FB_Events.jpg
END:VEVENT
BEGIN:VEVENT
DTSTART;TZID=Europe/Brussels:20251017T200000
DTEND;TZID=Europe/Brussels:20251017T233000
DTSTAMP:20260419T180720
CREATED:20240220T110815Z
LAST-MODIFIED:20240320T102410Z
UID:10000354-1760731200-1760743800@www.casinodespa.be
SUMMARY:Carte ou pas cap?
DESCRIPTION:Faites le plein de cadeaux ! \n\nTous les vendredi\, défiez les probabilités et tentez de terminer notre parcours de cartes pour remporter jusqu’à 160€. \nJe veux lire le règlement 
URL:https://www.casinodespa.be/evenement/carte-ou-pas-cap/2025-10-17/
LOCATION:Casino de spa
CATEGORIES:Casino
ATTACH;FMTTYPE=image/jpeg:https://www.casinodespa.be/wp-content/uploads/2024/02/FB_Event.jpg
END:VEVENT
BEGIN:VEVENT
DTSTART;TZID=Europe/Brussels:20251018T200000
DTEND;TZID=Europe/Brussels:20251018T235900
DTSTAMP:20260419T180720
CREATED:20240220T120830Z
LAST-MODIFIED:20240220T122959Z
UID:10001660-1760817600-1760831940@www.casinodespa.be
SUMMARY:Cash Game Gourmand
DESCRIPTION:Tous les samedis au Casino de Spa c’est le Cash game gourmand! \nJouez 4h minimum et recevez un repas au Grill du Casino*. \nMin 50€\nMax 500€\nBlinds 2-2 \n*voir conditions au Grill du Casino \n\nRéservation souhaitée au +32 497 19 89 65.
URL:https://www.casinodespa.be/evenement/cash-game-gourmand/2025-10-18/
LOCATION:Casino de spa
CATEGORIES:Casino,Poker
ATTACH;FMTTYPE=image/jpeg:https://www.casinodespa.be/wp-content/uploads/2024/02/FB_Event-2.jpg
END:VEVENT
BEGIN:VEVENT
DTSTART;TZID=Europe/Brussels:20251019T150000
DTEND;TZID=Europe/Brussels:20251019T230000
DTSTAMP:20260419T180720
CREATED:20240220T120955Z
LAST-MODIFIED:20240320T102749Z
UID:10001921-1760886000-1760914800@www.casinodespa.be
SUMMARY:Double Sunday
DESCRIPTION:Tous les dimanches\, le Casino de Spa vous gâte ! \n15h-17h: Passage de tartes dans les salons de jeu du Casino* \n18h-23h: Jouez 20€ et obtenez 2.000 S points supplémentaires. \nDans la limite des stocks disponibles. \nJe veux lire le règlement 
URL:https://www.casinodespa.be/evenement/double-sunday/2025-10-19/
LOCATION:Casino de spa
CATEGORIES:Casino
ATTACH;FMTTYPE=image/jpeg:https://www.casinodespa.be/wp-content/uploads/2024/02/777.off_20230701_CDS_Double-Sunday_FB_Event.jpg
END:VEVENT
BEGIN:VEVENT
DTSTART;TZID=Europe/Brussels:20251020T180000
DTEND;TZID=Europe/Brussels:20251020T180000
DTSTAMP:20260419T180720
CREATED:20240220T111415Z
LAST-MODIFIED:20250113T113612Z
UID:10000615-1760983200-1760983200@www.casinodespa.be
SUMMARY:Menu duo du lundi
DESCRIPTION:Chaque lundi au Casino de Spa à partir de 18h\, venez profiter de notre formule duo. \n1 plat au choix parmi 5 choix + dessert + 10€ de crédit de jeu pour 25€ seulement. \nChoix de plats : \n\n\nBurger Casino\nFish and chips\nFilet d’aloyau – sauce béarnaise\nCivet de marcassin avec croquettes\nPennes au poulet curry\n\nLaissez vous tenter ! 
URL:https://www.casinodespa.be/evenement/menu-duo-du-lundi/2025-10-20/
LOCATION:Le Grill
CATEGORIES:Casino,Restaurant
ATTACH;FMTTYPE=image/jpeg:https://www.casinodespa.be/wp-content/uploads/2024/02/777.off_CDS_Menu-Duo_Event.jpg
END:VEVENT
BEGIN:VEVENT
DTSTART;TZID=Europe/Brussels:20251021T180000
DTEND;TZID=Europe/Brussels:20251021T180000
DTSTAMP:20260419T180720
CREATED:20250113T144249Z
LAST-MODIFIED:20250113T144328Z
UID:10003039-1761069600-1761069600@www.casinodespa.be
SUMMARY:Circus Poker self-deal
DESCRIPTION:Mardi | Circus Poker self-deal\nPréparez votre meilleur poker face : le mardi\, c’est votre as dans la manche ! \nRendez-vous tous les mardis au Casino de Spa pour nos tournois de self-deal \nBuy-in : 30.00€ \nStacks : 40k \nBlind : 20 min \nBonne ambiance\, gros coups et fous rires garantis. On mélange\, on distribue\, et c’est parti pour une partie où chaque coup peut tout changer. Préparez vos meilleurs bluffs et venez mettre votre poker face à l’épreuve. Le mardi soir\, c’est votre main gagnante ! \n 
URL:https://www.casinodespa.be/evenement/circus-poker-self-deal/2025-10-21/
ATTACH;FMTTYPE=image/jpeg:https://www.casinodespa.be/wp-content/uploads/2025/01/FB_Events.jpg
END:VEVENT
BEGIN:VEVENT
DTSTART;TZID=Europe/Brussels:20251021T200000
DTEND;TZID=Europe/Brussels:20251021T235900
DTSTAMP:20260419T180720
CREATED:20240220T120254Z
LAST-MODIFIED:20240320T123547Z
UID:10000877-1761076800-1761091140@www.casinodespa.be
SUMMARY:Bingo 2.0
DESCRIPTION:525€ de cadeaux à gagner en jouant à notre Bingo 100% gratuit tous les mardis dès 20h! \n\nParticipez chaque mardi à nos 3 parties gratuites de Bingo et tentez de compléter vos grilles. \nCette année\, votre statut sera mis à l’honneur. Profitez de multiplicateurs de statuts pour nos deux dernières parties. \nFerez-vous partie de nos chanceux gagnants? \nRendez-vous tous les mardis à partir de 20h pour le savoir. \n\n 
URL:https://www.casinodespa.be/evenement/bingo-2-0/2025-10-21/
LOCATION:Casino de spa
CATEGORIES:Casino
ATTACH;FMTTYPE=image/jpeg:https://www.casinodespa.be/wp-content/uploads/2024/02/777.off_20231231_CDS_bingo-mardi-2.0_FB_Event.jpg
END:VEVENT
END:VCALENDAR