BEGIN:VCALENDAR
VERSION:2.0
PRODID:-//Casino de Spa - ECPv6.15.17.1//NONSGML v1.0//EN
CALSCALE:GREGORIAN
METHOD:PUBLISH
X-WR-CALNAME:Casino de Spa
X-ORIGINAL-URL:https://www.casinodespa.be
X-WR-CALDESC:Évènements pour Casino de Spa
REFRESH-INTERVAL;VALUE=DURATION:PT1H
X-Robots-Tag:noindex
X-PUBLISHED-TTL:PT1H
BEGIN:VTIMEZONE
TZID:Europe/Brussels
BEGIN:DAYLIGHT
TZOFFSETFROM:+0100
TZOFFSETTO:+0200
TZNAME:CEST
DTSTART:20260329T010000
END:DAYLIGHT
BEGIN:STANDARD
TZOFFSETFROM:+0200
TZOFFSETTO:+0100
TZNAME:CET
DTSTART:20261025T010000
END:STANDARD
BEGIN:DAYLIGHT
TZOFFSETFROM:+0100
TZOFFSETTO:+0200
TZNAME:CEST
DTSTART:20270328T010000
END:DAYLIGHT
BEGIN:STANDARD
TZOFFSETFROM:+0200
TZOFFSETTO:+0100
TZNAME:CET
DTSTART:20271031T010000
END:STANDARD
BEGIN:DAYLIGHT
TZOFFSETFROM:+0100
TZOFFSETTO:+0200
TZNAME:CEST
DTSTART:20280326T010000
END:DAYLIGHT
BEGIN:STANDARD
TZOFFSETFROM:+0200
TZOFFSETTO:+0100
TZNAME:CET
DTSTART:20281029T010000
END:STANDARD
END:VTIMEZONE
BEGIN:VEVENT
DTSTART;TZID=Europe/Brussels:20270101T180000
DTEND;TZID=Europe/Brussels:20270101T180000
DTSTAMP:20260420T002529
CREATED:20251219T203319Z
LAST-MODIFIED:20251219T203447Z
UID:10003340-1798826400-1798826400@www.casinodespa.be
SUMMARY:Circus Poker self-deal
DESCRIPTION:Vendredi | Circus Poker self-deal\nPréparez votre meilleur poker face : le vendredi\, c’est votre as dans la manche ! \nRendez-vous tous les vendredis au Casino de Spa pour nos tournois de self-deal \nBuy-in : 30.00€ \nStacks : 40k \nBlind : 20 min \nBonne ambiance\, gros coups et fous rires garantis. On mélange\, on distribue\, et c’est parti pour une partie où chaque coup peut tout changer. Préparez vos meilleurs bluffs et venez mettre votre poker face à l’épreuve. Le vendredi soir\, c’est votre main gagnante ! \n 
URL:https://www.casinodespa.be/evenement/circus-poker-self-deal-2/2027-01-01/
LOCATION:Casino de spa
ATTACH;FMTTYPE=image/jpeg:https://www.casinodespa.be/wp-content/uploads/2025/01/FB_Events.jpg
END:VEVENT
BEGIN:VEVENT
DTSTART;TZID=Europe/Brussels:20270101T200000
DTEND;TZID=Europe/Brussels:20270101T233000
DTSTAMP:20260420T002529
CREATED:20240220T110815Z
LAST-MODIFIED:20240320T102410Z
UID:10000417-1798833600-1798846200@www.casinodespa.be
SUMMARY:Carte ou pas cap?
DESCRIPTION:Faites le plein de cadeaux ! \n\nTous les vendredi\, défiez les probabilités et tentez de terminer notre parcours de cartes pour remporter jusqu’à 160€. \nJe veux lire le règlement 
URL:https://www.casinodespa.be/evenement/carte-ou-pas-cap/2027-01-01/
LOCATION:Casino de spa
CATEGORIES:Casino
ATTACH;FMTTYPE=image/jpeg:https://www.casinodespa.be/wp-content/uploads/2024/02/FB_Event.jpg
END:VEVENT
BEGIN:VEVENT
DTSTART;TZID=Europe/Brussels:20270102T200000
DTEND;TZID=Europe/Brussels:20270102T235900
DTSTAMP:20260420T002529
CREATED:20240220T120830Z
LAST-MODIFIED:20240220T122959Z
UID:10001723-1798920000-1798934340@www.casinodespa.be
SUMMARY:Cash Game Gourmand
DESCRIPTION:Tous les samedis au Casino de Spa c’est le Cash game gourmand! \nJouez 4h minimum et recevez un repas au Grill du Casino*. \nMin 50€\nMax 500€\nBlinds 2-2 \n*voir conditions au Grill du Casino \n\nRéservation souhaitée au +32 497 19 89 65.
URL:https://www.casinodespa.be/evenement/cash-game-gourmand/2027-01-02/
LOCATION:Casino de spa
CATEGORIES:Casino,Poker
ATTACH;FMTTYPE=image/jpeg:https://www.casinodespa.be/wp-content/uploads/2024/02/FB_Event-2.jpg
END:VEVENT
BEGIN:VEVENT
DTSTART;TZID=Europe/Brussels:20270103T150000
DTEND;TZID=Europe/Brussels:20270103T230000
DTSTAMP:20260420T002529
CREATED:20240220T120955Z
LAST-MODIFIED:20240320T102749Z
UID:10001984-1798988400-1799017200@www.casinodespa.be
SUMMARY:Double Sunday
DESCRIPTION:Tous les dimanches\, le Casino de Spa vous gâte ! \n15h-17h: Passage de tartes dans les salons de jeu du Casino* \n18h-23h: Jouez 20€ et obtenez 2.000 S points supplémentaires. \nDans la limite des stocks disponibles. \nJe veux lire le règlement 
URL:https://www.casinodespa.be/evenement/double-sunday/2027-01-03/
LOCATION:Casino de spa
CATEGORIES:Casino
ATTACH;FMTTYPE=image/jpeg:https://www.casinodespa.be/wp-content/uploads/2024/02/777.off_20230701_CDS_Double-Sunday_FB_Event.jpg
END:VEVENT
BEGIN:VEVENT
DTSTART;TZID=Europe/Brussels:20270104T180000
DTEND;TZID=Europe/Brussels:20270104T180000
DTSTAMP:20260420T002529
CREATED:20240220T111415Z
LAST-MODIFIED:20250113T113612Z
UID:10000678-1799085600-1799085600@www.casinodespa.be
SUMMARY:Menu duo du lundi
DESCRIPTION:Chaque lundi au Casino de Spa à partir de 18h\, venez profiter de notre formule duo. \n1 plat au choix parmi 5 choix + dessert + 10€ de crédit de jeu pour 25€ seulement. \nChoix de plats : \n\n\nBurger Casino\nFish and chips\nFilet d’aloyau – sauce béarnaise\nCivet de marcassin avec croquettes\nPennes au poulet curry\n\nLaissez vous tenter ! 
URL:https://www.casinodespa.be/evenement/menu-duo-du-lundi/2027-01-04/
LOCATION:Le Grill
CATEGORIES:Casino,Restaurant
ATTACH;FMTTYPE=image/jpeg:https://www.casinodespa.be/wp-content/uploads/2024/02/777.off_CDS_Menu-Duo_Event.jpg
END:VEVENT
BEGIN:VEVENT
DTSTART;TZID=Europe/Brussels:20270105T190000
DTEND;TZID=Europe/Brussels:20270105T233000
DTSTAMP:20260420T002529
CREATED:20251219T203553Z
LAST-MODIFIED:20251219T203644Z
UID:10003598-1799175600-1799191800@www.casinodespa.be
SUMMARY:Poker Family
DESCRIPTION:Tous les mardis au Casino de Spa\, dès 19h00\, participez à notre tournoi self-deal organisé par le tout nouveau club de la région\, Poker Family.  Profitez du confort Casino tout en profitant d’un tournoi convivial et familial. \n*Buy-in : 40\,00€ \nStacks : 40.000 \nEarly bird : 5.000 \nRe-entry : 6 lvl \nBlind : 20 min \nRestez connectés et participez à nos différents rankings. De nombreux lots mis en jeu tout au long de l’année. \n*Sous réserve de changement \n  \nInscrivez-vous ici !
URL:https://www.casinodespa.be/evenement/poker-family-2-2/2027-01-05/
LOCATION:Casino de spa
CATEGORIES:Poker
ATTACH;FMTTYPE=image/jpeg:https://www.casinodespa.be/wp-content/uploads/2024/03/777.off_20230601_CDS_Visuel-Poker-Family-_FB_Events.jpg
END:VEVENT
BEGIN:VEVENT
DTSTART;TZID=Europe/Brussels:20270105T200000
DTEND;TZID=Europe/Brussels:20270105T235900
DTSTAMP:20260420T002529
CREATED:20240220T120254Z
LAST-MODIFIED:20240320T123547Z
UID:10000940-1799179200-1799193540@www.casinodespa.be
SUMMARY:Bingo 2.0
DESCRIPTION:525€ de cadeaux à gagner en jouant à notre Bingo 100% gratuit tous les mardis dès 20h! \n\nParticipez chaque mardi à nos 3 parties gratuites de Bingo et tentez de compléter vos grilles. \nCette année\, votre statut sera mis à l’honneur. Profitez de multiplicateurs de statuts pour nos deux dernières parties. \nFerez-vous partie de nos chanceux gagnants? \nRendez-vous tous les mardis à partir de 20h pour le savoir. \n\n 
URL:https://www.casinodespa.be/evenement/bingo-2-0/2027-01-05/
LOCATION:Casino de spa
CATEGORIES:Casino
ATTACH;FMTTYPE=image/jpeg:https://www.casinodespa.be/wp-content/uploads/2024/02/777.off_20231231_CDS_bingo-mardi-2.0_FB_Event.jpg
END:VEVENT
BEGIN:VEVENT
DTSTART;TZID=Europe/Brussels:20270106T200000
DTEND;TZID=Europe/Brussels:20270106T235900
DTSTAMP:20260420T002529
CREATED:20240220T120510Z
LAST-MODIFIED:20240320T102134Z
UID:10001202-1799265600-1799279940@www.casinodespa.be
SUMMARY:Ping-pong challenge
DESCRIPTION:Ping-pong challenge | Casino de Spa\nTous les mercredis à partir de 20h\, venez jouer au ping pong challenge! \nRécupérez votre ticket à la borne et venez le placer dans l’urne pour tenter de participer au lancé de roue. \n\nLancez la roue\nRécupérez un max de balles dans la souffleuse à balles\nGagnez un max de cadeaux
URL:https://www.casinodespa.be/evenement/ping-pong-challenge/2027-01-06/
LOCATION:Casino de spa
CATEGORIES:Casino
ATTACH;FMTTYPE=image/jpeg:https://www.casinodespa.be/wp-content/uploads/2024/02/Event.jpg
END:VEVENT
BEGIN:VEVENT
DTSTART;VALUE=DATE:20270107
DTEND;VALUE=DATE:20270108
DTSTAMP:20260420T002529
CREATED:20240220T120724Z
LAST-MODIFIED:20240320T102557Z
UID:10001463-1799280000-1799366399@www.casinodespa.be
SUMMARY:Happy Thursday
DESCRIPTION:Jouez avec votre S carte sur nos machines à sous et doublez automatiquement vos S points toute la journée ! \nC’est tous les jeudis au Casino de Spa !
URL:https://www.casinodespa.be/evenement/happy-thursday/2027-01-07/
LOCATION:Casino de spa
CATEGORIES:Casino
ATTACH;FMTTYPE=image/jpeg:https://www.casinodespa.be/wp-content/uploads/2024/02/FB_Event-1.jpg
END:VEVENT
BEGIN:VEVENT
DTSTART;TZID=Europe/Brussels:20270108T180000
DTEND;TZID=Europe/Brussels:20270108T180000
DTSTAMP:20260420T002529
CREATED:20251219T203319Z
LAST-MODIFIED:20251219T203447Z
UID:10003341-1799431200-1799431200@www.casinodespa.be
SUMMARY:Circus Poker self-deal
DESCRIPTION:Vendredi | Circus Poker self-deal\nPréparez votre meilleur poker face : le vendredi\, c’est votre as dans la manche ! \nRendez-vous tous les vendredis au Casino de Spa pour nos tournois de self-deal \nBuy-in : 30.00€ \nStacks : 40k \nBlind : 20 min \nBonne ambiance\, gros coups et fous rires garantis. On mélange\, on distribue\, et c’est parti pour une partie où chaque coup peut tout changer. Préparez vos meilleurs bluffs et venez mettre votre poker face à l’épreuve. Le vendredi soir\, c’est votre main gagnante ! \n 
URL:https://www.casinodespa.be/evenement/circus-poker-self-deal-2/2027-01-08/
LOCATION:Casino de spa
ATTACH;FMTTYPE=image/jpeg:https://www.casinodespa.be/wp-content/uploads/2025/01/FB_Events.jpg
END:VEVENT
BEGIN:VEVENT
DTSTART;TZID=Europe/Brussels:20270108T200000
DTEND;TZID=Europe/Brussels:20270108T233000
DTSTAMP:20260420T002529
CREATED:20240220T110815Z
LAST-MODIFIED:20240320T102410Z
UID:10000418-1799438400-1799451000@www.casinodespa.be
SUMMARY:Carte ou pas cap?
DESCRIPTION:Faites le plein de cadeaux ! \n\nTous les vendredi\, défiez les probabilités et tentez de terminer notre parcours de cartes pour remporter jusqu’à 160€. \nJe veux lire le règlement 
URL:https://www.casinodespa.be/evenement/carte-ou-pas-cap/2027-01-08/
LOCATION:Casino de spa
CATEGORIES:Casino
ATTACH;FMTTYPE=image/jpeg:https://www.casinodespa.be/wp-content/uploads/2024/02/FB_Event.jpg
END:VEVENT
BEGIN:VEVENT
DTSTART;TZID=Europe/Brussels:20270109T200000
DTEND;TZID=Europe/Brussels:20270109T235900
DTSTAMP:20260420T002529
CREATED:20240220T120830Z
LAST-MODIFIED:20240220T122959Z
UID:10001724-1799524800-1799539140@www.casinodespa.be
SUMMARY:Cash Game Gourmand
DESCRIPTION:Tous les samedis au Casino de Spa c’est le Cash game gourmand! \nJouez 4h minimum et recevez un repas au Grill du Casino*. \nMin 50€\nMax 500€\nBlinds 2-2 \n*voir conditions au Grill du Casino \n\nRéservation souhaitée au +32 497 19 89 65.
URL:https://www.casinodespa.be/evenement/cash-game-gourmand/2027-01-09/
LOCATION:Casino de spa
CATEGORIES:Casino,Poker
ATTACH;FMTTYPE=image/jpeg:https://www.casinodespa.be/wp-content/uploads/2024/02/FB_Event-2.jpg
END:VEVENT
BEGIN:VEVENT
DTSTART;TZID=Europe/Brussels:20270110T150000
DTEND;TZID=Europe/Brussels:20270110T230000
DTSTAMP:20260420T002529
CREATED:20240220T120955Z
LAST-MODIFIED:20240320T102749Z
UID:10001985-1799593200-1799622000@www.casinodespa.be
SUMMARY:Double Sunday
DESCRIPTION:Tous les dimanches\, le Casino de Spa vous gâte ! \n15h-17h: Passage de tartes dans les salons de jeu du Casino* \n18h-23h: Jouez 20€ et obtenez 2.000 S points supplémentaires. \nDans la limite des stocks disponibles. \nJe veux lire le règlement 
URL:https://www.casinodespa.be/evenement/double-sunday/2027-01-10/
LOCATION:Casino de spa
CATEGORIES:Casino
ATTACH;FMTTYPE=image/jpeg:https://www.casinodespa.be/wp-content/uploads/2024/02/777.off_20230701_CDS_Double-Sunday_FB_Event.jpg
END:VEVENT
BEGIN:VEVENT
DTSTART;TZID=Europe/Brussels:20270111T180000
DTEND;TZID=Europe/Brussels:20270111T180000
DTSTAMP:20260420T002529
CREATED:20240220T111415Z
LAST-MODIFIED:20250113T113612Z
UID:10000679-1799690400-1799690400@www.casinodespa.be
SUMMARY:Menu duo du lundi
DESCRIPTION:Chaque lundi au Casino de Spa à partir de 18h\, venez profiter de notre formule duo. \n1 plat au choix parmi 5 choix + dessert + 10€ de crédit de jeu pour 25€ seulement. \nChoix de plats : \n\n\nBurger Casino\nFish and chips\nFilet d’aloyau – sauce béarnaise\nCivet de marcassin avec croquettes\nPennes au poulet curry\n\nLaissez vous tenter ! 
URL:https://www.casinodespa.be/evenement/menu-duo-du-lundi/2027-01-11/
LOCATION:Le Grill
CATEGORIES:Casino,Restaurant
ATTACH;FMTTYPE=image/jpeg:https://www.casinodespa.be/wp-content/uploads/2024/02/777.off_CDS_Menu-Duo_Event.jpg
END:VEVENT
BEGIN:VEVENT
DTSTART;TZID=Europe/Brussels:20270112T190000
DTEND;TZID=Europe/Brussels:20270112T233000
DTSTAMP:20260420T002529
CREATED:20251219T203553Z
LAST-MODIFIED:20251219T203644Z
UID:10003599-1799780400-1799796600@www.casinodespa.be
SUMMARY:Poker Family
DESCRIPTION:Tous les mardis au Casino de Spa\, dès 19h00\, participez à notre tournoi self-deal organisé par le tout nouveau club de la région\, Poker Family.  Profitez du confort Casino tout en profitant d’un tournoi convivial et familial. \n*Buy-in : 40\,00€ \nStacks : 40.000 \nEarly bird : 5.000 \nRe-entry : 6 lvl \nBlind : 20 min \nRestez connectés et participez à nos différents rankings. De nombreux lots mis en jeu tout au long de l’année. \n*Sous réserve de changement \n  \nInscrivez-vous ici !
URL:https://www.casinodespa.be/evenement/poker-family-2-2/2027-01-12/
LOCATION:Casino de spa
CATEGORIES:Poker
ATTACH;FMTTYPE=image/jpeg:https://www.casinodespa.be/wp-content/uploads/2024/03/777.off_20230601_CDS_Visuel-Poker-Family-_FB_Events.jpg
END:VEVENT
BEGIN:VEVENT
DTSTART;TZID=Europe/Brussels:20270112T200000
DTEND;TZID=Europe/Brussels:20270112T235900
DTSTAMP:20260420T002529
CREATED:20240220T120254Z
LAST-MODIFIED:20240320T123547Z
UID:10000941-1799784000-1799798340@www.casinodespa.be
SUMMARY:Bingo 2.0
DESCRIPTION:525€ de cadeaux à gagner en jouant à notre Bingo 100% gratuit tous les mardis dès 20h! \n\nParticipez chaque mardi à nos 3 parties gratuites de Bingo et tentez de compléter vos grilles. \nCette année\, votre statut sera mis à l’honneur. Profitez de multiplicateurs de statuts pour nos deux dernières parties. \nFerez-vous partie de nos chanceux gagnants? \nRendez-vous tous les mardis à partir de 20h pour le savoir. \n\n 
URL:https://www.casinodespa.be/evenement/bingo-2-0/2027-01-12/
LOCATION:Casino de spa
CATEGORIES:Casino
ATTACH;FMTTYPE=image/jpeg:https://www.casinodespa.be/wp-content/uploads/2024/02/777.off_20231231_CDS_bingo-mardi-2.0_FB_Event.jpg
END:VEVENT
BEGIN:VEVENT
DTSTART;TZID=Europe/Brussels:20270113T200000
DTEND;TZID=Europe/Brussels:20270113T235900
DTSTAMP:20260420T002529
CREATED:20240220T120510Z
LAST-MODIFIED:20240320T102134Z
UID:10001203-1799870400-1799884740@www.casinodespa.be
SUMMARY:Ping-pong challenge
DESCRIPTION:Ping-pong challenge | Casino de Spa\nTous les mercredis à partir de 20h\, venez jouer au ping pong challenge! \nRécupérez votre ticket à la borne et venez le placer dans l’urne pour tenter de participer au lancé de roue. \n\nLancez la roue\nRécupérez un max de balles dans la souffleuse à balles\nGagnez un max de cadeaux
URL:https://www.casinodespa.be/evenement/ping-pong-challenge/2027-01-13/
LOCATION:Casino de spa
CATEGORIES:Casino
ATTACH;FMTTYPE=image/jpeg:https://www.casinodespa.be/wp-content/uploads/2024/02/Event.jpg
END:VEVENT
BEGIN:VEVENT
DTSTART;VALUE=DATE:20270114
DTEND;VALUE=DATE:20270115
DTSTAMP:20260420T002529
CREATED:20240220T120724Z
LAST-MODIFIED:20240320T102557Z
UID:10001464-1799884800-1799971199@www.casinodespa.be
SUMMARY:Happy Thursday
DESCRIPTION:Jouez avec votre S carte sur nos machines à sous et doublez automatiquement vos S points toute la journée ! \nC’est tous les jeudis au Casino de Spa !
URL:https://www.casinodespa.be/evenement/happy-thursday/2027-01-14/
LOCATION:Casino de spa
CATEGORIES:Casino
ATTACH;FMTTYPE=image/jpeg:https://www.casinodespa.be/wp-content/uploads/2024/02/FB_Event-1.jpg
END:VEVENT
BEGIN:VEVENT
DTSTART;TZID=Europe/Brussels:20270115T180000
DTEND;TZID=Europe/Brussels:20270115T180000
DTSTAMP:20260420T002529
CREATED:20251219T203319Z
LAST-MODIFIED:20251219T203447Z
UID:10003342-1800036000-1800036000@www.casinodespa.be
SUMMARY:Circus Poker self-deal
DESCRIPTION:Vendredi | Circus Poker self-deal\nPréparez votre meilleur poker face : le vendredi\, c’est votre as dans la manche ! \nRendez-vous tous les vendredis au Casino de Spa pour nos tournois de self-deal \nBuy-in : 30.00€ \nStacks : 40k \nBlind : 20 min \nBonne ambiance\, gros coups et fous rires garantis. On mélange\, on distribue\, et c’est parti pour une partie où chaque coup peut tout changer. Préparez vos meilleurs bluffs et venez mettre votre poker face à l’épreuve. Le vendredi soir\, c’est votre main gagnante ! \n 
URL:https://www.casinodespa.be/evenement/circus-poker-self-deal-2/2027-01-15/
LOCATION:Casino de spa
ATTACH;FMTTYPE=image/jpeg:https://www.casinodespa.be/wp-content/uploads/2025/01/FB_Events.jpg
END:VEVENT
BEGIN:VEVENT
DTSTART;TZID=Europe/Brussels:20270115T200000
DTEND;TZID=Europe/Brussels:20270115T233000
DTSTAMP:20260420T002529
CREATED:20240220T110815Z
LAST-MODIFIED:20240320T102410Z
UID:10000419-1800043200-1800055800@www.casinodespa.be
SUMMARY:Carte ou pas cap?
DESCRIPTION:Faites le plein de cadeaux ! \n\nTous les vendredi\, défiez les probabilités et tentez de terminer notre parcours de cartes pour remporter jusqu’à 160€. \nJe veux lire le règlement 
URL:https://www.casinodespa.be/evenement/carte-ou-pas-cap/2027-01-15/
LOCATION:Casino de spa
CATEGORIES:Casino
ATTACH;FMTTYPE=image/jpeg:https://www.casinodespa.be/wp-content/uploads/2024/02/FB_Event.jpg
END:VEVENT
BEGIN:VEVENT
DTSTART;TZID=Europe/Brussels:20270116T200000
DTEND;TZID=Europe/Brussels:20270116T235900
DTSTAMP:20260420T002529
CREATED:20240220T120830Z
LAST-MODIFIED:20240220T122959Z
UID:10001725-1800129600-1800143940@www.casinodespa.be
SUMMARY:Cash Game Gourmand
DESCRIPTION:Tous les samedis au Casino de Spa c’est le Cash game gourmand! \nJouez 4h minimum et recevez un repas au Grill du Casino*. \nMin 50€\nMax 500€\nBlinds 2-2 \n*voir conditions au Grill du Casino \n\nRéservation souhaitée au +32 497 19 89 65.
URL:https://www.casinodespa.be/evenement/cash-game-gourmand/2027-01-16/
LOCATION:Casino de spa
CATEGORIES:Casino,Poker
ATTACH;FMTTYPE=image/jpeg:https://www.casinodespa.be/wp-content/uploads/2024/02/FB_Event-2.jpg
END:VEVENT
BEGIN:VEVENT
DTSTART;TZID=Europe/Brussels:20270117T150000
DTEND;TZID=Europe/Brussels:20270117T230000
DTSTAMP:20260420T002529
CREATED:20240220T120955Z
LAST-MODIFIED:20240320T102749Z
UID:10001986-1800198000-1800226800@www.casinodespa.be
SUMMARY:Double Sunday
DESCRIPTION:Tous les dimanches\, le Casino de Spa vous gâte ! \n15h-17h: Passage de tartes dans les salons de jeu du Casino* \n18h-23h: Jouez 20€ et obtenez 2.000 S points supplémentaires. \nDans la limite des stocks disponibles. \nJe veux lire le règlement 
URL:https://www.casinodespa.be/evenement/double-sunday/2027-01-17/
LOCATION:Casino de spa
CATEGORIES:Casino
ATTACH;FMTTYPE=image/jpeg:https://www.casinodespa.be/wp-content/uploads/2024/02/777.off_20230701_CDS_Double-Sunday_FB_Event.jpg
END:VEVENT
BEGIN:VEVENT
DTSTART;TZID=Europe/Brussels:20270118T180000
DTEND;TZID=Europe/Brussels:20270118T180000
DTSTAMP:20260420T002529
CREATED:20240220T111415Z
LAST-MODIFIED:20250113T113612Z
UID:10000680-1800295200-1800295200@www.casinodespa.be
SUMMARY:Menu duo du lundi
DESCRIPTION:Chaque lundi au Casino de Spa à partir de 18h\, venez profiter de notre formule duo. \n1 plat au choix parmi 5 choix + dessert + 10€ de crédit de jeu pour 25€ seulement. \nChoix de plats : \n\n\nBurger Casino\nFish and chips\nFilet d’aloyau – sauce béarnaise\nCivet de marcassin avec croquettes\nPennes au poulet curry\n\nLaissez vous tenter ! 
URL:https://www.casinodespa.be/evenement/menu-duo-du-lundi/2027-01-18/
LOCATION:Le Grill
CATEGORIES:Casino,Restaurant
ATTACH;FMTTYPE=image/jpeg:https://www.casinodespa.be/wp-content/uploads/2024/02/777.off_CDS_Menu-Duo_Event.jpg
END:VEVENT
BEGIN:VEVENT
DTSTART;TZID=Europe/Brussels:20270119T190000
DTEND;TZID=Europe/Brussels:20270119T233000
DTSTAMP:20260420T002529
CREATED:20251219T203553Z
LAST-MODIFIED:20251219T203644Z
UID:10003600-1800385200-1800401400@www.casinodespa.be
SUMMARY:Poker Family
DESCRIPTION:Tous les mardis au Casino de Spa\, dès 19h00\, participez à notre tournoi self-deal organisé par le tout nouveau club de la région\, Poker Family.  Profitez du confort Casino tout en profitant d’un tournoi convivial et familial. \n*Buy-in : 40\,00€ \nStacks : 40.000 \nEarly bird : 5.000 \nRe-entry : 6 lvl \nBlind : 20 min \nRestez connectés et participez à nos différents rankings. De nombreux lots mis en jeu tout au long de l’année. \n*Sous réserve de changement \n  \nInscrivez-vous ici !
URL:https://www.casinodespa.be/evenement/poker-family-2-2/2027-01-19/
LOCATION:Casino de spa
CATEGORIES:Poker
ATTACH;FMTTYPE=image/jpeg:https://www.casinodespa.be/wp-content/uploads/2024/03/777.off_20230601_CDS_Visuel-Poker-Family-_FB_Events.jpg
END:VEVENT
BEGIN:VEVENT
DTSTART;TZID=Europe/Brussels:20270119T200000
DTEND;TZID=Europe/Brussels:20270119T235900
DTSTAMP:20260420T002529
CREATED:20240220T120254Z
LAST-MODIFIED:20240320T123547Z
UID:10000942-1800388800-1800403140@www.casinodespa.be
SUMMARY:Bingo 2.0
DESCRIPTION:525€ de cadeaux à gagner en jouant à notre Bingo 100% gratuit tous les mardis dès 20h! \n\nParticipez chaque mardi à nos 3 parties gratuites de Bingo et tentez de compléter vos grilles. \nCette année\, votre statut sera mis à l’honneur. Profitez de multiplicateurs de statuts pour nos deux dernières parties. \nFerez-vous partie de nos chanceux gagnants? \nRendez-vous tous les mardis à partir de 20h pour le savoir. \n\n 
URL:https://www.casinodespa.be/evenement/bingo-2-0/2027-01-19/
LOCATION:Casino de spa
CATEGORIES:Casino
ATTACH;FMTTYPE=image/jpeg:https://www.casinodespa.be/wp-content/uploads/2024/02/777.off_20231231_CDS_bingo-mardi-2.0_FB_Event.jpg
END:VEVENT
BEGIN:VEVENT
DTSTART;TZID=Europe/Brussels:20270120T200000
DTEND;TZID=Europe/Brussels:20270120T235900
DTSTAMP:20260420T002529
CREATED:20240220T120510Z
LAST-MODIFIED:20240320T102134Z
UID:10001204-1800475200-1800489540@www.casinodespa.be
SUMMARY:Ping-pong challenge
DESCRIPTION:Ping-pong challenge | Casino de Spa\nTous les mercredis à partir de 20h\, venez jouer au ping pong challenge! \nRécupérez votre ticket à la borne et venez le placer dans l’urne pour tenter de participer au lancé de roue. \n\nLancez la roue\nRécupérez un max de balles dans la souffleuse à balles\nGagnez un max de cadeaux
URL:https://www.casinodespa.be/evenement/ping-pong-challenge/2027-01-20/
LOCATION:Casino de spa
CATEGORIES:Casino
ATTACH;FMTTYPE=image/jpeg:https://www.casinodespa.be/wp-content/uploads/2024/02/Event.jpg
END:VEVENT
BEGIN:VEVENT
DTSTART;VALUE=DATE:20270121
DTEND;VALUE=DATE:20270122
DTSTAMP:20260420T002529
CREATED:20240220T120724Z
LAST-MODIFIED:20240320T102557Z
UID:10001465-1800489600-1800575999@www.casinodespa.be
SUMMARY:Happy Thursday
DESCRIPTION:Jouez avec votre S carte sur nos machines à sous et doublez automatiquement vos S points toute la journée ! \nC’est tous les jeudis au Casino de Spa !
URL:https://www.casinodespa.be/evenement/happy-thursday/2027-01-21/
LOCATION:Casino de spa
CATEGORIES:Casino
ATTACH;FMTTYPE=image/jpeg:https://www.casinodespa.be/wp-content/uploads/2024/02/FB_Event-1.jpg
END:VEVENT
BEGIN:VEVENT
DTSTART;TZID=Europe/Brussels:20270122T180000
DTEND;TZID=Europe/Brussels:20270122T180000
DTSTAMP:20260420T002529
CREATED:20251219T203319Z
LAST-MODIFIED:20251219T203447Z
UID:10003343-1800640800-1800640800@www.casinodespa.be
SUMMARY:Circus Poker self-deal
DESCRIPTION:Vendredi | Circus Poker self-deal\nPréparez votre meilleur poker face : le vendredi\, c’est votre as dans la manche ! \nRendez-vous tous les vendredis au Casino de Spa pour nos tournois de self-deal \nBuy-in : 30.00€ \nStacks : 40k \nBlind : 20 min \nBonne ambiance\, gros coups et fous rires garantis. On mélange\, on distribue\, et c’est parti pour une partie où chaque coup peut tout changer. Préparez vos meilleurs bluffs et venez mettre votre poker face à l’épreuve. Le vendredi soir\, c’est votre main gagnante ! \n 
URL:https://www.casinodespa.be/evenement/circus-poker-self-deal-2/2027-01-22/
LOCATION:Casino de spa
ATTACH;FMTTYPE=image/jpeg:https://www.casinodespa.be/wp-content/uploads/2025/01/FB_Events.jpg
END:VEVENT
BEGIN:VEVENT
DTSTART;TZID=Europe/Brussels:20270122T200000
DTEND;TZID=Europe/Brussels:20270122T233000
DTSTAMP:20260420T002529
CREATED:20240220T110815Z
LAST-MODIFIED:20240320T102410Z
UID:10000420-1800648000-1800660600@www.casinodespa.be
SUMMARY:Carte ou pas cap?
DESCRIPTION:Faites le plein de cadeaux ! \n\nTous les vendredi\, défiez les probabilités et tentez de terminer notre parcours de cartes pour remporter jusqu’à 160€. \nJe veux lire le règlement 
URL:https://www.casinodespa.be/evenement/carte-ou-pas-cap/2027-01-22/
LOCATION:Casino de spa
CATEGORIES:Casino
ATTACH;FMTTYPE=image/jpeg:https://www.casinodespa.be/wp-content/uploads/2024/02/FB_Event.jpg
END:VEVENT
BEGIN:VEVENT
DTSTART;TZID=Europe/Brussels:20270123T200000
DTEND;TZID=Europe/Brussels:20270123T235900
DTSTAMP:20260420T002529
CREATED:20240220T120830Z
LAST-MODIFIED:20240220T122959Z
UID:10001726-1800734400-1800748740@www.casinodespa.be
SUMMARY:Cash Game Gourmand
DESCRIPTION:Tous les samedis au Casino de Spa c’est le Cash game gourmand! \nJouez 4h minimum et recevez un repas au Grill du Casino*. \nMin 50€\nMax 500€\nBlinds 2-2 \n*voir conditions au Grill du Casino \n\nRéservation souhaitée au +32 497 19 89 65.
URL:https://www.casinodespa.be/evenement/cash-game-gourmand/2027-01-23/
LOCATION:Casino de spa
CATEGORIES:Casino,Poker
ATTACH;FMTTYPE=image/jpeg:https://www.casinodespa.be/wp-content/uploads/2024/02/FB_Event-2.jpg
END:VEVENT
END:VCALENDAR