BEGIN:VCALENDAR
VERSION:2.0
PRODID:-//Casino de Spa - ECPv6.15.17.1//NONSGML v1.0//EN
CALSCALE:GREGORIAN
METHOD:PUBLISH
X-WR-CALNAME:Casino de Spa
X-ORIGINAL-URL:https://www.casinodespa.be
X-WR-CALDESC:Évènements pour Casino de Spa
REFRESH-INTERVAL;VALUE=DURATION:PT1H
X-Robots-Tag:noindex
X-PUBLISHED-TTL:PT1H
BEGIN:VTIMEZONE
TZID:Europe/Brussels
BEGIN:DAYLIGHT
TZOFFSETFROM:+0100
TZOFFSETTO:+0200
TZNAME:CEST
DTSTART:20260329T010000
END:DAYLIGHT
BEGIN:STANDARD
TZOFFSETFROM:+0200
TZOFFSETTO:+0100
TZNAME:CET
DTSTART:20261025T010000
END:STANDARD
BEGIN:DAYLIGHT
TZOFFSETFROM:+0100
TZOFFSETTO:+0200
TZNAME:CEST
DTSTART:20270328T010000
END:DAYLIGHT
BEGIN:STANDARD
TZOFFSETFROM:+0200
TZOFFSETTO:+0100
TZNAME:CET
DTSTART:20271031T010000
END:STANDARD
BEGIN:DAYLIGHT
TZOFFSETFROM:+0100
TZOFFSETTO:+0200
TZNAME:CEST
DTSTART:20280326T010000
END:DAYLIGHT
BEGIN:STANDARD
TZOFFSETFROM:+0200
TZOFFSETTO:+0100
TZNAME:CET
DTSTART:20281029T010000
END:STANDARD
END:VTIMEZONE
BEGIN:VEVENT
DTSTART;VALUE=DATE:20270401
DTEND;VALUE=DATE:20270402
DTSTAMP:20260420T055341
CREATED:20240220T120724Z
LAST-MODIFIED:20240320T102557Z
UID:10001475-1806537600-1806623999@www.casinodespa.be
SUMMARY:Happy Thursday
DESCRIPTION:Jouez avec votre S carte sur nos machines à sous et doublez automatiquement vos S points toute la journée ! \nC’est tous les jeudis au Casino de Spa !
URL:https://www.casinodespa.be/evenement/happy-thursday/2027-04-01/
LOCATION:Casino de spa
CATEGORIES:Casino
ATTACH;FMTTYPE=image/jpeg:https://www.casinodespa.be/wp-content/uploads/2024/02/FB_Event-1.jpg
END:VEVENT
BEGIN:VEVENT
DTSTART;TZID=Europe/Brussels:20270402T180000
DTEND;TZID=Europe/Brussels:20270402T180000
DTSTAMP:20260420T055341
CREATED:20251219T203319Z
LAST-MODIFIED:20251219T203447Z
UID:10003353-1806688800-1806688800@www.casinodespa.be
SUMMARY:Circus Poker self-deal
DESCRIPTION:Vendredi | Circus Poker self-deal\nPréparez votre meilleur poker face : le vendredi\, c’est votre as dans la manche ! \nRendez-vous tous les vendredis au Casino de Spa pour nos tournois de self-deal \nBuy-in : 30.00€ \nStacks : 40k \nBlind : 20 min \nBonne ambiance\, gros coups et fous rires garantis. On mélange\, on distribue\, et c’est parti pour une partie où chaque coup peut tout changer. Préparez vos meilleurs bluffs et venez mettre votre poker face à l’épreuve. Le vendredi soir\, c’est votre main gagnante ! \n 
URL:https://www.casinodespa.be/evenement/circus-poker-self-deal-2/2027-04-02/
LOCATION:Casino de spa
ATTACH;FMTTYPE=image/jpeg:https://www.casinodespa.be/wp-content/uploads/2025/01/FB_Events.jpg
END:VEVENT
BEGIN:VEVENT
DTSTART;TZID=Europe/Brussels:20270402T200000
DTEND;TZID=Europe/Brussels:20270402T233000
DTSTAMP:20260420T055341
CREATED:20240220T110815Z
LAST-MODIFIED:20240320T102410Z
UID:10000430-1806696000-1806708600@www.casinodespa.be
SUMMARY:Carte ou pas cap?
DESCRIPTION:Faites le plein de cadeaux ! \n\nTous les vendredi\, défiez les probabilités et tentez de terminer notre parcours de cartes pour remporter jusqu’à 160€. \nJe veux lire le règlement 
URL:https://www.casinodespa.be/evenement/carte-ou-pas-cap/2027-04-02/
LOCATION:Casino de spa
CATEGORIES:Casino
ATTACH;FMTTYPE=image/jpeg:https://www.casinodespa.be/wp-content/uploads/2024/02/FB_Event.jpg
END:VEVENT
BEGIN:VEVENT
DTSTART;TZID=Europe/Brussels:20270403T200000
DTEND;TZID=Europe/Brussels:20270403T235900
DTSTAMP:20260420T055341
CREATED:20240220T120830Z
LAST-MODIFIED:20240220T122959Z
UID:10001736-1806782400-1806796740@www.casinodespa.be
SUMMARY:Cash Game Gourmand
DESCRIPTION:Tous les samedis au Casino de Spa c’est le Cash game gourmand! \nJouez 4h minimum et recevez un repas au Grill du Casino*. \nMin 50€\nMax 500€\nBlinds 2-2 \n*voir conditions au Grill du Casino \n\nRéservation souhaitée au +32 497 19 89 65.
URL:https://www.casinodespa.be/evenement/cash-game-gourmand/2027-04-03/
LOCATION:Casino de spa
CATEGORIES:Casino,Poker
ATTACH;FMTTYPE=image/jpeg:https://www.casinodespa.be/wp-content/uploads/2024/02/FB_Event-2.jpg
END:VEVENT
BEGIN:VEVENT
DTSTART;TZID=Europe/Brussels:20270404T150000
DTEND;TZID=Europe/Brussels:20270404T230000
DTSTAMP:20260420T055341
CREATED:20240220T120955Z
LAST-MODIFIED:20240320T102749Z
UID:10001997-1806850800-1806879600@www.casinodespa.be
SUMMARY:Double Sunday
DESCRIPTION:Tous les dimanches\, le Casino de Spa vous gâte ! \n15h-17h: Passage de tartes dans les salons de jeu du Casino* \n18h-23h: Jouez 20€ et obtenez 2.000 S points supplémentaires. \nDans la limite des stocks disponibles. \nJe veux lire le règlement 
URL:https://www.casinodespa.be/evenement/double-sunday/2027-04-04/
LOCATION:Casino de spa
CATEGORIES:Casino
ATTACH;FMTTYPE=image/jpeg:https://www.casinodespa.be/wp-content/uploads/2024/02/777.off_20230701_CDS_Double-Sunday_FB_Event.jpg
END:VEVENT
BEGIN:VEVENT
DTSTART;TZID=Europe/Brussels:20270405T180000
DTEND;TZID=Europe/Brussels:20270405T180000
DTSTAMP:20260420T055341
CREATED:20240220T111415Z
LAST-MODIFIED:20250113T113612Z
UID:10000691-1806948000-1806948000@www.casinodespa.be
SUMMARY:Menu duo du lundi
DESCRIPTION:Chaque lundi au Casino de Spa à partir de 18h\, venez profiter de notre formule duo. \n1 plat au choix parmi 5 choix + dessert + 10€ de crédit de jeu pour 25€ seulement. \nChoix de plats : \n\n\nBurger Casino\nFish and chips\nFilet d’aloyau – sauce béarnaise\nCivet de marcassin avec croquettes\nPennes au poulet curry\n\nLaissez vous tenter ! 
URL:https://www.casinodespa.be/evenement/menu-duo-du-lundi/2027-04-05/
LOCATION:Le Grill
CATEGORIES:Casino,Restaurant
ATTACH;FMTTYPE=image/jpeg:https://www.casinodespa.be/wp-content/uploads/2024/02/777.off_CDS_Menu-Duo_Event.jpg
END:VEVENT
BEGIN:VEVENT
DTSTART;TZID=Europe/Brussels:20270406T190000
DTEND;TZID=Europe/Brussels:20270406T233000
DTSTAMP:20260420T055341
CREATED:20251219T203553Z
LAST-MODIFIED:20251219T203644Z
UID:10003611-1807038000-1807054200@www.casinodespa.be
SUMMARY:Poker Family
DESCRIPTION:Tous les mardis au Casino de Spa\, dès 19h00\, participez à notre tournoi self-deal organisé par le tout nouveau club de la région\, Poker Family.  Profitez du confort Casino tout en profitant d’un tournoi convivial et familial. \n*Buy-in : 40\,00€ \nStacks : 40.000 \nEarly bird : 5.000 \nRe-entry : 6 lvl \nBlind : 20 min \nRestez connectés et participez à nos différents rankings. De nombreux lots mis en jeu tout au long de l’année. \n*Sous réserve de changement \n  \nInscrivez-vous ici !
URL:https://www.casinodespa.be/evenement/poker-family-2-2/2027-04-06/
LOCATION:Casino de spa
CATEGORIES:Poker
ATTACH;FMTTYPE=image/jpeg:https://www.casinodespa.be/wp-content/uploads/2024/03/777.off_20230601_CDS_Visuel-Poker-Family-_FB_Events.jpg
END:VEVENT
BEGIN:VEVENT
DTSTART;TZID=Europe/Brussels:20270406T200000
DTEND;TZID=Europe/Brussels:20270406T235900
DTSTAMP:20260420T055341
CREATED:20240220T120254Z
LAST-MODIFIED:20240320T123547Z
UID:10000953-1807041600-1807055940@www.casinodespa.be
SUMMARY:Bingo 2.0
DESCRIPTION:525€ de cadeaux à gagner en jouant à notre Bingo 100% gratuit tous les mardis dès 20h! \n\nParticipez chaque mardi à nos 3 parties gratuites de Bingo et tentez de compléter vos grilles. \nCette année\, votre statut sera mis à l’honneur. Profitez de multiplicateurs de statuts pour nos deux dernières parties. \nFerez-vous partie de nos chanceux gagnants? \nRendez-vous tous les mardis à partir de 20h pour le savoir. \n\n 
URL:https://www.casinodespa.be/evenement/bingo-2-0/2027-04-06/
LOCATION:Casino de spa
CATEGORIES:Casino
ATTACH;FMTTYPE=image/jpeg:https://www.casinodespa.be/wp-content/uploads/2024/02/777.off_20231231_CDS_bingo-mardi-2.0_FB_Event.jpg
END:VEVENT
BEGIN:VEVENT
DTSTART;TZID=Europe/Brussels:20270407T200000
DTEND;TZID=Europe/Brussels:20270407T235900
DTSTAMP:20260420T055341
CREATED:20240220T120510Z
LAST-MODIFIED:20240320T102134Z
UID:10001215-1807128000-1807142340@www.casinodespa.be
SUMMARY:Ping-pong challenge
DESCRIPTION:Ping-pong challenge | Casino de Spa\nTous les mercredis à partir de 20h\, venez jouer au ping pong challenge! \nRécupérez votre ticket à la borne et venez le placer dans l’urne pour tenter de participer au lancé de roue. \n\nLancez la roue\nRécupérez un max de balles dans la souffleuse à balles\nGagnez un max de cadeaux
URL:https://www.casinodespa.be/evenement/ping-pong-challenge/2027-04-07/
LOCATION:Casino de spa
CATEGORIES:Casino
ATTACH;FMTTYPE=image/jpeg:https://www.casinodespa.be/wp-content/uploads/2024/02/Event.jpg
END:VEVENT
BEGIN:VEVENT
DTSTART;VALUE=DATE:20270408
DTEND;VALUE=DATE:20270409
DTSTAMP:20260420T055341
CREATED:20240220T120724Z
LAST-MODIFIED:20240320T102557Z
UID:10001476-1807142400-1807228799@www.casinodespa.be
SUMMARY:Happy Thursday
DESCRIPTION:Jouez avec votre S carte sur nos machines à sous et doublez automatiquement vos S points toute la journée ! \nC’est tous les jeudis au Casino de Spa !
URL:https://www.casinodespa.be/evenement/happy-thursday/2027-04-08/
LOCATION:Casino de spa
CATEGORIES:Casino
ATTACH;FMTTYPE=image/jpeg:https://www.casinodespa.be/wp-content/uploads/2024/02/FB_Event-1.jpg
END:VEVENT
BEGIN:VEVENT
DTSTART;TZID=Europe/Brussels:20270409T180000
DTEND;TZID=Europe/Brussels:20270409T180000
DTSTAMP:20260420T055341
CREATED:20251219T203319Z
LAST-MODIFIED:20251219T203447Z
UID:10003354-1807293600-1807293600@www.casinodespa.be
SUMMARY:Circus Poker self-deal
DESCRIPTION:Vendredi | Circus Poker self-deal\nPréparez votre meilleur poker face : le vendredi\, c’est votre as dans la manche ! \nRendez-vous tous les vendredis au Casino de Spa pour nos tournois de self-deal \nBuy-in : 30.00€ \nStacks : 40k \nBlind : 20 min \nBonne ambiance\, gros coups et fous rires garantis. On mélange\, on distribue\, et c’est parti pour une partie où chaque coup peut tout changer. Préparez vos meilleurs bluffs et venez mettre votre poker face à l’épreuve. Le vendredi soir\, c’est votre main gagnante ! \n 
URL:https://www.casinodespa.be/evenement/circus-poker-self-deal-2/2027-04-09/
LOCATION:Casino de spa
ATTACH;FMTTYPE=image/jpeg:https://www.casinodespa.be/wp-content/uploads/2025/01/FB_Events.jpg
END:VEVENT
BEGIN:VEVENT
DTSTART;TZID=Europe/Brussels:20270409T200000
DTEND;TZID=Europe/Brussels:20270409T233000
DTSTAMP:20260420T055342
CREATED:20240220T110815Z
LAST-MODIFIED:20240320T102410Z
UID:10000431-1807300800-1807313400@www.casinodespa.be
SUMMARY:Carte ou pas cap?
DESCRIPTION:Faites le plein de cadeaux ! \n\nTous les vendredi\, défiez les probabilités et tentez de terminer notre parcours de cartes pour remporter jusqu’à 160€. \nJe veux lire le règlement 
URL:https://www.casinodespa.be/evenement/carte-ou-pas-cap/2027-04-09/
LOCATION:Casino de spa
CATEGORIES:Casino
ATTACH;FMTTYPE=image/jpeg:https://www.casinodespa.be/wp-content/uploads/2024/02/FB_Event.jpg
END:VEVENT
BEGIN:VEVENT
DTSTART;TZID=Europe/Brussels:20270410T200000
DTEND;TZID=Europe/Brussels:20270410T235900
DTSTAMP:20260420T055342
CREATED:20240220T120830Z
LAST-MODIFIED:20240220T122959Z
UID:10001737-1807387200-1807401540@www.casinodespa.be
SUMMARY:Cash Game Gourmand
DESCRIPTION:Tous les samedis au Casino de Spa c’est le Cash game gourmand! \nJouez 4h minimum et recevez un repas au Grill du Casino*. \nMin 50€\nMax 500€\nBlinds 2-2 \n*voir conditions au Grill du Casino \n\nRéservation souhaitée au +32 497 19 89 65.
URL:https://www.casinodespa.be/evenement/cash-game-gourmand/2027-04-10/
LOCATION:Casino de spa
CATEGORIES:Casino,Poker
ATTACH;FMTTYPE=image/jpeg:https://www.casinodespa.be/wp-content/uploads/2024/02/FB_Event-2.jpg
END:VEVENT
BEGIN:VEVENT
DTSTART;TZID=Europe/Brussels:20270411T150000
DTEND;TZID=Europe/Brussels:20270411T230000
DTSTAMP:20260420T055342
CREATED:20240220T120955Z
LAST-MODIFIED:20240320T102749Z
UID:10001998-1807455600-1807484400@www.casinodespa.be
SUMMARY:Double Sunday
DESCRIPTION:Tous les dimanches\, le Casino de Spa vous gâte ! \n15h-17h: Passage de tartes dans les salons de jeu du Casino* \n18h-23h: Jouez 20€ et obtenez 2.000 S points supplémentaires. \nDans la limite des stocks disponibles. \nJe veux lire le règlement 
URL:https://www.casinodespa.be/evenement/double-sunday/2027-04-11/
LOCATION:Casino de spa
CATEGORIES:Casino
ATTACH;FMTTYPE=image/jpeg:https://www.casinodespa.be/wp-content/uploads/2024/02/777.off_20230701_CDS_Double-Sunday_FB_Event.jpg
END:VEVENT
BEGIN:VEVENT
DTSTART;TZID=Europe/Brussels:20270412T180000
DTEND;TZID=Europe/Brussels:20270412T180000
DTSTAMP:20260420T055342
CREATED:20240220T111415Z
LAST-MODIFIED:20250113T113612Z
UID:10000692-1807552800-1807552800@www.casinodespa.be
SUMMARY:Menu duo du lundi
DESCRIPTION:Chaque lundi au Casino de Spa à partir de 18h\, venez profiter de notre formule duo. \n1 plat au choix parmi 5 choix + dessert + 10€ de crédit de jeu pour 25€ seulement. \nChoix de plats : \n\n\nBurger Casino\nFish and chips\nFilet d’aloyau – sauce béarnaise\nCivet de marcassin avec croquettes\nPennes au poulet curry\n\nLaissez vous tenter ! 
URL:https://www.casinodespa.be/evenement/menu-duo-du-lundi/2027-04-12/
LOCATION:Le Grill
CATEGORIES:Casino,Restaurant
ATTACH;FMTTYPE=image/jpeg:https://www.casinodespa.be/wp-content/uploads/2024/02/777.off_CDS_Menu-Duo_Event.jpg
END:VEVENT
BEGIN:VEVENT
DTSTART;TZID=Europe/Brussels:20270413T190000
DTEND;TZID=Europe/Brussels:20270413T233000
DTSTAMP:20260420T055342
CREATED:20251219T203553Z
LAST-MODIFIED:20251219T203644Z
UID:10003612-1807642800-1807659000@www.casinodespa.be
SUMMARY:Poker Family
DESCRIPTION:Tous les mardis au Casino de Spa\, dès 19h00\, participez à notre tournoi self-deal organisé par le tout nouveau club de la région\, Poker Family.  Profitez du confort Casino tout en profitant d’un tournoi convivial et familial. \n*Buy-in : 40\,00€ \nStacks : 40.000 \nEarly bird : 5.000 \nRe-entry : 6 lvl \nBlind : 20 min \nRestez connectés et participez à nos différents rankings. De nombreux lots mis en jeu tout au long de l’année. \n*Sous réserve de changement \n  \nInscrivez-vous ici !
URL:https://www.casinodespa.be/evenement/poker-family-2-2/2027-04-13/
LOCATION:Casino de spa
CATEGORIES:Poker
ATTACH;FMTTYPE=image/jpeg:https://www.casinodespa.be/wp-content/uploads/2024/03/777.off_20230601_CDS_Visuel-Poker-Family-_FB_Events.jpg
END:VEVENT
BEGIN:VEVENT
DTSTART;TZID=Europe/Brussels:20270413T200000
DTEND;TZID=Europe/Brussels:20270413T235900
DTSTAMP:20260420T055342
CREATED:20240220T120254Z
LAST-MODIFIED:20240320T123547Z
UID:10000954-1807646400-1807660740@www.casinodespa.be
SUMMARY:Bingo 2.0
DESCRIPTION:525€ de cadeaux à gagner en jouant à notre Bingo 100% gratuit tous les mardis dès 20h! \n\nParticipez chaque mardi à nos 3 parties gratuites de Bingo et tentez de compléter vos grilles. \nCette année\, votre statut sera mis à l’honneur. Profitez de multiplicateurs de statuts pour nos deux dernières parties. \nFerez-vous partie de nos chanceux gagnants? \nRendez-vous tous les mardis à partir de 20h pour le savoir. \n\n 
URL:https://www.casinodespa.be/evenement/bingo-2-0/2027-04-13/
LOCATION:Casino de spa
CATEGORIES:Casino
ATTACH;FMTTYPE=image/jpeg:https://www.casinodespa.be/wp-content/uploads/2024/02/777.off_20231231_CDS_bingo-mardi-2.0_FB_Event.jpg
END:VEVENT
BEGIN:VEVENT
DTSTART;TZID=Europe/Brussels:20270414T200000
DTEND;TZID=Europe/Brussels:20270414T235900
DTSTAMP:20260420T055342
CREATED:20240220T120510Z
LAST-MODIFIED:20240320T102134Z
UID:10001216-1807732800-1807747140@www.casinodespa.be
SUMMARY:Ping-pong challenge
DESCRIPTION:Ping-pong challenge | Casino de Spa\nTous les mercredis à partir de 20h\, venez jouer au ping pong challenge! \nRécupérez votre ticket à la borne et venez le placer dans l’urne pour tenter de participer au lancé de roue. \n\nLancez la roue\nRécupérez un max de balles dans la souffleuse à balles\nGagnez un max de cadeaux
URL:https://www.casinodespa.be/evenement/ping-pong-challenge/2027-04-14/
LOCATION:Casino de spa
CATEGORIES:Casino
ATTACH;FMTTYPE=image/jpeg:https://www.casinodespa.be/wp-content/uploads/2024/02/Event.jpg
END:VEVENT
BEGIN:VEVENT
DTSTART;VALUE=DATE:20270415
DTEND;VALUE=DATE:20270416
DTSTAMP:20260420T055342
CREATED:20240220T120724Z
LAST-MODIFIED:20240320T102557Z
UID:10001477-1807747200-1807833599@www.casinodespa.be
SUMMARY:Happy Thursday
DESCRIPTION:Jouez avec votre S carte sur nos machines à sous et doublez automatiquement vos S points toute la journée ! \nC’est tous les jeudis au Casino de Spa !
URL:https://www.casinodespa.be/evenement/happy-thursday/2027-04-15/
LOCATION:Casino de spa
CATEGORIES:Casino
ATTACH;FMTTYPE=image/jpeg:https://www.casinodespa.be/wp-content/uploads/2024/02/FB_Event-1.jpg
END:VEVENT
BEGIN:VEVENT
DTSTART;TZID=Europe/Brussels:20270416T180000
DTEND;TZID=Europe/Brussels:20270416T180000
DTSTAMP:20260420T055342
CREATED:20251219T203319Z
LAST-MODIFIED:20251219T203447Z
UID:10003355-1807898400-1807898400@www.casinodespa.be
SUMMARY:Circus Poker self-deal
DESCRIPTION:Vendredi | Circus Poker self-deal\nPréparez votre meilleur poker face : le vendredi\, c’est votre as dans la manche ! \nRendez-vous tous les vendredis au Casino de Spa pour nos tournois de self-deal \nBuy-in : 30.00€ \nStacks : 40k \nBlind : 20 min \nBonne ambiance\, gros coups et fous rires garantis. On mélange\, on distribue\, et c’est parti pour une partie où chaque coup peut tout changer. Préparez vos meilleurs bluffs et venez mettre votre poker face à l’épreuve. Le vendredi soir\, c’est votre main gagnante ! \n 
URL:https://www.casinodespa.be/evenement/circus-poker-self-deal-2/2027-04-16/
LOCATION:Casino de spa
ATTACH;FMTTYPE=image/jpeg:https://www.casinodespa.be/wp-content/uploads/2025/01/FB_Events.jpg
END:VEVENT
BEGIN:VEVENT
DTSTART;TZID=Europe/Brussels:20270416T200000
DTEND;TZID=Europe/Brussels:20270416T233000
DTSTAMP:20260420T055342
CREATED:20240220T110815Z
LAST-MODIFIED:20240320T102410Z
UID:10000432-1807905600-1807918200@www.casinodespa.be
SUMMARY:Carte ou pas cap?
DESCRIPTION:Faites le plein de cadeaux ! \n\nTous les vendredi\, défiez les probabilités et tentez de terminer notre parcours de cartes pour remporter jusqu’à 160€. \nJe veux lire le règlement 
URL:https://www.casinodespa.be/evenement/carte-ou-pas-cap/2027-04-16/
LOCATION:Casino de spa
CATEGORIES:Casino
ATTACH;FMTTYPE=image/jpeg:https://www.casinodespa.be/wp-content/uploads/2024/02/FB_Event.jpg
END:VEVENT
BEGIN:VEVENT
DTSTART;TZID=Europe/Brussels:20270417T200000
DTEND;TZID=Europe/Brussels:20270417T235900
DTSTAMP:20260420T055342
CREATED:20240220T120830Z
LAST-MODIFIED:20240220T122959Z
UID:10001738-1807992000-1808006340@www.casinodespa.be
SUMMARY:Cash Game Gourmand
DESCRIPTION:Tous les samedis au Casino de Spa c’est le Cash game gourmand! \nJouez 4h minimum et recevez un repas au Grill du Casino*. \nMin 50€\nMax 500€\nBlinds 2-2 \n*voir conditions au Grill du Casino \n\nRéservation souhaitée au +32 497 19 89 65.
URL:https://www.casinodespa.be/evenement/cash-game-gourmand/2027-04-17/
LOCATION:Casino de spa
CATEGORIES:Casino,Poker
ATTACH;FMTTYPE=image/jpeg:https://www.casinodespa.be/wp-content/uploads/2024/02/FB_Event-2.jpg
END:VEVENT
BEGIN:VEVENT
DTSTART;TZID=Europe/Brussels:20270418T150000
DTEND;TZID=Europe/Brussels:20270418T230000
DTSTAMP:20260420T055342
CREATED:20240220T120955Z
LAST-MODIFIED:20240320T102749Z
UID:10001999-1808060400-1808089200@www.casinodespa.be
SUMMARY:Double Sunday
DESCRIPTION:Tous les dimanches\, le Casino de Spa vous gâte ! \n15h-17h: Passage de tartes dans les salons de jeu du Casino* \n18h-23h: Jouez 20€ et obtenez 2.000 S points supplémentaires. \nDans la limite des stocks disponibles. \nJe veux lire le règlement 
URL:https://www.casinodespa.be/evenement/double-sunday/2027-04-18/
LOCATION:Casino de spa
CATEGORIES:Casino
ATTACH;FMTTYPE=image/jpeg:https://www.casinodespa.be/wp-content/uploads/2024/02/777.off_20230701_CDS_Double-Sunday_FB_Event.jpg
END:VEVENT
BEGIN:VEVENT
DTSTART;TZID=Europe/Brussels:20270419T180000
DTEND;TZID=Europe/Brussels:20270419T180000
DTSTAMP:20260420T055342
CREATED:20240220T111415Z
LAST-MODIFIED:20250113T113612Z
UID:10000693-1808157600-1808157600@www.casinodespa.be
SUMMARY:Menu duo du lundi
DESCRIPTION:Chaque lundi au Casino de Spa à partir de 18h\, venez profiter de notre formule duo. \n1 plat au choix parmi 5 choix + dessert + 10€ de crédit de jeu pour 25€ seulement. \nChoix de plats : \n\n\nBurger Casino\nFish and chips\nFilet d’aloyau – sauce béarnaise\nCivet de marcassin avec croquettes\nPennes au poulet curry\n\nLaissez vous tenter ! 
URL:https://www.casinodespa.be/evenement/menu-duo-du-lundi/2027-04-19/
LOCATION:Le Grill
CATEGORIES:Casino,Restaurant
ATTACH;FMTTYPE=image/jpeg:https://www.casinodespa.be/wp-content/uploads/2024/02/777.off_CDS_Menu-Duo_Event.jpg
END:VEVENT
BEGIN:VEVENT
DTSTART;TZID=Europe/Brussels:20270420T190000
DTEND;TZID=Europe/Brussels:20270420T233000
DTSTAMP:20260420T055342
CREATED:20251219T203553Z
LAST-MODIFIED:20251219T203644Z
UID:10003613-1808247600-1808263800@www.casinodespa.be
SUMMARY:Poker Family
DESCRIPTION:Tous les mardis au Casino de Spa\, dès 19h00\, participez à notre tournoi self-deal organisé par le tout nouveau club de la région\, Poker Family.  Profitez du confort Casino tout en profitant d’un tournoi convivial et familial. \n*Buy-in : 40\,00€ \nStacks : 40.000 \nEarly bird : 5.000 \nRe-entry : 6 lvl \nBlind : 20 min \nRestez connectés et participez à nos différents rankings. De nombreux lots mis en jeu tout au long de l’année. \n*Sous réserve de changement \n  \nInscrivez-vous ici !
URL:https://www.casinodespa.be/evenement/poker-family-2-2/2027-04-20/
LOCATION:Casino de spa
CATEGORIES:Poker
ATTACH;FMTTYPE=image/jpeg:https://www.casinodespa.be/wp-content/uploads/2024/03/777.off_20230601_CDS_Visuel-Poker-Family-_FB_Events.jpg
END:VEVENT
BEGIN:VEVENT
DTSTART;TZID=Europe/Brussels:20270420T200000
DTEND;TZID=Europe/Brussels:20270420T235900
DTSTAMP:20260420T055342
CREATED:20240220T120254Z
LAST-MODIFIED:20240320T123547Z
UID:10000955-1808251200-1808265540@www.casinodespa.be
SUMMARY:Bingo 2.0
DESCRIPTION:525€ de cadeaux à gagner en jouant à notre Bingo 100% gratuit tous les mardis dès 20h! \n\nParticipez chaque mardi à nos 3 parties gratuites de Bingo et tentez de compléter vos grilles. \nCette année\, votre statut sera mis à l’honneur. Profitez de multiplicateurs de statuts pour nos deux dernières parties. \nFerez-vous partie de nos chanceux gagnants? \nRendez-vous tous les mardis à partir de 20h pour le savoir. \n\n 
URL:https://www.casinodespa.be/evenement/bingo-2-0/2027-04-20/
LOCATION:Casino de spa
CATEGORIES:Casino
ATTACH;FMTTYPE=image/jpeg:https://www.casinodespa.be/wp-content/uploads/2024/02/777.off_20231231_CDS_bingo-mardi-2.0_FB_Event.jpg
END:VEVENT
BEGIN:VEVENT
DTSTART;TZID=Europe/Brussels:20270421T200000
DTEND;TZID=Europe/Brussels:20270421T235900
DTSTAMP:20260420T055342
CREATED:20240220T120510Z
LAST-MODIFIED:20240320T102134Z
UID:10001217-1808337600-1808351940@www.casinodespa.be
SUMMARY:Ping-pong challenge
DESCRIPTION:Ping-pong challenge | Casino de Spa\nTous les mercredis à partir de 20h\, venez jouer au ping pong challenge! \nRécupérez votre ticket à la borne et venez le placer dans l’urne pour tenter de participer au lancé de roue. \n\nLancez la roue\nRécupérez un max de balles dans la souffleuse à balles\nGagnez un max de cadeaux
URL:https://www.casinodespa.be/evenement/ping-pong-challenge/2027-04-21/
LOCATION:Casino de spa
CATEGORIES:Casino
ATTACH;FMTTYPE=image/jpeg:https://www.casinodespa.be/wp-content/uploads/2024/02/Event.jpg
END:VEVENT
BEGIN:VEVENT
DTSTART;VALUE=DATE:20270422
DTEND;VALUE=DATE:20270423
DTSTAMP:20260420T055342
CREATED:20240220T120724Z
LAST-MODIFIED:20240320T102557Z
UID:10001478-1808352000-1808438399@www.casinodespa.be
SUMMARY:Happy Thursday
DESCRIPTION:Jouez avec votre S carte sur nos machines à sous et doublez automatiquement vos S points toute la journée ! \nC’est tous les jeudis au Casino de Spa !
URL:https://www.casinodespa.be/evenement/happy-thursday/2027-04-22/
LOCATION:Casino de spa
CATEGORIES:Casino
ATTACH;FMTTYPE=image/jpeg:https://www.casinodespa.be/wp-content/uploads/2024/02/FB_Event-1.jpg
END:VEVENT
BEGIN:VEVENT
DTSTART;TZID=Europe/Brussels:20270423T180000
DTEND;TZID=Europe/Brussels:20270423T180000
DTSTAMP:20260420T055342
CREATED:20251219T203319Z
LAST-MODIFIED:20251219T203447Z
UID:10003356-1808503200-1808503200@www.casinodespa.be
SUMMARY:Circus Poker self-deal
DESCRIPTION:Vendredi | Circus Poker self-deal\nPréparez votre meilleur poker face : le vendredi\, c’est votre as dans la manche ! \nRendez-vous tous les vendredis au Casino de Spa pour nos tournois de self-deal \nBuy-in : 30.00€ \nStacks : 40k \nBlind : 20 min \nBonne ambiance\, gros coups et fous rires garantis. On mélange\, on distribue\, et c’est parti pour une partie où chaque coup peut tout changer. Préparez vos meilleurs bluffs et venez mettre votre poker face à l’épreuve. Le vendredi soir\, c’est votre main gagnante ! \n 
URL:https://www.casinodespa.be/evenement/circus-poker-self-deal-2/2027-04-23/
LOCATION:Casino de spa
ATTACH;FMTTYPE=image/jpeg:https://www.casinodespa.be/wp-content/uploads/2025/01/FB_Events.jpg
END:VEVENT
BEGIN:VEVENT
DTSTART;TZID=Europe/Brussels:20270423T200000
DTEND;TZID=Europe/Brussels:20270423T233000
DTSTAMP:20260420T055342
CREATED:20240220T110815Z
LAST-MODIFIED:20240320T102410Z
UID:10000433-1808510400-1808523000@www.casinodespa.be
SUMMARY:Carte ou pas cap?
DESCRIPTION:Faites le plein de cadeaux ! \n\nTous les vendredi\, défiez les probabilités et tentez de terminer notre parcours de cartes pour remporter jusqu’à 160€. \nJe veux lire le règlement 
URL:https://www.casinodespa.be/evenement/carte-ou-pas-cap/2027-04-23/
LOCATION:Casino de spa
CATEGORIES:Casino
ATTACH;FMTTYPE=image/jpeg:https://www.casinodespa.be/wp-content/uploads/2024/02/FB_Event.jpg
END:VEVENT
END:VCALENDAR