BEGIN:VCALENDAR
VERSION:2.0
PRODID:-//Casino de Spa - ECPv6.15.17.1//NONSGML v1.0//EN
CALSCALE:GREGORIAN
METHOD:PUBLISH
X-ORIGINAL-URL:https://www.casinodespa.be
X-WR-CALDESC:Évènements pour Casino de Spa
REFRESH-INTERVAL;VALUE=DURATION:PT1H
X-Robots-Tag:noindex
X-PUBLISHED-TTL:PT1H
BEGIN:VTIMEZONE
TZID:Europe/Brussels
BEGIN:DAYLIGHT
TZOFFSETFROM:+0100
TZOFFSETTO:+0200
TZNAME:CEST
DTSTART:20280326T010000
END:DAYLIGHT
BEGIN:STANDARD
TZOFFSETFROM:+0200
TZOFFSETTO:+0100
TZNAME:CET
DTSTART:20281029T010000
END:STANDARD
BEGIN:DAYLIGHT
TZOFFSETFROM:+0100
TZOFFSETTO:+0200
TZNAME:CEST
DTSTART:20290325T010000
END:DAYLIGHT
BEGIN:STANDARD
TZOFFSETFROM:+0200
TZOFFSETTO:+0100
TZNAME:CET
DTSTART:20291028T010000
END:STANDARD
BEGIN:DAYLIGHT
TZOFFSETFROM:+0100
TZOFFSETTO:+0200
TZNAME:CEST
DTSTART:20300331T010000
END:DAYLIGHT
BEGIN:STANDARD
TZOFFSETFROM:+0200
TZOFFSETTO:+0100
TZNAME:CET
DTSTART:20301027T010000
END:STANDARD
END:VTIMEZONE
BEGIN:VEVENT
DTSTART;TZID=Europe/Brussels:20290903T180000
DTEND;TZID=Europe/Brussels:20290903T180000
DTSTAMP:20260426T045242
CREATED:20240220T111415Z
LAST-MODIFIED:20250113T113612Z
UID:10002972-1883152800-1883152800@www.casinodespa.be
SUMMARY:Menu duo du lundi
DESCRIPTION:Chaque lundi au Casino de Spa à partir de 18h\, venez profiter de notre formule duo. \n1 plat au choix parmi 5 choix + dessert + 10€ de crédit de jeu pour 25€ seulement. \nChoix de plats : \n\n\nBurger Casino\nFish and chips\nFilet d’aloyau – sauce béarnaise\nCivet de marcassin avec croquettes\nPennes au poulet curry\n\nLaissez vous tenter ! 
URL:https://www.casinodespa.be/evenement/menu-duo-du-lundi/2029-09-03/
LOCATION:Le Grill
CATEGORIES:Casino,Restaurant
ATTACH;FMTTYPE=image/jpeg:https://www.casinodespa.be/wp-content/uploads/2024/02/777.off_CDS_Menu-Duo_Event.jpg
END:VEVENT
BEGIN:VEVENT
DTSTART;TZID=Europe/Brussels:20290904T190000
DTEND;TZID=Europe/Brussels:20290904T233000
DTSTAMP:20260426T045242
CREATED:20251219T203553Z
LAST-MODIFIED:20251219T203644Z
UID:10003737-1883242800-1883259000@www.casinodespa.be
SUMMARY:Poker Family
DESCRIPTION:Tous les mardis au Casino de Spa\, dès 19h00\, participez à notre tournoi self-deal organisé par le tout nouveau club de la région\, Poker Family.  Profitez du confort Casino tout en profitant d’un tournoi convivial et familial. \n*Buy-in : 40\,00€ \nStacks : 40.000 \nEarly bird : 5.000 \nRe-entry : 6 lvl \nBlind : 20 min \nRestez connectés et participez à nos différents rankings. De nombreux lots mis en jeu tout au long de l’année. \n*Sous réserve de changement \n  \nInscrivez-vous ici !
URL:https://www.casinodespa.be/evenement/poker-family-2-2/2029-09-04/
LOCATION:Casino de spa
CATEGORIES:Poker
ATTACH;FMTTYPE=image/jpeg:https://www.casinodespa.be/wp-content/uploads/2024/03/777.off_20230601_CDS_Visuel-Poker-Family-_FB_Events.jpg
END:VEVENT
BEGIN:VEVENT
DTSTART;TZID=Europe/Brussels:20290907T180000
DTEND;TZID=Europe/Brussels:20290907T180000
DTSTAMP:20260426T045242
CREATED:20251219T203319Z
LAST-MODIFIED:20251219T203447Z
UID:10003480-1883498400-1883498400@www.casinodespa.be
SUMMARY:Circus Poker self-deal
DESCRIPTION:Vendredi | Circus Poker self-deal\nPréparez votre meilleur poker face : le vendredi\, c’est votre as dans la manche ! \nRendez-vous tous les vendredis au Casino de Spa pour nos tournois de self-deal \nBuy-in : 30.00€ \nStacks : 40k \nBlind : 20 min \nBonne ambiance\, gros coups et fous rires garantis. On mélange\, on distribue\, et c’est parti pour une partie où chaque coup peut tout changer. Préparez vos meilleurs bluffs et venez mettre votre poker face à l’épreuve. Le vendredi soir\, c’est votre main gagnante ! \n 
URL:https://www.casinodespa.be/evenement/circus-poker-self-deal-2/2029-09-07/
LOCATION:Casino de spa
ATTACH;FMTTYPE=image/jpeg:https://www.casinodespa.be/wp-content/uploads/2025/01/FB_Events.jpg
END:VEVENT
BEGIN:VEVENT
DTSTART;TZID=Europe/Brussels:20290910T180000
DTEND;TZID=Europe/Brussels:20290910T180000
DTSTAMP:20260426T045242
CREATED:20240220T111415Z
LAST-MODIFIED:20250113T113612Z
UID:10002973-1883757600-1883757600@www.casinodespa.be
SUMMARY:Menu duo du lundi
DESCRIPTION:Chaque lundi au Casino de Spa à partir de 18h\, venez profiter de notre formule duo. \n1 plat au choix parmi 5 choix + dessert + 10€ de crédit de jeu pour 25€ seulement. \nChoix de plats : \n\n\nBurger Casino\nFish and chips\nFilet d’aloyau – sauce béarnaise\nCivet de marcassin avec croquettes\nPennes au poulet curry\n\nLaissez vous tenter ! 
URL:https://www.casinodespa.be/evenement/menu-duo-du-lundi/2029-09-10/
LOCATION:Le Grill
CATEGORIES:Casino,Restaurant
ATTACH;FMTTYPE=image/jpeg:https://www.casinodespa.be/wp-content/uploads/2024/02/777.off_CDS_Menu-Duo_Event.jpg
END:VEVENT
BEGIN:VEVENT
DTSTART;TZID=Europe/Brussels:20290911T190000
DTEND;TZID=Europe/Brussels:20290911T233000
DTSTAMP:20260426T045242
CREATED:20251219T203553Z
LAST-MODIFIED:20251219T203644Z
UID:10003738-1883847600-1883863800@www.casinodespa.be
SUMMARY:Poker Family
DESCRIPTION:Tous les mardis au Casino de Spa\, dès 19h00\, participez à notre tournoi self-deal organisé par le tout nouveau club de la région\, Poker Family.  Profitez du confort Casino tout en profitant d’un tournoi convivial et familial. \n*Buy-in : 40\,00€ \nStacks : 40.000 \nEarly bird : 5.000 \nRe-entry : 6 lvl \nBlind : 20 min \nRestez connectés et participez à nos différents rankings. De nombreux lots mis en jeu tout au long de l’année. \n*Sous réserve de changement \n  \nInscrivez-vous ici !
URL:https://www.casinodespa.be/evenement/poker-family-2-2/2029-09-11/
LOCATION:Casino de spa
CATEGORIES:Poker
ATTACH;FMTTYPE=image/jpeg:https://www.casinodespa.be/wp-content/uploads/2024/03/777.off_20230601_CDS_Visuel-Poker-Family-_FB_Events.jpg
END:VEVENT
BEGIN:VEVENT
DTSTART;TZID=Europe/Brussels:20290914T180000
DTEND;TZID=Europe/Brussels:20290914T180000
DTSTAMP:20260426T045242
CREATED:20251219T203319Z
LAST-MODIFIED:20251219T203447Z
UID:10003481-1884103200-1884103200@www.casinodespa.be
SUMMARY:Circus Poker self-deal
DESCRIPTION:Vendredi | Circus Poker self-deal\nPréparez votre meilleur poker face : le vendredi\, c’est votre as dans la manche ! \nRendez-vous tous les vendredis au Casino de Spa pour nos tournois de self-deal \nBuy-in : 30.00€ \nStacks : 40k \nBlind : 20 min \nBonne ambiance\, gros coups et fous rires garantis. On mélange\, on distribue\, et c’est parti pour une partie où chaque coup peut tout changer. Préparez vos meilleurs bluffs et venez mettre votre poker face à l’épreuve. Le vendredi soir\, c’est votre main gagnante ! \n 
URL:https://www.casinodespa.be/evenement/circus-poker-self-deal-2/2029-09-14/
LOCATION:Casino de spa
ATTACH;FMTTYPE=image/jpeg:https://www.casinodespa.be/wp-content/uploads/2025/01/FB_Events.jpg
END:VEVENT
BEGIN:VEVENT
DTSTART;TZID=Europe/Brussels:20290917T180000
DTEND;TZID=Europe/Brussels:20290917T180000
DTSTAMP:20260426T045242
CREATED:20240220T111415Z
LAST-MODIFIED:20250113T113612Z
UID:10002974-1884362400-1884362400@www.casinodespa.be
SUMMARY:Menu duo du lundi
DESCRIPTION:Chaque lundi au Casino de Spa à partir de 18h\, venez profiter de notre formule duo. \n1 plat au choix parmi 5 choix + dessert + 10€ de crédit de jeu pour 25€ seulement. \nChoix de plats : \n\n\nBurger Casino\nFish and chips\nFilet d’aloyau – sauce béarnaise\nCivet de marcassin avec croquettes\nPennes au poulet curry\n\nLaissez vous tenter ! 
URL:https://www.casinodespa.be/evenement/menu-duo-du-lundi/2029-09-17/
LOCATION:Le Grill
CATEGORIES:Casino,Restaurant
ATTACH;FMTTYPE=image/jpeg:https://www.casinodespa.be/wp-content/uploads/2024/02/777.off_CDS_Menu-Duo_Event.jpg
END:VEVENT
BEGIN:VEVENT
DTSTART;TZID=Europe/Brussels:20290918T190000
DTEND;TZID=Europe/Brussels:20290918T233000
DTSTAMP:20260426T045242
CREATED:20251219T203553Z
LAST-MODIFIED:20251219T203644Z
UID:10003739-1884452400-1884468600@www.casinodespa.be
SUMMARY:Poker Family
DESCRIPTION:Tous les mardis au Casino de Spa\, dès 19h00\, participez à notre tournoi self-deal organisé par le tout nouveau club de la région\, Poker Family.  Profitez du confort Casino tout en profitant d’un tournoi convivial et familial. \n*Buy-in : 40\,00€ \nStacks : 40.000 \nEarly bird : 5.000 \nRe-entry : 6 lvl \nBlind : 20 min \nRestez connectés et participez à nos différents rankings. De nombreux lots mis en jeu tout au long de l’année. \n*Sous réserve de changement \n  \nInscrivez-vous ici !
URL:https://www.casinodespa.be/evenement/poker-family-2-2/2029-09-18/
LOCATION:Casino de spa
CATEGORIES:Poker
ATTACH;FMTTYPE=image/jpeg:https://www.casinodespa.be/wp-content/uploads/2024/03/777.off_20230601_CDS_Visuel-Poker-Family-_FB_Events.jpg
END:VEVENT
BEGIN:VEVENT
DTSTART;TZID=Europe/Brussels:20290921T180000
DTEND;TZID=Europe/Brussels:20290921T180000
DTSTAMP:20260426T045242
CREATED:20251219T203319Z
LAST-MODIFIED:20251219T203447Z
UID:10003482-1884708000-1884708000@www.casinodespa.be
SUMMARY:Circus Poker self-deal
DESCRIPTION:Vendredi | Circus Poker self-deal\nPréparez votre meilleur poker face : le vendredi\, c’est votre as dans la manche ! \nRendez-vous tous les vendredis au Casino de Spa pour nos tournois de self-deal \nBuy-in : 30.00€ \nStacks : 40k \nBlind : 20 min \nBonne ambiance\, gros coups et fous rires garantis. On mélange\, on distribue\, et c’est parti pour une partie où chaque coup peut tout changer. Préparez vos meilleurs bluffs et venez mettre votre poker face à l’épreuve. Le vendredi soir\, c’est votre main gagnante ! \n 
URL:https://www.casinodespa.be/evenement/circus-poker-self-deal-2/2029-09-21/
LOCATION:Casino de spa
ATTACH;FMTTYPE=image/jpeg:https://www.casinodespa.be/wp-content/uploads/2025/01/FB_Events.jpg
END:VEVENT
BEGIN:VEVENT
DTSTART;TZID=Europe/Brussels:20290924T180000
DTEND;TZID=Europe/Brussels:20290924T180000
DTSTAMP:20260426T045242
CREATED:20240220T111415Z
LAST-MODIFIED:20250113T113612Z
UID:10002975-1884967200-1884967200@www.casinodespa.be
SUMMARY:Menu duo du lundi
DESCRIPTION:Chaque lundi au Casino de Spa à partir de 18h\, venez profiter de notre formule duo. \n1 plat au choix parmi 5 choix + dessert + 10€ de crédit de jeu pour 25€ seulement. \nChoix de plats : \n\n\nBurger Casino\nFish and chips\nFilet d’aloyau – sauce béarnaise\nCivet de marcassin avec croquettes\nPennes au poulet curry\n\nLaissez vous tenter ! 
URL:https://www.casinodespa.be/evenement/menu-duo-du-lundi/2029-09-24/
LOCATION:Le Grill
CATEGORIES:Casino,Restaurant
ATTACH;FMTTYPE=image/jpeg:https://www.casinodespa.be/wp-content/uploads/2024/02/777.off_CDS_Menu-Duo_Event.jpg
END:VEVENT
BEGIN:VEVENT
DTSTART;TZID=Europe/Brussels:20290925T190000
DTEND;TZID=Europe/Brussels:20290925T233000
DTSTAMP:20260426T045242
CREATED:20251219T203553Z
LAST-MODIFIED:20251219T203644Z
UID:10003740-1885057200-1885073400@www.casinodespa.be
SUMMARY:Poker Family
DESCRIPTION:Tous les mardis au Casino de Spa\, dès 19h00\, participez à notre tournoi self-deal organisé par le tout nouveau club de la région\, Poker Family.  Profitez du confort Casino tout en profitant d’un tournoi convivial et familial. \n*Buy-in : 40\,00€ \nStacks : 40.000 \nEarly bird : 5.000 \nRe-entry : 6 lvl \nBlind : 20 min \nRestez connectés et participez à nos différents rankings. De nombreux lots mis en jeu tout au long de l’année. \n*Sous réserve de changement \n  \nInscrivez-vous ici !
URL:https://www.casinodespa.be/evenement/poker-family-2-2/2029-09-25/
LOCATION:Casino de spa
CATEGORIES:Poker
ATTACH;FMTTYPE=image/jpeg:https://www.casinodespa.be/wp-content/uploads/2024/03/777.off_20230601_CDS_Visuel-Poker-Family-_FB_Events.jpg
END:VEVENT
BEGIN:VEVENT
DTSTART;TZID=Europe/Brussels:20290928T180000
DTEND;TZID=Europe/Brussels:20290928T180000
DTSTAMP:20260426T045242
CREATED:20251219T203319Z
LAST-MODIFIED:20251219T203447Z
UID:10003483-1885312800-1885312800@www.casinodespa.be
SUMMARY:Circus Poker self-deal
DESCRIPTION:Vendredi | Circus Poker self-deal\nPréparez votre meilleur poker face : le vendredi\, c’est votre as dans la manche ! \nRendez-vous tous les vendredis au Casino de Spa pour nos tournois de self-deal \nBuy-in : 30.00€ \nStacks : 40k \nBlind : 20 min \nBonne ambiance\, gros coups et fous rires garantis. On mélange\, on distribue\, et c’est parti pour une partie où chaque coup peut tout changer. Préparez vos meilleurs bluffs et venez mettre votre poker face à l’épreuve. Le vendredi soir\, c’est votre main gagnante ! \n 
URL:https://www.casinodespa.be/evenement/circus-poker-self-deal-2/2029-09-28/
LOCATION:Casino de spa
ATTACH;FMTTYPE=image/jpeg:https://www.casinodespa.be/wp-content/uploads/2025/01/FB_Events.jpg
END:VEVENT
END:VCALENDAR